Report for Net-Jabber-2.0

Back
From: metabase:user:9820532a-708b-1014-9a05-b18a96298da1
Subject: PASS Net-Jabber-2.0 v5.13.5 GNU/Linux
Date: 2010-09-24T09:28:40Z

This distribution has been tested as part of the CPAN Testers
project, supporting the Perl programming language.  See
http://wiki.cpantesters.org/ for more information or email
questions to cpan-testers-discuss@perl.org


--
Dear Ryan Eatmon,

This is a computer-generated report for Net-Jabber-2.0
on perl 5.13.5, created by CPAN-Reporter-1.1801.

Thank you for uploading your work to CPAN.  Congratulations!
All tests were successful.

Sections of this report:

    * Tester comments
    * Program output
    * Prerequisites
    * Environment and other context

------------------------------
TESTER COMMENTS
------------------------------

Additional comments from tester:

this report is from an automated smoke testing program
and was not reviewed by a human for accuracy

------------------------------
PROGRAM OUTPUT
------------------------------

Output from '/usr/bin/make test':

PERL_DL_NONLAZY=1 /home/test/perl/bin/perl5.13.5 "-MExtUtils::Command::MM" "-e" "test_harness(0, 'blib/lib', 'blib/arch')" t/*.t
Use of uninitialized value $args{"file"} in lc at /home/test/.cpan/build/Net-XMPP-1.02-5pL9wc/blib/lib/Net/XMPP/Debug.pm line 154.
t/1_load.t .................... ok
Use of uninitialized value $args{"file"} in lc at /home/test/.cpan/build/Net-XMPP-1.02-5pL9wc/blib/lib/Net/XMPP/Debug.pm line 154.
t/2_client.t .................. ok
Use of uninitialized value $args{"file"} in lc at /home/test/.cpan/build/Net-XMPP-1.02-5pL9wc/blib/lib/Net/XMPP/Debug.pm line 154.
t/iq.t ........................ ok
Use of uninitialized value $args{"file"} in lc at /home/test/.cpan/build/Net-XMPP-1.02-5pL9wc/blib/lib/Net/XMPP/Debug.pm line 154.
t/jid.t ....................... ok
Use of uninitialized value $args{"file"} in lc at /home/test/.cpan/build/Net-XMPP-1.02-5pL9wc/blib/lib/Net/XMPP/Debug.pm line 154.
t/message.t ................... ok
Use of uninitialized value $args{"file"} in lc at /home/test/.cpan/build/Net-XMPP-1.02-5pL9wc/blib/lib/Net/XMPP/Debug.pm line 154.
t/oldadd.t .................... ok
Use of uninitialized value $args{"file"} in lc at /home/test/.cpan/build/Net-XMPP-1.02-5pL9wc/blib/lib/Net/XMPP/Debug.pm line 154.
t/parse_x_data.t .............. ok
Use of uninitialized value $args{"file"} in lc at /home/test/.cpan/build/Net-XMPP-1.02-5pL9wc/blib/lib/Net/XMPP/Debug.pm line 154.
t/parse_x_delay.t ............. ok
Use of uninitialized value $args{"file"} in lc at /home/test/.cpan/build/Net-XMPP-1.02-5pL9wc/blib/lib/Net/XMPP/Debug.pm line 154.
t/presence.t .................. ok
Use of uninitialized value $args{"file"} in lc at /home/test/.cpan/build/Net-XMPP-1.02-5pL9wc/blib/lib/Net/XMPP/Debug.pm line 154.
t/protocol_definenamespace.t .. ok
Use of uninitialized value $args{"file"} in lc at /home/test/.cpan/build/Net-XMPP-1.02-5pL9wc/blib/lib/Net/XMPP/Debug.pm line 154.
t/protocol_muc.t .............. ok
Use of uninitialized value $args{"file"} in lc at /home/test/.cpan/build/Net-XMPP-1.02-5pL9wc/blib/lib/Net/XMPP/Debug.pm line 154.
t/protocol_rpc.t .............. ok
Use of uninitialized value $args{"file"} in lc at /home/test/.cpan/build/Net-XMPP-1.02-5pL9wc/blib/lib/Net/XMPP/Debug.pm line 154.
t/query_agent.t ............... ok
Use of uninitialized value $args{"file"} in lc at /home/test/.cpan/build/Net-XMPP-1.02-5pL9wc/blib/lib/Net/XMPP/Debug.pm line 154.
t/query_agents.t .............. ok
Use of uninitialized value $args{"file"} in lc at /home/test/.cpan/build/Net-XMPP-1.02-5pL9wc/blib/lib/Net/XMPP/Debug.pm line 154.
t/query_autoupdate.t .......... ok
Use of uninitialized value $args{"file"} in lc at /home/test/.cpan/build/Net-XMPP-1.02-5pL9wc/blib/lib/Net/XMPP/Debug.pm line 154.
t/query_browse.t .............. ok
Use of uninitialized value $args{"file"} in lc at /home/test/.cpan/build/Net-XMPP-1.02-5pL9wc/blib/lib/Net/XMPP/Debug.pm line 154.
t/query_bytestreams.t ......... ok
Use of uninitialized value $args{"file"} in lc at /home/test/.cpan/build/Net-XMPP-1.02-5pL9wc/blib/lib/Net/XMPP/Debug.pm line 154.
t/query_commands.t ............ ok
Use of uninitialized value $args{"file"} in lc at /home/test/.cpan/build/Net-XMPP-1.02-5pL9wc/blib/lib/Net/XMPP/Debug.pm line 154.
t/query_conference.t .......... ok
Use of uninitialized value $args{"file"} in lc at /home/test/.cpan/build/Net-XMPP-1.02-5pL9wc/blib/lib/Net/XMPP/Debug.pm line 154.
t/query_disco_info.t .......... ok
Use of uninitialized value $args{"file"} in lc at /home/test/.cpan/build/Net-XMPP-1.02-5pL9wc/blib/lib/Net/XMPP/Debug.pm line 154.
t/query_disco_items.t ......... ok
Use of uninitialized value $args{"file"} in lc at /home/test/.cpan/build/Net-XMPP-1.02-5pL9wc/blib/lib/Net/XMPP/Debug.pm line 154.
t/query_featureneg.t .......... ok
Use of uninitialized value $args{"file"} in lc at /home/test/.cpan/build/Net-XMPP-1.02-5pL9wc/blib/lib/Net/XMPP/Debug.pm line 154.
t/query_filter.t .............. ok
Use of uninitialized value $args{"file"} in lc at /home/test/.cpan/build/Net-XMPP-1.02-5pL9wc/blib/lib/Net/XMPP/Debug.pm line 154.
t/query_gateway.t ............. ok
Use of uninitialized value $args{"file"} in lc at /home/test/.cpan/build/Net-XMPP-1.02-5pL9wc/blib/lib/Net/XMPP/Debug.pm line 154.
t/query_last.t ................ ok
Use of uninitialized value $args{"file"} in lc at /home/test/.cpan/build/Net-XMPP-1.02-5pL9wc/blib/lib/Net/XMPP/Debug.pm line 154.
t/query_muc_admin.t ........... ok
Use of uninitialized value $args{"file"} in lc at /home/test/.cpan/build/Net-XMPP-1.02-5pL9wc/blib/lib/Net/XMPP/Debug.pm line 154.
t/query_oob.t ................. ok
Use of uninitialized value $args{"file"} in lc at /home/test/.cpan/build/Net-XMPP-1.02-5pL9wc/blib/lib/Net/XMPP/Debug.pm line 154.
t/query_pass.t ................ ok
Use of uninitialized value $args{"file"} in lc at /home/test/.cpan/build/Net-XMPP-1.02-5pL9wc/blib/lib/Net/XMPP/Debug.pm line 154.
t/query_pubsub.t .............. ok
Use of uninitialized value $args{"file"} in lc at /home/test/.cpan/build/Net-XMPP-1.02-5pL9wc/blib/lib/Net/XMPP/Debug.pm line 154.
t/query_pubsub_event.t ........ ok
Use of uninitialized value $args{"file"} in lc at /home/test/.cpan/build/Net-XMPP-1.02-5pL9wc/blib/lib/Net/XMPP/Debug.pm line 154.
t/query_pubsub_owner.t ........ ok
Use of uninitialized value $args{"file"} in lc at /home/test/.cpan/build/Net-XMPP-1.02-5pL9wc/blib/lib/Net/XMPP/Debug.pm line 154.
t/query_rpc.t ................. ok
Use of uninitialized value $args{"file"} in lc at /home/test/.cpan/build/Net-XMPP-1.02-5pL9wc/blib/lib/Net/XMPP/Debug.pm line 154.
t/query_search.t .............. ok
Use of uninitialized value $args{"file"} in lc at /home/test/.cpan/build/Net-XMPP-1.02-5pL9wc/blib/lib/Net/XMPP/Debug.pm line 154.
t/query_si.t .................. ok
Use of uninitialized value $args{"file"} in lc at /home/test/.cpan/build/Net-XMPP-1.02-5pL9wc/blib/lib/Net/XMPP/Debug.pm line 154.
t/query_si_filetrans.t ........ ok
Use of uninitialized value $args{"file"} in lc at /home/test/.cpan/build/Net-XMPP-1.02-5pL9wc/blib/lib/Net/XMPP/Debug.pm line 154.
t/query_time.t ................ ok
Use of uninitialized value $args{"file"} in lc at /home/test/.cpan/build/Net-XMPP-1.02-5pL9wc/blib/lib/Net/XMPP/Debug.pm line 154.
t/query_version.t ............. ok
Use of uninitialized value $args{"file"} in lc at /home/test/.cpan/build/Net-XMPP-1.02-5pL9wc/blib/lib/Net/XMPP/Debug.pm line 154.
t/rawxml.t .................... ok
Use of uninitialized value $args{"file"} in lc at /home/test/.cpan/build/Net-XMPP-1.02-5pL9wc/blib/lib/Net/XMPP/Debug.pm line 154.
t/x_autoupdate.t .............. ok
Use of uninitialized value $args{"file"} in lc at /home/test/.cpan/build/Net-XMPP-1.02-5pL9wc/blib/lib/Net/XMPP/Debug.pm line 154.
t/x_conference.t .............. ok
Use of uninitialized value $args{"file"} in lc at /home/test/.cpan/build/Net-XMPP-1.02-5pL9wc/blib/lib/Net/XMPP/Debug.pm line 154.
t/x_data.t .................... ok
Use of uninitialized value $args{"file"} in lc at /home/test/.cpan/build/Net-XMPP-1.02-5pL9wc/blib/lib/Net/XMPP/Debug.pm line 154.
t/x_delay.t ................... ok
Use of uninitialized value $args{"file"} in lc at /home/test/.cpan/build/Net-XMPP-1.02-5pL9wc/blib/lib/Net/XMPP/Debug.pm line 154.
t/x_encrypted.t ............... ok
Use of uninitialized value $args{"file"} in lc at /home/test/.cpan/build/Net-XMPP-1.02-5pL9wc/blib/lib/Net/XMPP/Debug.pm line 154.
t/x_expire.t .................. ok
Use of uninitialized value $args{"file"} in lc at /home/test/.cpan/build/Net-XMPP-1.02-5pL9wc/blib/lib/Net/XMPP/Debug.pm line 154.
t/x_muc.t ..................... ok
Use of uninitialized value $args{"file"} in lc at /home/test/.cpan/build/Net-XMPP-1.02-5pL9wc/blib/lib/Net/XMPP/Debug.pm line 154.
t/x_muc_user.t ................ ok
Use of uninitialized value $args{"file"} in lc at /home/test/.cpan/build/Net-XMPP-1.02-5pL9wc/blib/lib/Net/XMPP/Debug.pm line 154.
t/x_oob.t ..................... ok
Use of uninitialized value $args{"file"} in lc at /home/test/.cpan/build/Net-XMPP-1.02-5pL9wc/blib/lib/Net/XMPP/Debug.pm line 154.
t/x_roster.t .................. ok
Use of uninitialized value $args{"file"} in lc at /home/test/.cpan/build/Net-XMPP-1.02-5pL9wc/blib/lib/Net/XMPP/Debug.pm line 154.
t/x_signed.t .................. ok
All tests successful.
Files=49, Tests=3376, 15 wallclock secs ( 0.68 usr  0.09 sys + 10.98 cusr  1.52 csys = 13.27 CPU)
Result: PASS

------------------------------
PREREQUISITES
------------------------------

Prerequisite modules loaded:

requires:

    Module              Need Have   
    ------------------- ---- -------
    Net::XMPP           1    1.02   

build_requires:

    Module              Need Have   
    ------------------- ---- -------
    ExtUtils::MakeMaker 0    6.57_05


------------------------------
ENVIRONMENT AND OTHER CONTEXT
------------------------------

Environment variables:

    AUTOMATED_TESTING = 1
    LANG = C
    LC_ALL = C
    PATH = /home/test/perl/bin:~/bin:/usr/bin:/bin
    PERL5LIB = /home/test/.cpan/build/Net-XMPP-1.02-5pL9wc/blib/arch:/home/test/.cpan/build/Net-XMPP-1.02-5pL9wc/blib/lib:/home/test/.cpan/build/XML-Stream-1.23-UD5utL/blib/arch:/home/test/.cpan/build/XML-Stream-1.23-UD5utL/blib/lib:/home/test/.cpan/build/Authen-SASL-2.15-KK1gpy/blib/arch:/home/test/.cpan/build/Authen-SASL-2.15-KK1gpy/blib/lib:/home/test/.cpan/build/Digest-HMAC-1.02-tPTd1k/blib/arch:/home/test/.cpan/build/Digest-HMAC-1.02-tPTd1k/blib/lib:/home/test/.cpan/build/Digest-SHA1-2.13-n_xRwb/blib/arch:/home/test/.cpan/build/Digest-SHA1-2.13-n_xRwb/blib/lib:/home/test/.cpan/build/SOAP-Lite-0.712-ZuLp7t/blib/arch:/home/test/.cpan/build/SOAP-Lite-0.712-ZuLp7t/blib/lib:/home/test/.cpan/build/Task-Weaken-1.03-A8XBbS/blib/arch:/home/test/.cpan/build/Task-Weaken-1.03-A8XBbS/blib/lib:/home/test/.cpan/build/XML-Parser-2.40-darTMl/blib/arch:/home/test/.cpan/build/XML-Parser-2.40-darTMl/blib/lib:/home/test/.cpan/build/Class-Inspector-1.24-_O4t6T/blib/arch:/home/test/.cpan/build/Class-Inspector-1.24-_O4t6T/blib/lib
    PERL5OPT = 
    PERL5_CPANPLUS_IS_RUNNING = 28264
    PERL5_CPAN_IS_RUNNING = 28264
    PERL5_CPAN_IS_RUNNING_IN_RECURSION = 25751,28264
    PERL_CR_SMOKER_CURRENT = SOAP-Transport-JABBER-0.713
    PERL_EXTUTILS_AUTOINSTALL = --defaultdeps
    PERL_MM_USE_DEFAULT = 1
    SHELL = /bin/bash
    TERM = linux

Perl special variables (and OS-specific diagnostics, for MSWin32):

    $^X = /home/test/perl/bin/perl5.13.5
    $UID/$EUID = 1001 / 1001
    $GID = 1001 1001
    $EGID = 1001 1001

Perl module toolchain versions installed:

    Module              Have   
    ------------------- -------
    CPAN                1.94_57
    Cwd                 3.31   
    ExtUtils::CBuilder  0.2703 
    ExtUtils::Command   1.16   
    ExtUtils::Install   1.55   
    ExtUtils::MakeMaker 6.57_05
    ExtUtils::Manifest  1.58   
    ExtUtils::ParseXS   2.2207 
    File::Spec          3.31_01
    Module::Build       0.3607 
    Module::Signature   n/a    
    Test::Harness       3.22   
    Test::More          0.97_01
    YAML                n/a    
    YAML::Syck          1.14   
    version             0.82   


--

Summary of my perl5 (revision 5 version 13 subversion 5) configuration:
   
  Platform:
    osname=linux, osvers=2.6.26-2-amd64, archname=x86_64-linux-thread-multi-ld
    uname='linux zippy 2.6.26-2-amd64 #1 smp tue jan 12 22:12:20 utc 2010 x86_64 gnulinux '
    config_args='-des -Dusedevel -des -Duselongdouble -Duse64bitall -Dusethreads -Dprefix=~/perl'
    hint=recommended, useposix=true, d_sigaction=define
    useithreads=define, usemultiplicity=define
    useperlio=define, d_sfio=undef, uselargefiles=define, usesocks=undef
    use64bitint=define, use64bitall=define, uselongdouble=define
    usemymalloc=n, bincompat5005=undef
  Compiler:
    cc='cc', ccflags ='-D_REENTRANT -D_GNU_SOURCE -fno-strict-aliasing -pipe -fstack-protector -I/usr/local/include -D_LARGEFILE_SOURCE -D_FILE_OFFSET_BITS=64',
    optimize='-O2',
    cppflags='-D_REENTRANT -D_GNU_SOURCE -fno-strict-aliasing -pipe -fstack-protector -I/usr/local/include'
    ccversion='', gccversion='4.4.5 20100728 (prerelease)', gccosandvers=''
    intsize=4, longsize=8, ptrsize=8, doublesize=8, byteorder=12345678
    d_longlong=define, longlongsize=8, d_longdbl=define, longdblsize=16
    ivtype='long', ivsize=8, nvtype='long double', nvsize=16, Off_t='off_t', lseeksize=8
    alignbytes=16, prototype=define
  Linker and Libraries:
    ld='cc', ldflags =' -fstack-protector -L/usr/local/lib'
    libpth=/usr/local/lib /lib /usr/lib /lib64 /usr/lib64
    libs=-lnsl -ldb -ldl -lm -lcrypt -lutil -lpthread -lc
    perllibs=-lnsl -ldl -lm -lcrypt -lutil -lpthread -lc
    libc=/lib/libc-2.11.2.so, so=so, useshrplib=false, libperl=libperl.a
    gnulibc_version='2.11.2'
  Dynamic Linking:
    dlsrc=dl_dlopen.xs, dlext=so, d_dlsymun=undef, ccdlflags='-Wl,-E'
    cccdlflags='-fPIC', lddlflags='-shared -O2 -L/usr/local/lib -fstack-protector'


Characteristics of this binary (from libperl): 
  Compile-time options: MULTIPLICITY PERL_DONT_CREATE_GVSV
                        PERL_IMPLICIT_CONTEXT PERL_MALLOC_WRAP PERL_USE_DEVEL
                        USE_64_BIT_ALL USE_64_BIT_INT USE_ITHREADS
                        USE_LARGE_FILES USE_LONG_DOUBLE USE_PERLIO
                        USE_PERL_ATOF USE_REENTRANT_API
  Built under linux
  Compiled at Sep 19 2010 22:55:13
  %ENV:
    PERL5LIB="/home/test/.cpan/build/Net-XMPP-1.02-5pL9wc/blib/arch:/home/test/.cpan/build/Net-XMPP-1.02-5pL9wc/blib/lib:/home/test/.cpan/build/XML-Stream-1.23-UD5utL/blib/arch:/home/test/.cpan/build/XML-Stream-1.23-UD5utL/blib/lib:/home/test/.cpan/build/Authen-SASL-2.15-KK1gpy/blib/arch:/home/test/.cpan/build/Authen-SASL-2.15-KK1gpy/blib/lib:/home/test/.cpan/build/Digest-HMAC-1.02-tPTd1k/blib/arch:/home/test/.cpan/build/Digest-HMAC-1.02-tPTd1k/blib/lib:/home/test/.cpan/build/Digest-SHA1-2.13-n_xRwb/blib/arch:/home/test/.cpan/build/Digest-SHA1-2.13-n_xRwb/blib/lib:/home/test/.cpan/build/SOAP-Lite-0.712-ZuLp7t/blib/arch:/home/test/.cpan/build/SOAP-Lite-0.712-ZuLp7t/blib/lib:/home/test/.cpan/build/Task-Weaken-1.03-A8XBbS/blib/arch:/home/test/.cpan/build/Task-Weaken-1.03-A8XBbS/blib/lib:/home/test/.cpan/build/XML-Parser-2.40-darTMl/blib/arch:/home/test/.cpan/build/XML-Parser-2.40-darTMl/blib/lib:/home/test/.cpan/build/Class-Inspector-1.24-_O4t6T/blib/arch:/home/test/.cpan/build/Class-Inspector-1.24-_O4t6T/blib/lib"
    PERL5OPT=""
    PERL5_CPANPLUS_IS_RUNNING="28264"
    PERL5_CPAN_IS_RUNNING="28264"
    PERL5_CPAN_IS_RUNNING_IN_RECURSION="25751,28264"
    PERL_CR_SMOKER_CURRENT="SOAP-Transport-JABBER-0.713"
    PERL_EXTUTILS_AUTOINSTALL="--defaultdeps"
    PERL_MM_USE_DEFAULT="1"
  @INC:
    /home/test/.cpan/build/Net-XMPP-1.02-5pL9wc/blib/arch
    /home/test/.cpan/build/Net-XMPP-1.02-5pL9wc/blib/lib
    /home/test/.cpan/build/XML-Stream-1.23-UD5utL/blib/arch
    /home/test/.cpan/build/XML-Stream-1.23-UD5utL/blib/lib
    /home/test/.cpan/build/Authen-SASL-2.15-KK1gpy/blib/arch
    /home/test/.cpan/build/Authen-SASL-2.15-KK1gpy/blib/lib
    /home/test/.cpan/build/Digest-HMAC-1.02-tPTd1k/blib/arch
    /home/test/.cpan/build/Digest-HMAC-1.02-tPTd1k/blib/lib
    /home/test/.cpan/build/Digest-SHA1-2.13-n_xRwb/blib/arch
    /home/test/.cpan/build/Digest-SHA1-2.13-n_xRwb/blib/lib
    /home/test/.cpan/build/SOAP-Lite-0.712-ZuLp7t/blib/arch
    /home/test/.cpan/build/SOAP-Lite-0.712-ZuLp7t/blib/lib
    /home/test/.cpan/build/Task-Weaken-1.03-A8XBbS/blib/arch
    /home/test/.cpan/build/Task-Weaken-1.03-A8XBbS/blib/lib
    /home/test/.cpan/build/XML-Parser-2.40-darTMl/blib/arch
    /home/test/.cpan/build/XML-Parser-2.40-darTMl/blib/lib
    /home/test/.cpan/build/Class-Inspector-1.24-_O4t6T/blib/arch
    /home/test/.cpan/build/Class-Inspector-1.24-_O4t6T/blib/lib
    /home/test/perl/lib/site_perl/5.13.5/x86_64-linux-thread-multi-ld
    /home/test/perl/lib/site_perl/5.13.5
    /home/test/perl/lib/5.13.5/x86_64-linux-thread-multi-ld
    /home/test/perl/lib/5.13.5
    /home/test/perl/lib/site_perl
    .