Net-HTTP-Spore v0.09 Perl 5 v5.32.1 amd64-openbsd

Status
Pass
From
Alceu Rodrigues de Freitas Junior
Dist
Net-HTTP-Spore v0.09
Platform
Perl 5 v5.32.1 amd64-openbsd
Date
2022-04-25 04:06:43
ID
1df97230-c44d-11ec-b24c-ad465fb94fb8
This distribution has been tested as part of the CPAN Testers
project, supporting the Perl programming language.  See
http://wiki.cpantesters.org/ for more information or email
questions to cpan-testers-discuss@perl.org


--
Dear Ahmad Fatoum,

This is a computer-generated report for Net-HTTP-Spore-0.09
on perl 5.32.1, created by CPAN-Reporter-1.2018.

Thank you for uploading your work to CPAN.  Congratulations!
All tests were successful.

Sections of this report:

    * Tester comments
    * Program output
    * Prerequisites
    * Environment and other context

------------------------------
TESTER COMMENTS
------------------------------

Additional comments from tester:

this report is from an automated smoke testing program
and was not reviewed by a human for accuracy

------------------------------
PROGRAM OUTPUT
------------------------------

Output from '/usr/bin/make test':

PERL_DL_NONLAZY=1 "/usr/bin/perl" "-MExtUtils::Command::MM" "-MTest::Harness" "-e" "undef *Test::Harness::Switches; test_harness(0, 'blib/lib', 'blib/arch')" t/*.t t/spore-method/*.t t/spore-middleware/*.t t/spore-request/*.t t/spore-response/*.t t/spore-role/*.t t/spore/*.t
t/00-compile.t ....................... ok
t/author-eol.t ....................... skipped: these tests are for testing by the author
t/author-no-tabs.t ................... skipped: these tests are for testing by the author
t/author-pod-syntax.t ................ skipped: these tests are for testing by the author
t/author-test-version.t .............. skipped: these tests are for testing by the author
t/release-minimum-version.t .......... skipped: these tests are for release candidate testing
t/spore-method/base.t ................ ok
t/spore-method/payload.t ............. ok
t/spore-middleware/anonymous.t ....... ok
t/spore-middleware/auth-basic.t ...... ok
t/spore-middleware/auth-header.t ..... ok
t/spore-middleware/auth-oauth.t ...... ok
t/spore-middleware/format-auto.t ..... ok
t/spore-middleware/format-json.t ..... ok
t/spore-middleware/format-text.t ..... ok
t/spore-middleware/format-xml.t ...... ok
t/spore-middleware/format-yaml.t ..... ok
t/spore-middleware/ns.t .............. ok
t/spore-middleware/redirection.t ..... ok
t/spore-middleware/runtime.t ......... ok
t/spore-middleware/useragent.t ....... ok
t/spore-middleware/x-do-not-track.t .. ok
t/spore-request/base.t ............... ok
t/spore-request/exception.t .......... ok
t/spore-request/finalize.t ........... ok
t/spore-request/form_data.t .......... ok
t/spore-request/headers.t ............ ok
t/spore-request/new.t ................ ok
t/spore-request/request_uri.t ........ ok
t/spore-request/script_name.t ........ ok
t/spore-request/uri.t ................ ok
t/spore-response/body.t .............. ok
t/spore-response/debug.t ............. ok
t/spore-response/headers.t ........... ok
t/spore-response/new.t ............... ok
t/spore-response/response.t .......... ok
t/spore-response/timeout.t ........... ok
t/spore-role/basic.t ................. ok
t/spore/01_new_from_string.t ......... ok
t/spore/02_enable.t .................. ok
All tests successful.
Files=40, Tests=224, 40 wallclock secs ( 0.14 usr  0.17 sys + 33.50 cusr  5.66 csys = 39.47 CPU)
Result: PASS

------------------------------
PREREQUISITES
------------------------------

Prerequisite modules loaded:

requires:

    Module                       Need  Have     
    ---------------------------- ----- ---------
    Carp                         0     1.50     
    Class::Load                  0     0.25     
    Digest::SHA                  0     6.02     
    Encode                       0     3.17     
    HTTP::Headers                0     6.36     
    HTTP::Request                0     6.36     
    IO::All                      0     0.87     
    IO::File                     0     1.48     
    JSON                         0     4.05     
    LWP::UserAgent               0     6.62     
    MIME::Base64                 0     3.16     
    Moose                        0     2.2201   
    Moose::Exporter              0     2.2201   
    Moose::Meta::Method          0     2.2201   
    Moose::Role                  0     2.2201   
    Moose::Util::MetaRole        0     2.2201   
    Moose::Util::TypeConstraints 0     2.2201   
    MooseX::Role::Parameterized  1.01  1.11     
    MooseX::Types                0     0.50     
    MooseX::Types::Moose         0     0.50     
    MooseX::Types::URI           0     0.09     
    overload                     0     1.31     
    perl                         5.010 5.032001 
    Scalar::Util                 0     1.62     
    strict                       0     1.11     
    Time::HiRes                  0     1.9764_02
    Try::Tiny                    0     0.31     
    URI                          0     5.10     
    URI::Escape                  0     5.10     
    warnings                     0     1.47     
    XML::Simple                  0     2.25     
    YAML                         0     1.30     

build_requires:

    Module                       Need  Have     
    ---------------------------- ----- ---------
    base                         0     2.27     
    blib                         1.01  1.07     
    ExtUtils::MakeMaker          0     7.64     
    File::Spec                   0     3.78     
    File::Temp                   0     0.2311   
    IO::Handle                   0     1.48     
    IPC::Open3                   0     1.21     
    Test::Exception              0     0.43     
    Test::Moose                  0     2.2201   
    Test::More                   0     1.302190 

configure_requires:

    Module                       Need  Have     
    ---------------------------- ----- ---------
    ExtUtils::MakeMaker          0     7.64     
    perl                         5.010 5.032001 


------------------------------
ENVIRONMENT AND OTHER CONTEXT
------------------------------

Environment variables:

    AUTOMATED_TESTING = 1
    PATH = /home/goku/perl5/bin:/usr/bin:/bin:/usr/sbin:/sbin:/usr/X11R6/bin:/usr/local/bin:/usr/local/sbin
    PERL5LIB = /home/goku/perl5/lib/perl5
    PERL5OPT = 
    PERL5_CPANPLUS_IS_RUNNING = 95732
    PERL5_CPAN_IS_RUNNING = 95732
    PERL5_CPAN_IS_RUNNING_IN_RECURSION = 40816,95732
    PERL_CR_SMOKER_CURRENT = WebService-KVV-Live-Stop-0.007
    PERL_EXTUTILS_AUTOINSTALL = --defaultdeps
    PERL_LOCAL_LIB_ROOT = /home/goku/perl5
    PERL_MB_OPT = --install_base "/home/goku/perl5"
    PERL_MM_OPT = INSTALL_BASE=/home/goku/perl5
    PERL_MM_USE_DEFAULT = 1
    PERL_USE_UNSAFE_INC = 1
    SHELL = /bin/ksh
    TERM = xterm-256color

Perl special variables (and OS-specific diagnostics, for MSWin32):

    $^X = /usr/bin/perl
    $UID/$EUID = 1001 / 1001
    $GID = 1002 1002 1001
    $EGID = 1002 1002 1001

Perl module toolchain versions installed:

    Module              Have    
    ------------------- --------
    CPAN                2.33    
    CPAN::Meta          2.150010
    Cwd                 3.78    
    ExtUtils::CBuilder  0.280236
    ExtUtils::Command   7.64    
    ExtUtils::Install   2.20    
    ExtUtils::MakeMaker 7.64    
    ExtUtils::Manifest  1.73    
    ExtUtils::ParseXS   3.44    
    File::Spec          3.78    
    JSON                4.05    
    JSON::PP            4.08    
    Module::Build       0.4231  
    Module::Signature   n/a     
    Parse::CPAN::Meta   2.150010
    Test::Harness       3.44    
    Test::More          1.302190
    YAML                1.30    
    YAML::Syck          1.34    
    version             0.9929  


--

Summary of my perl5 (revision 5 version 32 subversion 1) configuration:
   
  Platform:
    osname=openbsd
    osvers=7.0
    archname=amd64-openbsd
    uname='openbsd'
    config_args='-dse -Dopenbsd_distribution=defined -Dmksymlinks'
    hint=recommended
    useposix=true
    d_sigaction=define
    useithreads=undef
    usemultiplicity=undef
    use64bitint=define
    use64bitall=define
    uselongdouble=undef
    usemymalloc=n
    default_inc_excludes_dot=define
    bincompat5005=undef
  Compiler:
    cc='cc'
    ccflags ='-DNO_LOCALE_NUMERIC -DNO_LOCALE_COLLATE -fno-strict-aliasing -fno-delete-null-pointer-checks -pipe -fstack-protector-strong -I/usr/local/include'
    optimize='-O2'
    cppflags='-DBIG_TIME -DNO_LOCALE_NUMERIC -DNO_LOCALE_COLLATE -fno-strict-aliasing -fno-delete-null-pointer-checks -pipe -fstack-protector-strong -I/usr/local/include'
    ccversion=''
    gccversion='OpenBSD Clang 11.1.0'
    gccosandvers=''
    intsize=4
    longsize=8
    ptrsize=8
    doublesize=8
    byteorder=12345678
    doublekind=3
    d_longlong=define
    longlongsize=8
    d_longdbl=define
    longdblsize=16
    longdblkind=3
    ivtype='long'
    ivsize=8
    nvtype='double'
    nvsize=8
    Off_t='off_t'
    lseeksize=8
    alignbytes=8
    prototype=define
  Linker and Libraries:
    ld='cc'
    ldflags ='-Wl,-E  -fstack-protector-strong -L/usr/local/lib'
    libpth=/usr/lib /usr/local/lib
    libs=-lm -lc
    perllibs=-lm -lc
    libc=/usr/lib/libc.so.96.1
    so=so
    useshrplib=true
    libperl=libperl.so.22.0
    gnulibc_version=''
  Dynamic Linking:
    dlsrc=dl_dlopen.xs
    dlext=so
    d_dlsymun=undef
    ccdlflags='-Wl,-R/usr/libdata/perl5/amd64-openbsd/CORE'
    cccdlflags='-DPIC -fpic '
    lddlflags='-shared -fpic  -fstack-protector-strong -L/usr/local/lib'


Characteristics of this binary (from libperl): 
  Compile-time options:
    HAS_TIMES
    PERLIO_LAYERS
    PERL_COPY_ON_WRITE
    PERL_DONT_CREATE_GVSV
    PERL_MALLOC_WRAP
    PERL_OP_PARENT
    PERL_PRESERVE_IVUV
    USE_64_BIT_ALL
    USE_64_BIT_INT
    USE_LARGE_FILES
    USE_LOCALE
    USE_LOCALE_CTYPE
    USE_LOCALE_TIME
    USE_PERLIO
    USE_PERL_ATOF
  Built under openbsd
  %ENV:
    PERL5LIB="/home/goku/perl5/lib/perl5"
    PERL5OPT=""
    PERL5_CPANPLUS_IS_RUNNING="95732"
    PERL5_CPAN_IS_RUNNING="95732"
    PERL5_CPAN_IS_RUNNING_IN_RECURSION="40816,95732"
    PERL_CR_SMOKER_CURRENT="WebService-KVV-Live-Stop-0.007"
    PERL_EXTUTILS_AUTOINSTALL="--defaultdeps"
    PERL_LOCAL_LIB_ROOT="/home/goku/perl5"
    PERL_MB_OPT="--install_base "/home/goku/perl5""
    PERL_MM_OPT="INSTALL_BASE=/home/goku/perl5"
    PERL_MM_USE_DEFAULT="1"
    PERL_USE_UNSAFE_INC="1"
  @INC:
    /home/goku/perl5/lib/perl5/5.32.1/amd64-openbsd
    /home/goku/perl5/lib/perl5/5.32.1
    /home/goku/perl5/lib/perl5/amd64-openbsd
    /home/goku/perl5/lib/perl5
    /usr/local/libdata/perl5/site_perl/amd64-openbsd
    /usr/local/libdata/perl5/site_perl
    /usr/libdata/perl5/amd64-openbsd
    /usr/libdata/perl5
    .