Report for Devel-CheckLib-1.11

Back
From: metabase:user:30f4dfbe-2aae-11df-837a-5e0a49663a4f
Subject: PASS Devel-CheckLib-1.11 v5.25.4 GNU/Linux
Date: 2017-06-27T02:55:45Z

This distribution has been tested as part of the CPAN Testers
project, supporting the Perl programming language.  See
http://wiki.cpantesters.org/ for more information or email
questions to cpan-testers-discuss@perl.org


--
Dear Yasuhiro Matsumoto,

This is a computer-generated report for Devel-CheckLib-1.11
on perl 5.25.4, created by CPAN-Reporter-1.2018.

Thank you for uploading your work to CPAN.  Congratulations!
All tests were successful.

Sections of this report:

    * Tester comments
    * Program output
    * Prerequisites
    * Environment and other context

------------------------------
TESTER COMMENTS
------------------------------

Additional comments from tester:

this report is from an automated smoke testing program
and was not reviewed by a human for accuracy

------------------------------
PROGRAM OUTPUT
------------------------------

Output from '/usr/bin/make test':

PERL_DL_NONLAZY=1 "/home/njh/perl5/perlbrew/perls/perl-5.25.4/bin/perl5.25.4" "-MExtUtils::Command::MM" "-MTest::Harness" "-e" "undef *Test::Harness::Switches; test_harness(0, 'blib/lib', 'blib/arch')" t/*.t
Name "Config::STORE" used only once: possible typo at t/bad-single-word-compiler.t line 18.
t/bad-single-word-compiler.t .. ok
t/00-load.t ................... ok
t/dash-l-libs.t ............... ok
t/exit_with_message.t ......... ok
t/analyze-binary.t ............ ok
Name "Config::STORE" used only once: possible typo at t/multi-word-compiler.t line 18.
t/multi-word-compiler.t ....... ok
t/flags.t ..................... ok
t/cmdline-LIBS-INC.t .......... ok
t/headers.t ................... ok
t/custom-function.t ........... ok
t/found.t ..................... ok
t/not_found.t ................. ok
All tests successful.
Files=12, Tests=42,  7 wallclock secs ( 0.24 usr  0.11 sys + 18.39 cusr  4.45 csys = 23.19 CPU)
Result: PASS

------------------------------
PREREQUISITES
------------------------------

Prerequisite modules loaded:

requires:

    Module              Need    Have    
    ------------------- ------- --------
    Exporter            0       5.72    
    File::Spec          0       3.65    
    File::Temp          0.16    0.2304  
    perl                5.00405 5.025004

build_requires:

    Module              Need    Have    
    ------------------- ------- --------
    IO::CaptureOutput   1.0801  1.1104  
    Mock::Config        0.02    0.03    
    Test::More          0.62    1.302052

configure_requires:

    Module              Need    Have    
    ------------------- ------- --------
    ExtUtils::MakeMaker 0       7.24    


------------------------------
ENVIRONMENT AND OTHER CONTEXT
------------------------------

Environment variables:

    AUTOMATED_TESTING = 1
    HARNESS_OPTIONS = j6
    PATH = /home/njh/perl5/perlbrew/bin:/home/njh/perl5/perlbrew/perls/perl-5.25.4/bin:/home/njh/perl5/perlbrew/bin:/usr/bin:/bin
    PERL5LIB = /home/njh/.cpan/build/Mock-Config-0.03-0/blib/arch:/home/njh/.cpan/build/Mock-Config-0.03-0/blib/lib:/home/njh/.cpan/build/DBI-1.636-0/blib/arch:/home/njh/.cpan/build/DBI-1.636-0/blib/lib
    PERL5OPT = 
    PERL5_CPANPLUS_IS_RUNNING = 19430
    PERL5_CPAN_IS_RUNNING = 19430
    PERLBREW_BASHRC_VERSION = 0.75
    PERLBREW_HOME = /home/njh/.perlbrew
    PERLBREW_LIB = 
    PERLBREW_MANPATH = /home/njh/perl5/perlbrew/perls/perl-5.25.4/man
    PERLBREW_PATH = /home/njh/perl5/perlbrew/bin:/home/njh/perl5/perlbrew/perls/perl-5.25.4/bin
    PERLBREW_PERL = perl-5.25.4
    PERLBREW_ROOT = /home/njh/perl5/perlbrew
    PERLBREW_VERSION = 0.75
    PERL_LOCAL_LIB_ROOT = 
    SHELL = /bin/sh

Perl special variables (and OS-specific diagnostics, for MSWin32):

    $^X = /home/njh/perl5/perlbrew/perls/perl-5.25.4/bin/perl5.25.4
    $UID/$EUID = 1000 / 1000
    $GID = 1000 4 1000
    $EGID = 1000 4 1000

Perl module toolchain versions installed:

    Module              Have      
    ------------------- ----------
    CPAN                2.14_01   
    CPAN::Meta          2.150010  
    Cwd                 3.65      
    ExtUtils::CBuilder  0.280225  
    ExtUtils::Command   7.24      
    ExtUtils::Install   2.04      
    ExtUtils::MakeMaker 7.24      
    ExtUtils::Manifest  1.70      
    ExtUtils::ParseXS   3.33      
    File::Spec          3.65      
    JSON                n/a       
    JSON::PP            2.27400_01
    Module::Build       n/a       
    Module::Signature   n/a       
    Parse::CPAN::Meta   2.150010  
    Test::Harness       3.36_01   
    Test::More          1.302052  
    YAML                n/a       
    YAML::Syck          n/a       
    version             0.9917    


--

Summary of my perl5 (revision 5 version 25 subversion 4) configuration:
   
  Platform:
    osname=linux
    osvers=3.0.35-cm-fx6-6.1
    archname=armv7l-linux-thread-multi
    uname='linux utilite 3.0.35-cm-fx6-6.1 #140 smp tue jun 17 10:40:25 idt 2014 armv7l armv7l armv7l gnulinux '
    config_args='-de -Dprefix=/home/njh/perl5/perlbrew/perls/perl-5.25.4 -Duseithreads -Dusemultiplicity -Dusedevel -Dusedevel -Accflags= -Aeval:scriptdir=/home/njh/perl5/perlbrew/perls/perl-5.25.4/bin'
    hint=recommended
    useposix=true
    d_sigaction=define
    useithreads=define
    usemultiplicity=define
    use64bitint=undef
    use64bitall=undef
    uselongdouble=undef
    usemymalloc=n
    bincompat5005=undef
  Compiler:
    cc='cc'
    ccflags ='-D_REENTRANT -D_GNU_SOURCE -fwrapv -fno-strict-aliasing -pipe -fstack-protector -I/usr/local/include -D_LARGEFILE_SOURCE -D_FILE_OFFSET_BITS=64'
    optimize='-O2'
    cppflags='-D_REENTRANT -D_GNU_SOURCE -fwrapv -fno-strict-aliasing -pipe -fstack-protector -I/usr/local/include'
    ccversion=''
    gccversion='4.7.2'
    gccosandvers=''
    intsize=4
    longsize=4
    ptrsize=4
    doublesize=8
    byteorder=1234
    doublekind=3
    d_longlong=define
    longlongsize=8
    d_longdbl=define
    longdblsize=8
    longdblkind=0
    ivtype='long'
    ivsize=4
    nvtype='double'
    nvsize=8
    Off_t='off_t'
    lseeksize=8
    alignbytes=8
    prototype=define
  Linker and Libraries:
    ld='cc'
    ldflags =' -fstack-protector -L/usr/local/lib'
    libpth=/usr/local/lib /usr/lib/gcc/arm-linux-gnueabi/4.7/include-fixed /usr/include/arm-linux-gnueabi /usr/lib /lib/arm-linux-gnueabi /lib/../lib /usr/lib/arm-linux-gnueabi /usr/lib/../lib /lib
    libs=-lpthread -lnsl -lgdbm -ldb -ldl -lm -lcrypt -lutil -lc -lgdbm_compat
    perllibs=-lpthread -lnsl -ldl -lm -lcrypt -lutil -lc
    libc=libc-2.15.so
    so=so
    useshrplib=false
    libperl=libperl.a
    gnulibc_version='2.15'
  Dynamic Linking:
    dlsrc=dl_dlopen.xs
    dlext=so
    d_dlsymun=undef
    ccdlflags='-Wl,-E'
    cccdlflags='-fPIC'
    lddlflags='-shared -O2 -L/usr/local/lib -fstack-protector'


Characteristics of this binary (from libperl): 
  Compile-time options:
    HAS_TIMES
    MULTIPLICITY
    PERLIO_LAYERS
    PERL_COPY_ON_WRITE
    PERL_DONT_CREATE_GVSV
    PERL_HASH_FUNC_ONE_AT_A_TIME_HARD
    PERL_IMPLICIT_CONTEXT
    PERL_MALLOC_WRAP
    PERL_OP_PARENT
    PERL_PRESERVE_IVUV
    PERL_USE_DEVEL
    USE_ITHREADS
    USE_LARGE_FILES
    USE_LOCALE
    USE_LOCALE_COLLATE
    USE_LOCALE_CTYPE
    USE_LOCALE_NUMERIC
    USE_LOCALE_TIME
    USE_PERLIO
    USE_PERL_ATOF
    USE_REENTRANT_API
  Built under linux
  Compiled at Oct 21 2016 00:40:15
  %ENV:
    PERL5LIB="/home/njh/.cpan/build/Mock-Config-0.03-0/blib/arch:/home/njh/.cpan/build/Mock-Config-0.03-0/blib/lib:/home/njh/.cpan/build/DBI-1.636-0/blib/arch:/home/njh/.cpan/build/DBI-1.636-0/blib/lib"
    PERL5OPT=""
    PERL5_CPANPLUS_IS_RUNNING="19430"
    PERL5_CPAN_IS_RUNNING="19430"
    PERLBREW_BASHRC_VERSION="0.75"
    PERLBREW_HOME="/home/njh/.perlbrew"
    PERLBREW_LIB=""
    PERLBREW_MANPATH="/home/njh/perl5/perlbrew/perls/perl-5.25.4/man"
    PERLBREW_PATH="/home/njh/perl5/perlbrew/bin:/home/njh/perl5/perlbrew/perls/perl-5.25.4/bin"
    PERLBREW_PERL="perl-5.25.4"
    PERLBREW_ROOT="/home/njh/perl5/perlbrew"
    PERLBREW_VERSION="0.75"
    PERL_LOCAL_LIB_ROOT=""
  @INC:
    /home/njh/.cpan/build/Mock-Config-0.03-0/blib/arch
    /home/njh/.cpan/build/Mock-Config-0.03-0/blib/lib
    /home/njh/.cpan/build/DBI-1.636-0/blib/arch
    /home/njh/.cpan/build/DBI-1.636-0/blib/lib
    /home/njh/perl5/perlbrew/perls/perl-5.25.4/lib/site_perl/5.25.4/armv7l-linux-thread-multi
    /home/njh/perl5/perlbrew/perls/perl-5.25.4/lib/site_perl/5.25.4
    /home/njh/perl5/perlbrew/perls/perl-5.25.4/lib/5.25.4/armv7l-linux-thread-multi
    /home/njh/perl5/perlbrew/perls/perl-5.25.4/lib/5.25.4
    .