Algorithm-AM v3.11 Perl 5 v5.22.0 amd64-freebsd
- Status
- Pass
- From
- Slaven Rezić (SREZIC)
- Dist
-
Algorithm-AM v3.11
- Platform
- Perl 5 v5.22.0 amd64-freebsd
- Date
- 2017-11-15 09:55:30
- ID
- 1d12a0a0-c9eb-11e7-a49d-9b34643b6680
This distribution has been tested as part of the CPAN Testers
project, supporting the Perl programming language. See
http://wiki.cpantesters.org/ for more information or email
questions to cpan-testers-discuss@perl.org
--
Dear Nathan Gary Glenn,
This is a computer-generated report for Algorithm-AM-3.11
on perl 5.22.0, created by CPAN-Reporter-1.2018.
Thank you for uploading your work to CPAN. Congratulations!
All tests were successful.
Sections of this report:
* Tester comments
* Program output
* Prerequisites
* Environment and other context
------------------------------
TESTER COMMENTS
------------------------------
Additional comments from tester:
none provided
------------------------------
PROGRAM OUTPUT
------------------------------
Output from '/usr/bin/make test':
"/usr/perl5.22.0p/bin/perl5.22.0" -MExtUtils::Command::MM -e 'cp_nonempty' -- AM.bs blib/arch/auto/Algorithm/AM/AM.bs 644
PERL_DL_NONLAZY=1 "/usr/perl5.22.0p/bin/perl5.22.0" "-MExtUtils::Command::MM" "-MTest::Harness" "-e" "undef *Test::Harness::Switches; test_harness(0, 'blib/lib', 'blib/arch')" t/*.t
t/0-use_AM.t ........... ok
t/0-use_Batch.t ........ ok
#
# Versions for all modules listed in MYMETA.json (including optional ones):
#
# === Configure Requires ===
#
# Module Want Have
# ------------------- ---- ----
# ExtUtils::MakeMaker 6.17 7.24
#
# === Build Requires ===
#
# Module Want Have
# ------------------- ---- ----
# ExtUtils::MakeMaker any 7.24
#
# === Test Requires ===
#
# Module Want Have
# ------------------- ---- --------
# ExtUtils::MakeMaker any 7.24
# File::Spec any 3.62
# FindBin any 1.51
# Test::Deep any 1.127
# Test::Exception any 0.43
# Test::LongString any 0.17
# Test::More 0.88 1.302106
# Test::NoWarnings any 1.04
#
# === Test Recommends ===
#
# Module Want Have
# ---------- -------- --------
# CPAN::Meta 2.120900 2.150010
#
# === Runtime Requires ===
#
# Module Want Have
# ----------------- ---- --------
# Carp any 1.38
# Class::Tiny any 1.006
# Exporter::Easy any 0.18
# Getopt::Long 2.13 2.5
# Import::Into any 1.002005
# Log::Any any 1.701
# Log::Any::Adapter any 1.701
# Path::Tiny any 0.104
# Pod::Usage any 1.69
# Text::Table any 1.133
# XSLoader any 0.24
# feature any 1.40
# integer any 1.01
# strict any 1.09
# warnings any 1.32
#
t/00-report-prereqs.t .. ok
t/01-Item.t ............ ok
t/02-DataSet.t ......... ok
t/03-AM.t .............. ok
t/04-Result.t .......... ok
t/05-Bigint.t .......... ok
t/06-Batch.t ........... ok
t/07-Batch_hooks.t ..... ok
t/08-finnverb.t ........ ok
t/09-soybean.t ......... ok
All tests successful.
Files=12, Tests=143, 2 wallclock secs ( 0.01 usr 0.08 sys + 0.48 cusr 1.12 csys = 1.69 CPU)
Result: PASS
------------------------------
PREREQUISITES
------------------------------
Prerequisite modules loaded:
requires:
Module Need Have
------------------- -------- --------
Carp 0 1.38
Class::Tiny 0 1.006
Exporter::Easy 0 0.18
feature 0 1.40
Getopt::Long 2.13 2.5
Import::Into 0 1.002005
integer 0 1.01
Log::Any 0 1.701
Log::Any::Adapter 0 1.701
Path::Tiny 0 0.104
perl 5.010000 5.022000
Pod::Usage 0 1.69
strict 0 1.09
Text::Table 0 1.133
warnings 0 1.32
XSLoader 0 0.24
build_requires:
Module Need Have
------------------- -------- --------
ExtUtils::MakeMaker 0 7.24
File::Spec 0 3.62
FindBin 0 1.51
Test::Deep 0 1.127
Test::Exception 0 0.43
Test::LongString 0 0.17
Test::More 0.88 1.302106
Test::NoWarnings 0 1.04
configure_requires:
Module Need Have
------------------- -------- --------
ExtUtils::MakeMaker 6.17 7.24
perl 5.010 5.022000
------------------------------
ENVIRONMENT AND OTHER CONTEXT
------------------------------
Environment variables:
LC_ALL = de_DE.ISO8859-1
PATH = /usr/local/bin:/usr/bin:/bin:/usr/local/sbin:/usr/sbin:/sbin:/home/cpansand/bin/freebsd10.3:/home/cpansand/bin/sh:/home/cpansand/bin:/usr/games:/home/cpansand/devel:/home/eserte/src/srezic-misc/scripts
PERL5LIB =
PERL5OPT =
PERL5_CPANPLUS_IS_RUNNING = 25470
PERL5_CPAN_IS_RUNNING = 25470
PERL5_CPAN_IS_RUNNING_IN_RECURSION = 25265,25470
PERLDOC = -MPod::Perldoc::ToTextOverstrike
PERL_BATCH = yes
PERL_CANARY_STABILITY_NOPROMPT = 1
PERL_CPAN_REPORTER_CONFIG = /var/tmp/cpansmoker-1023/2017111509/cpanreporter_000_config.ini
PERL_EXTUTILS_AUTOINSTALL = --defaultdeps
SHELL = /usr/local/bin/zsh
TERM = screen
TMPDIR = /var/tmp/cpansmoker-1023/2017111509
Perl special variables (and OS-specific diagnostics, for MSWin32):
$^X = /usr/perl5.22.0p/bin/perl5.22.0
$UID/$EUID = 1023 / 1023
$GID = 1023 1023
$EGID = 1023 1023
Perl module toolchain versions installed:
Module Have
------------------- --------
CPAN 2.16
CPAN::Meta 2.150010
Cwd 3.62
ExtUtils::CBuilder 0.280226
ExtUtils::Command 7.24
ExtUtils::Install 2.12
ExtUtils::MakeMaker 7.24
ExtUtils::Manifest 1.70
ExtUtils::ParseXS 3.35
File::Spec 3.62
JSON 2.94
JSON::PP 2.94
Module::Build 0.4224
Module::Signature 0.81
Parse::CPAN::Meta 2.150010
Test::Harness 3.39
Test::More 1.302106
YAML 1.24
YAML::Syck 1.30
version 0.9917
--
Summary of my perl5 (revision 5 version 22 subversion 0) configuration:
Platform:
osname=freebsd, osvers=10.1-release, archname=amd64-freebsd
uname='freebsd cvrsnica-freebsd-101.herceg.de 10.1-release freebsd 10.1-release #0 r274401: tue nov 11 21:02:49 utc 2014 root@releng1.nyi.freebsd.org:usrobjusrsrcsysgeneric amd64 '
config_args='-ds -e -Dprefix=/usr/perl5.22.0p -Dcf_email=srezic@cpan.org'
hint=recommended, useposix=true, d_sigaction=define
useithreads=undef, usemultiplicity=undef
use64bitint=define, use64bitall=define, uselongdouble=undef
usemymalloc=n, bincompat5005=undef
Compiler:
cc='cc', ccflags ='-DHAS_FPSETMASK -DHAS_FLOATINGPOINT_H -fno-strict-aliasing -pipe -fstack-protector -I/usr/local/include -D_FORTIFY_SOURCE=2',
optimize='-O',
cppflags='-DHAS_FPSETMASK -DHAS_FLOATINGPOINT_H -fno-strict-aliasing -pipe -fstack-protector -I/usr/local/include'
ccversion='', gccversion='4.2.1 Compatible FreeBSD Clang 3.4.1 (tags/RELEASE_34/dot1-final 208032)', gccosandvers=''
intsize=4, longsize=8, ptrsize=8, doublesize=8, byteorder=12345678, doublekind=3
d_longlong=define, longlongsize=8, d_longdbl=define, longdblsize=16, longdblkind=3
ivtype='long', ivsize=8, nvtype='double', nvsize=8, Off_t='off_t', lseeksize=8
alignbytes=8, prototype=define
Linker and Libraries:
ld='cc', ldflags ='-pthread -Wl,-E -fstack-protector -L/usr/local/lib'
libpth=/usr/lib /usr/local/lib /usr/include/clang/3.4.1 /usr/lib
libs=-lpthread -lgdbm -lm -lcrypt -lutil -lc
perllibs=-lpthread -lm -lcrypt -lutil -lc
libc=, so=so, useshrplib=false, libperl=libperl.a
gnulibc_version=''
Dynamic Linking:
dlsrc=dl_dlopen.xs, dlext=so, d_dlsymun=undef, ccdlflags=' '
cccdlflags='-DPIC -fPIC', lddlflags='-shared -L/usr/local/lib -fstack-protector'
Characteristics of this binary (from libperl):
Compile-time options: HAS_TIMES PERLIO_LAYERS PERL_DONT_CREATE_GVSV
PERL_HASH_FUNC_ONE_AT_A_TIME_HARD PERL_MALLOC_WRAP
PERL_NEW_COPY_ON_WRITE PERL_PRESERVE_IVUV
USE_64_BIT_ALL USE_64_BIT_INT USE_LARGE_FILES
USE_LOCALE USE_LOCALE_COLLATE USE_LOCALE_CTYPE
USE_LOCALE_NUMERIC USE_LOCALE_TIME USE_PERLIO
USE_PERL_ATOF
Built under freebsd
Compiled at Jun 1 2015 20:19:01
%ENV:
PERL5LIB=""
PERL5OPT=""
PERL5_CPANPLUS_IS_RUNNING="25470"
PERL5_CPAN_IS_RUNNING="25470"
PERL5_CPAN_IS_RUNNING_IN_RECURSION="25265,25470"
PERLDOC="-MPod::Perldoc::ToTextOverstrike"
PERL_BATCH="yes"
PERL_CANARY_STABILITY_NOPROMPT="1"
PERL_CPAN_REPORTER_CONFIG="/var/tmp/cpansmoker-1023/2017111509/cpanreporter_000_config.ini"
PERL_EXTUTILS_AUTOINSTALL="--defaultdeps"
@INC:
/usr/perl5.22.0p/lib/site_perl/5.22.0/amd64-freebsd
/usr/perl5.22.0p/lib/site_perl/5.22.0
/usr/perl5.22.0p/lib/5.22.0/amd64-freebsd
/usr/perl5.22.0p/lib/5.22.0
.