Report for XML-Schema-0.07

Back
From: metabase:user:30ae4450-2aae-11df-837a-5e0a49663a4f
Subject: PASS XML-Schema-0.07 v5.12.2 
Date: 2014-08-21T14:59:02Z

This distribution has been tested as part of the CPAN Testers
project, supporting the Perl programming language.  See
http://wiki.cpantesters.org/ for more information or email
questions to cpan-testers-discuss@perl.org


--
Dear Andy Wardley,

This is a computer-generated report for XML-Schema-0.07
on perl 5.12.2, created by CPAN-Reporter-1.2011.

Thank you for uploading your work to CPAN.  Congratulations!
All tests were successful.

Sections of this report:

    * Tester comments
    * Program output
    * Prerequisites
    * Environment and other context

------------------------------
TESTER COMMENTS
------------------------------

Additional comments from tester:

this report is from an automated smoke testing program
and was not reviewed by a human for accuracy

------------------------------
PROGRAM OUTPUT
------------------------------

Output from 'C:\strawberry\c\bin\dmake.EXE test':

C:\strawberry\perl\bin\perl.exe "-MExtUtils::Command::MM" "-MTest::Harness" "-e" "undef *Test::Harness::Switches; test_harness(0, 'blib\lib', 'blib\arch')" t/*.t
Use of uninitialized value in addition (+) at lib/XML/Schema/Type/Builtin.pm line 198.
Use of uninitialized value in numeric le (<=) at lib/XML/Schema/Facet/Builtin.pm line 319.
Use of uninitialized value in addition (+) at lib/XML/Schema/Type/Builtin.pm line 198.
Use of uninitialized value in numeric le (<=) at lib/XML/Schema/Facet/Builtin.pm line 319.
Use of uninitialized value in addition (+) at lib/XML/Schema/Type/Builtin.pm line 198.
Use of uninitialized value in numeric le (<=) at lib/XML/Schema/Facet/Builtin.pm line 319.
Use of uninitialized value in addition (+) at lib/XML/Schema/Type/Builtin.pm line 198.
Use of uninitialized value in numeric le (<=) at lib/XML/Schema/Facet/Builtin.pm line 319.
Use of uninitialized value in addition (+) at lib/XML/Schema/Type/Builtin.pm line 198.
Use of uninitialized value in numeric le (<=) at lib/XML/Schema/Facet/Builtin.pm line 319.
Use of uninitialized value in addition (+) at lib/XML/Schema/Type/Builtin.pm line 198.
Use of uninitialized value in numeric le (<=) at lib/XML/Schema/Facet/Builtin.pm line 319.
Use of uninitialized value in addition (+) at lib/XML/Schema/Type/Builtin.pm line 198.
Use of uninitialized value in numeric le (<=) at lib/XML/Schema/Facet/Builtin.pm line 319.
Use of uninitialized value in addition (+) at lib/XML/Schema/Type/Builtin.pm line 198.
Use of uninitialized value in numeric le (<=) at lib/XML/Schema/Facet/Builtin.pm line 319.
Use of uninitialized value in addition (+) at lib/XML/Schema/Type/Builtin.pm line 198.
Use of uninitialized value in numeric le (<=) at lib/XML/Schema/Facet/Builtin.pm line 319.
Use of uninitialized value in addition (+) at lib/XML/Schema/Type/Builtin.pm line 198.
Use of uninitialized value in numeric le (<=) at lib/XML/Schema/Facet/Builtin.pm line 319.
Use of uninitialized value in addition (+) at lib/XML/Schema/Type/Builtin.pm line 198.
Use of uninitialized value in numeric le (<=) at lib/XML/Schema/Facet/Builtin.pm line 319.
Use of uninitialized value in addition (+) at lib/XML/Schema/Type/Builtin.pm line 198.
Use of uninitialized value in numeric le (<=) at lib/XML/Schema/Facet/Builtin.pm line 319.
Use of uninitialized value in addition (+) at lib/XML/Schema/Type/Builtin.pm line 198.
Use of uninitialized value in numeric le (<=) at lib/XML/Schema/Facet/Builtin.pm line 319.
Use of uninitialized value in addition (+) at lib/XML/Schema/Type/Builtin.pm line 198.
Use of uninitialized value in numeric le (<=) at lib/XML/Schema/Facet/Builtin.pm line 319.
Use of uninitialized value in addition (+) at lib/XML/Schema/Type/Builtin.pm line 198.
Use of uninitialized value in numeric le (<=) at lib/XML/Schema/Facet/Builtin.pm line 319.
Use of uninitialized value in addition (+) at lib/XML/Schema/Type/Builtin.pm line 198.
Use of uninitialized value in numeric le (<=) at lib/XML/Schema/Facet/Builtin.pm line 319.
Use of uninitialized value in addition (+) at lib/XML/Schema/Type/Builtin.pm line 198.
Use of uninitialized value in numeric le (<=) at lib/XML/Schema/Facet/Builtin.pm line 319.
Use of uninitialized value in addition (+) at lib/XML/Schema/Type/Builtin.pm line 198.
Use of uninitialized value in numeric le (<=) at lib/XML/Schema/Facet/Builtin.pm line 319.
Use of uninitialized value in addition (+) at lib/XML/Schema/Type/Builtin.pm line 198.
Use of uninitialized value in numeric le (<=) at lib/XML/Schema/Facet/Builtin.pm line 319.
Use of uninitialized value in addition (+) at lib/XML/Schema/Type/Builtin.pm line 198.
Use of uninitialized value in numeric le (<=) at lib/XML/Schema/Facet/Builtin.pm line 319.
Use of uninitialized value in addition (+) at lib/XML/Schema/Type/Builtin.pm line 198.
Use of uninitialized value in numeric le (<=) at lib/XML/Schema/Facet/Builtin.pm line 319.
Use of uninitialized value in addition (+) at lib/XML/Schema/Type/Builtin.pm line 198.
Use of uninitialized value in numeric le (<=) at lib/XML/Schema/Facet/Builtin.pm line 319.
Use of uninitialized value in addition (+) at lib/XML/Schema/Type/Builtin.pm line 198.
Use of uninitialized value in numeric le (<=) at lib/XML/Schema/Facet/Builtin.pm line 319.
Use of uninitialized value in addition (+) at lib/XML/Schema/Type/Builtin.pm line 198.
Use of uninitialized value in numeric le (<=) at lib/XML/Schema/Facet/Builtin.pm line 319.
Use of uninitialized value in addition (+) at lib/XML/Schema/Type/Builtin.pm line 198.
Use of uninitialized value in numeric le (<=) at lib/XML/Schema/Facet/Builtin.pm line 319.
Use of uninitialized value in addition (+) at lib/XML/Schema/Type/Builtin.pm line 198.
Use of uninitialized value in numeric le (<=) at lib/XML/Schema/Facet/Builtin.pm line 319.
Use of uninitialized value in addition (+) at lib/XML/Schema/Type/Builtin.pm line 198.
Use of uninitialized value in numeric le (<=) at lib/XML/Schema/Facet/Builtin.pm line 319.
Use of uninitialized value in addition (+) at lib/XML/Schema/Type/Builtin.pm line 198.
Use of uninitialized value in numeric le (<=) at lib/XML/Schema/Facet/Builtin.pm line 319.
Use of uninitialized value in addition (+) at lib/XML/Schema/Type/Builtin.pm line 198.
Use of uninitialized value in numeric le (<=) at lib/XML/Schema/Facet/Builtin.pm line 319.
Use of uninitialized value in addition (+) at lib/XML/Schema/Type/Builtin.pm line 198.
Use of uninitialized value in numeric le (<=) at lib/XML/Schema/Facet/Builtin.pm line 319.
Use of uninitialized value in addition (+) at lib/XML/Schema/Type/Builtin.pm line 198.
Use of uninitialized value in numeric le (<=) at lib/XML/Schema/Facet/Builtin.pm line 319.
Use of uninitialized value in addition (+) at lib/XML/Schema/Type/Builtin.pm line 198.
Use of uninitialized value in numeric le (<=) at lib/XML/Schema/Facet/Builtin.pm line 319.
Use of uninitialized value in addition (+) at lib/XML/Schema/Type/Builtin.pm line 198.
Use of uninitialized value in numeric le (<=) at lib/XML/Schema/Facet/Builtin.pm line 319.
Use of uninitialized value in addition (+) at lib/XML/Schema/Type/Builtin.pm line 198.
Use of uninitialized value in numeric le (<=) at lib/XML/Schema/Facet/Builtin.pm line 319.
Use of uninitialized value in addition (+) at lib/XML/Schema/Type/Builtin.pm line 198.
Use of uninitialized value in numeric le (<=) at lib/XML/Schema/Facet/Builtin.pm line 319.
t/attrgroup.t .. ok
t/attribute.t .. ok
t/base.t ....... ok
Use of uninitialized value in addition (+) at lib/XML/Schema/Type/Builtin.pm line 198.
Use of uninitialized value in addition (+) at lib/XML/Schema/Type/Builtin.pm line 198.
Use of uninitialized value in addition (+) at lib/XML/Schema/Type/Builtin.pm line 198.
Use of uninitialized value in addition (+) at lib/XML/Schema/Type/Builtin.pm line 198.
Use of uninitialized value in numeric le (<=) at lib/XML/Schema/Facet/Builtin.pm line 319.
Use of uninitialized value in addition (+) at lib/XML/Schema/Type/Builtin.pm line 198.
Use of uninitialized value in numeric le (<=) at lib/XML/Schema/Facet/Builtin.pm line 319.
Use of uninitialized value in addition (+) at lib/XML/Schema/Type/Builtin.pm line 198.
Use of uninitialized value in numeric le (<=) at lib/XML/Schema/Facet/Builtin.pm line 319.
Use of uninitialized value in addition (+) at lib/XML/Schema/Type/Builtin.pm line 198.
Use of uninitialized value in numeric le (<=) at lib/XML/Schema/Facet/Builtin.pm line 319.
Use of uninitialized value in addition (+) at lib/XML/Schema/Type/Builtin.pm line 198.
Use of uninitialized value in numeric le (<=) at lib/XML/Schema/Facet/Builtin.pm line 319.
Use of uninitialized value in addition (+) at lib/XML/Schema/Type/Builtin.pm line 198.
Use of uninitialized value in numeric le (<=) at lib/XML/Schema/Facet/Builtin.pm line 319.
Use of uninitialized value in addition (+) at lib/XML/Schema/Type/Builtin.pm line 198.
Use of uninitialized value in numeric le (<=) at lib/XML/Schema/Facet/Builtin.pm line 319.
Use of uninitialized value in addition (+) at lib/XML/Schema/Type/Builtin.pm line 198.
Use of uninitialized value in numeric le (<=) at lib/XML/Schema/Facet/Builtin.pm line 319.
Use of uninitialized value in addition (+) at lib/XML/Schema/Type/Builtin.pm line 198.
Use of uninitialized value in numeric le (<=) at lib/XML/Schema/Facet/Builtin.pm line 319.
Use of uninitialized value in addition (+) at lib/XML/Schema/Type/Builtin.pm line 198.
Use of uninitialized value in numeric le (<=) at lib/XML/Schema/Facet/Builtin.pm line 319.
Use of uninitialized value in addition (+) at lib/XML/Schema/Type/Builtin.pm line 198.
Use of uninitialized value in numeric le (<=) at lib/XML/Schema/Facet/Builtin.pm line 319.
Use of uninitialized value in addition (+) at lib/XML/Schema/Type/Builtin.pm line 198.
Use of uninitialized value in numeric le (<=) at lib/XML/Schema/Facet/Builtin.pm line 319.
Use of uninitialized value in addition (+) at lib/XML/Schema/Type/Builtin.pm line 198.
Use of uninitialized value in numeric le (<=) at lib/XML/Schema/Facet/Builtin.pm line 319.
Use of uninitialized value in addition (+) at lib/XML/Schema/Type/Builtin.pm line 198.
Use of uninitialized value in numeric le (<=) at lib/XML/Schema/Facet/Builtin.pm line 319.
Use of uninitialized value in addition (+) at lib/XML/Schema/Type/Builtin.pm line 198.
Use of uninitialized value in numeric le (<=) at lib/XML/Schema/Facet/Builtin.pm line 319.
Use of uninitialized value in addition (+) at lib/XML/Schema/Type/Builtin.pm line 198.
Use of uninitialized value in numeric le (<=) at lib/XML/Schema/Facet/Builtin.pm line 319.
Use of uninitialized value in addition (+) at lib/XML/Schema/Type/Builtin.pm line 198.
Use of uninitialized value in numeric le (<=) at lib/XML/Schema/Facet/Builtin.pm line 319.
Use of uninitialized value in addition (+) at lib/XML/Schema/Type/Builtin.pm line 198.
Use of uninitialized value in numeric le (<=) at lib/XML/Schema/Facet/Builtin.pm line 319.
Use of uninitialized value in addition (+) at lib/XML/Schema/Type/Builtin.pm line 198.
Use of uninitialized value in numeric le (<=) at lib/XML/Schema/Facet/Builtin.pm line 319.
Use of uninitialized value in addition (+) at lib/XML/Schema/Type/Builtin.pm line 198.
Use of uninitialized value in numeric le (<=) at lib/XML/Schema/Facet/Builtin.pm line 319.
Use of uninitialized value in addition (+) at lib/XML/Schema/Type/Builtin.pm line 198.
Use of uninitialized value in numeric le (<=) at lib/XML/Schema/Facet/Builtin.pm line 319.
Use of uninitialized value in addition (+) at lib/XML/Schema/Type/Builtin.pm line 198.
Use of uninitialized value in numeric le (<=) at lib/XML/Schema/Facet/Builtin.pm line 319.
Use of uninitialized value in addition (+) at lib/XML/Schema/Type/Builtin.pm line 198.
Use of uninitialized value in numeric le (<=) at lib/XML/Schema/Facet/Builtin.pm line 319.
Use of uninitialized value in addition (+) at lib/XML/Schema/Type/Builtin.pm line 198.
Use of uninitialized value in numeric le (<=) at lib/XML/Schema/Facet/Builtin.pm line 319.
Use of uninitialized value in addition (+) at lib/XML/Schema/Type/Builtin.pm line 198.
Use of uninitialized value in numeric le (<=) at lib/XML/Schema/Facet/Builtin.pm line 319.
Use of uninitialized value in addition (+) at lib/XML/Schema/Type/Builtin.pm line 198.
Use of uninitialized value in numeric le (<=) at lib/XML/Schema/Facet/Builtin.pm line 319.
Use of uninitialized value in addition (+) at lib/XML/Schema/Type/Builtin.pm line 198.
Use of uninitialized value in numeric le (<=) at lib/XML/Schema/Facet/Builtin.pm line 319.
Use of uninitialized value in addition (+) at lib/XML/Schema/Type/Builtin.pm line 198.
Use of uninitialized value in numeric le (<=) at lib/XML/Schema/Facet/Builtin.pm line 319.
Use of uninitialized value in addition (+) at lib/XML/Schema/Type/Builtin.pm line 198.
Use of uninitialized value in numeric le (<=) at lib/XML/Schema/Facet/Builtin.pm line 319.
Use of uninitialized value in addition (+) at lib/XML/Schema/Type/Builtin.pm line 198.
Use of uninitialized value in numeric le (<=) at lib/XML/Schema/Facet/Builtin.pm line 319.
Use of uninitialized value in addition (+) at lib/XML/Schema/Type/Builtin.pm line 198.
Use of uninitialized value in numeric le (<=) at lib/XML/Schema/Facet/Builtin.pm line 319.
Use of uninitialized value in addition (+) at lib/XML/Schema/Type/Builtin.pm line 198.
Use of uninitialized value in numeric le (<=) at lib/XML/Schema/Facet/Builtin.pm line 319.
Use of uninitialized value in addition (+) at lib/XML/Schema/Type/Builtin.pm line 198.
Use of uninitialized value in numeric le (<=) at lib/XML/Schema/Facet/Builtin.pm line 319.
Use of uninitialized value in addition (+) at lib/XML/Schema/Type/Builtin.pm line 198.
Use of uninitialized value in numeric le (<=) at lib/XML/Schema/Facet/Builtin.pm line 319.
Use of uninitialized value in addition (+) at lib/XML/Schema/Type/Builtin.pm line 198.
Use of uninitialized value in numeric le (<=) at lib/XML/Schema/Facet/Builtin.pm line 319.
Use of uninitialized value in addition (+) at lib/XML/Schema/Type/Builtin.pm line 198.
Use of uninitialized value in numeric le (<=) at lib/XML/Schema/Facet/Builtin.pm line 319.
Use of uninitialized value in addition (+) at lib/XML/Schema/Type/Builtin.pm line 198.
Use of uninitialized value in numeric le (<=) at lib/XML/Schema/Facet/Builtin.pm line 319.
Use of uninitialized value in addition (+) at lib/XML/Schema/Type/Builtin.pm line 198.
Use of uninitialized value in numeric le (<=) at lib/XML/Schema/Facet/Builtin.pm line 319.
Use of uninitialized value in addition (+) at lib/XML/Schema/Type/Builtin.pm line 198.
Use of uninitialized value in numeric le (<=) at lib/XML/Schema/Facet/Builtin.pm line 319.
Use of uninitialized value in addition (+) at lib/XML/Schema/Type/Builtin.pm line 198.
Use of uninitialized value in numeric le (<=) at lib/XML/Schema/Facet/Builtin.pm line 319.
Use of uninitialized value in addition (+) at lib/XML/Schema/Type/Builtin.pm line 198.
Use of uninitialized value in numeric le (<=) at lib/XML/Schema/Facet/Builtin.pm line 319.
Use of uninitialized value in addition (+) at lib/XML/Schema/Type/Builtin.pm line 198.
Use of uninitialized value in numeric le (<=) at lib/XML/Schema/Facet/Builtin.pm line 319.
Use of uninitialized value in addition (+) at lib/XML/Schema/Type/Builtin.pm line 198.
Use of uninitialized value in numeric le (<=) at lib/XML/Schema/Facet/Builtin.pm line 319.
Use of uninitialized value in addition (+) at lib/XML/Schema/Type/Builtin.pm line 198.
Use of uninitialized value in numeric le (<=) at lib/XML/Schema/Facet/Builtin.pm line 319.
Use of uninitialized value in addition (+) at lib/XML/Schema/Type/Builtin.pm line 198.
Use of uninitialized value in numeric le (<=) at lib/XML/Schema/Facet/Builtin.pm line 319.
Use of uninitialized value in addition (+) at lib/XML/Schema/Type/Builtin.pm line 198.
Use of uninitialized value in numeric le (<=) at lib/XML/Schema/Facet/Builtin.pm line 319.
Use of uninitialized value in addition (+) at lib/XML/Schema/Type/Builtin.pm line 198.
Use of uninitialized value in numeric le (<=) at lib/XML/Schema/Facet/Builtin.pm line 319.
Use of uninitialized value in addition (+) at lib/XML/Schema/Type/Builtin.pm line 198.
Use of uninitialized value in numeric le (<=) at lib/XML/Schema/Facet/Builtin.pm line 319.
Use of uninitialized value in addition (+) at lib/XML/Schema/Type/Builtin.pm line 198.
Use of uninitialized value in numeric le (<=) at lib/XML/Schema/Facet/Builtin.pm line 319.
Use of uninitialized value in addition (+) at lib/XML/Schema/Type/Builtin.pm line 198.
Use of uninitialized value in numeric le (<=) at lib/XML/Schema/Facet/Builtin.pm line 319.
Use of uninitialized value in addition (+) at lib/XML/Schema/Type/Builtin.pm line 198.
Use of uninitialized value in numeric le (<=) at lib/XML/Schema/Facet/Builtin.pm line 319.
Use of uninitialized value in addition (+) at lib/XML/Schema/Type/Builtin.pm line 198.
Use of uninitialized value in numeric le (<=) at lib/XML/Schema/Facet/Builtin.pm line 319.
t/builtin.t .... ok
t/choice.t ..... ok
t/complex.t .... ok
t/constants.t .. ok
t/content.t .... ok
t/element.t .... ok
t/enum.t ....... ok
t/exception.t .. ok
t/facet.t ...... ok
t/handler.t .... ok
t/id.t ......... ok
t/instance.t ... ok
Use of uninitialized value in addition (+) at lib/XML/Schema/Type/Builtin.pm line 198.
Use of uninitialized value in numeric le (<=) at lib/XML/Schema/Facet/Builtin.pm line 319.
Use of uninitialized value in addition (+) at lib/XML/Schema/Type/Builtin.pm line 198.
Use of uninitialized value in numeric le (<=) at lib/XML/Schema/Facet/Builtin.pm line 319.
Use of uninitialized value in addition (+) at lib/XML/Schema/Type/Builtin.pm line 198.
Use of uninitialized value in numeric le (<=) at lib/XML/Schema/Facet/Builtin.pm line 319.
Use of uninitialized value in addition (+) at lib/XML/Schema/Type/Builtin.pm line 198.
Use of uninitialized value in numeric le (<=) at lib/XML/Schema/Facet/Builtin.pm line 319.
Use of uninitialized value in addition (+) at lib/XML/Schema/Type/Builtin.pm line 198.
Use of uninitialized value in numeric le (<=) at lib/XML/Schema/Facet/Builtin.pm line 319.
Use of uninitialized value in addition (+) at lib/XML/Schema/Type/Builtin.pm line 198.
Use of uninitialized value in numeric le (<=) at lib/XML/Schema/Facet/Builtin.pm line 319.
Use of uninitialized value in addition (+) at lib/XML/Schema/Type/Builtin.pm line 198.
Use of uninitialized value in numeric le (<=) at lib/XML/Schema/Facet/Builtin.pm line 319.
Use of uninitialized value in addition (+) at lib/XML/Schema/Type/Builtin.pm line 198.
Use of uninitialized value in numeric le (<=) at lib/XML/Schema/Facet/Builtin.pm line 319.
Use of uninitialized value in addition (+) at lib/XML/Schema/Type/Builtin.pm line 198.
Use of uninitialized value in numeric le (<=) at lib/XML/Schema/Facet/Builtin.pm line 319.
Use of uninitialized value in addition (+) at lib/XML/Schema/Type/Builtin.pm line 198.
Use of uninitialized value in numeric le (<=) at lib/XML/Schema/Facet/Builtin.pm line 319.
Use of uninitialized value in addition (+) at lib/XML/Schema/Type/Builtin.pm line 198.
Use of uninitialized value in numeric le (<=) at lib/XML/Schema/Facet/Builtin.pm line 319.
Use of uninitialized value in addition (+) at lib/XML/Schema/Type/Builtin.pm line 198.
Use of uninitialized value in numeric le (<=) at lib/XML/Schema/Facet/Builtin.pm line 319.
Use of uninitialized value in addition (+) at lib/XML/Schema/Type/Builtin.pm line 198.
Use of uninitialized value in numeric le (<=) at lib/XML/Schema/Facet/Builtin.pm line 319.
Use of uninitialized value in addition (+) at lib/XML/Schema/Type/Builtin.pm line 198.
Use of uninitialized value in numeric le (<=) at lib/XML/Schema/Facet/Builtin.pm line 319.
Use of uninitialized value in addition (+) at lib/XML/Schema/Type/Builtin.pm line 198.
Use of uninitialized value in numeric le (<=) at lib/XML/Schema/Facet/Builtin.pm line 319.
Use of uninitialized value in addition (+) at lib/XML/Schema/Type/Builtin.pm line 198.
Use of uninitialized value in numeric le (<=) at lib/XML/Schema/Facet/Builtin.pm line 319.
Use of uninitialized value in addition (+) at lib/XML/Schema/Type/Builtin.pm line 198.
Use of uninitialized value in numeric le (<=) at lib/XML/Schema/Facet/Builtin.pm line 319.
Use of uninitialized value in addition (+) at lib/XML/Schema/Type/Builtin.pm line 198.
Use of uninitialized value in numeric le (<=) at lib/XML/Schema/Facet/Builtin.pm line 319.
Use of uninitialized value in addition (+) at lib/XML/Schema/Type/Builtin.pm line 198.
Use of uninitialized value in numeric le (<=) at lib/XML/Schema/Facet/Builtin.pm line 319.
Use of uninitialized value in addition (+) at lib/XML/Schema/Type/Builtin.pm line 198.
Use of uninitialized value in numeric le (<=) at lib/XML/Schema/Facet/Builtin.pm line 319.
Use of uninitialized value in addition (+) at lib/XML/Schema/Type/Builtin.pm line 198.
Use of uninitialized value in numeric le (<=) at lib/XML/Schema/Facet/Builtin.pm line 319.
t/list.t ....... ok
t/name.t ....... ok
t/names.t ...... ok
t/parser.t ..... ok
t/particle.t ... ok
t/person.t ..... ok
t/scheduler.t .. ok
Use of uninitialized value in addition (+) at lib/XML/Schema/Type/Builtin.pm line 198.
Use of uninitialized value in numeric le (<=) at lib/XML/Schema/Facet/Builtin.pm line 319.
t/scope.t ...... ok
t/sequence.t ... ok
t/simple.t ..... ok
t/type.t ....... ok
Use of uninitialized value in addition (+) at lib/XML/Schema/Type/Builtin.pm line 198.
Use of uninitialized value in numeric le (<=) at lib/XML/Schema/Facet/Builtin.pm line 319.
t/union.t ...... ok
t/wildcard.t ... ok
All tests successful.
Files=28, Tests=1466,  6 wallclock secs ( 0.06 usr +  0.18 sys =  0.24 CPU)
Result: PASS

------------------------------
PREREQUISITES
------------------------------

Prerequisite modules loaded:

build_requires:

    Module              Need Have
    ------------------- ---- ----
    ExtUtils::MakeMaker 0    6.98


------------------------------
ENVIRONMENT AND OTHER CONTEXT
------------------------------

Environment variables:

    AUTOMATED_TESTING = 1
    COMSPEC = C:\WINDOWS\system32\cmd.exe
    NUMBER_OF_PROCESSORS = 1
    PATH = C:\Program Files\Far Manager\;c:\Windows\system32;%c:\Windows\;c:\Windows\System32\Wbem;C:\Git\cmd;C:\strawberry\c\bin;C:\strawberry\perl\site\bin;C:\strawberry\perl\bin
    PERL5LIB = C:\strawberry\cpan\build\Class-Multimethods-1.70-n2Las1/blib/arch;C:\strawberry\cpan\build\Class-Multimethods-1.70-n2Las1/blib/lib;C:\strawberry\cpan\build\Business-UPC-0.05-Bzd173/blib/arch;C:\strawberry\cpan\build\Business-UPC-0.05-Bzd173/blib/lib;C:\strawberry\cpan\build\Business-CINS-1.13-3hEAzS/blib/arch;C:\strawberry\cpan\build\Business-CINS-1.13-3hEAzS/blib/lib;C:\strawberry\cpan\build\Algorithm-LUHN-1.01-prVEjQ/blib/arch;C:\strawberry\cpan\build\Algorithm-LUHN-1.01-prVEjQ/blib/lib;C:\strawberry\cpan\build\Business-CreditCard-0.32-SovO31/blib/arch;C:\strawberry\cpan\build\Business-CreditCard-0.32-SovO31/blib/lib;C:\strawberry\cpan\build\Attribute-Util-1.07-0IR0j1/blib/arch;C:\strawberry\cpan\build\Attribute-Util-1.07-0IR0j1/blib/lib;C:\strawberry\cpan\build\Locale-SubCountry-1.63-BwKfGo/blib/arch;C:\strawberry\cpan\build\Locale-SubCountry-1.63-BwKfGo/blib/lib;C:\strawberry\cpan\build\IO-Extended-0.16-zabe7i/blib/arch;C:\strawberry\cpan\build\IO-Extended-0.16-zabe7i/blib/lib;C:\strawberry\cpan\build\Tie-ListKeyedHash-1.02-gtmQSE/blib/arch;C:\strawberry\cpan\build\Tie-ListKeyedHash-1.02-gtmQSE/blib/lib;C:\strawberry\cpan\build\X500-DN-0.29-EeTMQv/blib/arch;C:\strawberry\cpan\build\X500-DN-0.29-EeTMQv/blib/lib;C:\strawberry\cpan\build\Business-ISSN-0.91-p9uu9p/blib/arch;C:\strawberry\cpan\build\Business-ISSN-0.91-p9uu9p/blib/lib;C:\strawberry\cpan\build\Net-IPv6Addr-0.2-vF4Cqm/blib/arch;C:\strawberry\cpan\build\Net-IPv6Addr-0.2-vF4Cqm/blib/lib;C:\strawberry\cpan\build\String-ExpandEscapes-0.01-pRT5Oz/blib/arch;C:\strawberry\cpan\build\String-ExpandEscapes-0.01-pRT5Oz/blib/lib
    PERL5OPT = 
    PERL5_CPANPLUS_IS_RUNNING = 1780
    PERL5_CPAN_IS_RUNNING = 1780
    PERL5_CPAN_IS_RUNNING_IN_RECURSION = 1676,1780
    PERL_CR_SMOKER_CURRENT = Data-Type-0.02.02
    PERL_EXTUTILS_AUTOINSTALL = --defaultdeps
    PERL_MM_USE_DEFAULT = 1
    PROCESSOR_IDENTIFIER = x86 Family 16 Model 5 Stepping 3, AuthenticAMD
    TEMP = C:\DOCUME~1\c\LOCALS~1\Temp
    TERM = dumb

Perl special variables (and OS-specific diagnostics, for MSWin32):

    $^X = C:\strawberry\perl\bin\perl.exe
    $UID/$EUID = 0 / 0
    $GID = 0
    $EGID = 0
    Win32::GetOSName = WinXP/.Net
    Win32::GetOSVersion = Service Pack 3, 5, 1, 2600, 2, 3, 0, 256, 1
    Win32::FsType = NTFS
    Win32::IsAdminUser = 1

Perl module toolchain versions installed:

    Module              Have    
    ------------------- --------
    CPAN                2.00    
    CPAN::Meta          2.141520
    Cwd                 3.47    
    ExtUtils::CBuilder  0.280216
    ExtUtils::Command   1.16    
    ExtUtils::Install   1.55    
    ExtUtils::MakeMaker 6.98    
    ExtUtils::Manifest  1.60    
    ExtUtils::ParseXS   3.24    
    File::Spec          3.47    
    JSON                2.90    
    JSON::PP            2.27203 
    Module::Build       0.4206  
    Module::Signature   0.66    
    Parse::CPAN::Meta   1.4414  
    Test::Harness       3.32    
    Test::More          1.001003
    YAML                0.98    
    YAML::Syck          1.27    
    version             0.9908  


--

Summary of my perl5 (revision 5 version 12 subversion 2) configuration:
   
  Platform:
    osname=MSWin32, osvers=5.1, archname=MSWin32-x86-multi-thread
    uname='Win32 strawberryperl 5.12.2.0 #1 Fri Nov  5 05:17:27 2010 i386'
    config_args='undef'
    hint=recommended, useposix=true, d_sigaction=undef
    useithreads=define, usemultiplicity=define
    useperlio=define, d_sfio=undef, uselargefiles=define, usesocks=undef
    use64bitint=undef, use64bitall=undef, uselongdouble=undef
    usemymalloc=n, bincompat5005=undef
  Compiler:
    cc='gcc', ccflags =' -s -O2 -DWIN32 -DHAVE_DES_FCRYPT  -DUSE_SITECUSTOMIZE -DPERL_IMPLICIT_CONTEXT -DPERL_IMPLICIT_SYS -fno-strict-aliasing -mms-bitfields -DPERL_MSVCRT_READFIX',
    optimize='-s -O2',
    cppflags='-DWIN32'
    ccversion='', gccversion='4.4.3', gccosandvers=''
    intsize=4, longsize=4, ptrsize=4, doublesize=8, byteorder=1234
    d_longlong=undef, longlongsize=8, d_longdbl=define, longdblsize=12
    ivtype='long', ivsize=4, nvtype='double', nvsize=8, Off_t='long long', lseeksize=8
    alignbytes=8, prototype=define
  Linker and Libraries:
    ld='g++', ldflags ='-s -L"C:\strawberry\perl\lib\CORE" -L"C:\strawberry\c\lib"'
    libpth=C:\strawberry\c\lib C:\strawberry\c\i686-w64-mingw32\lib
    libs=-lmoldname -lkernel32 -luser32 -lgdi32 -lwinspool -lcomdlg32 -ladvapi32 -lshell32 -lole32 -loleaut32 -lnetapi32 -luuid -lws2_32 -lmpr -lwinmm -lversion -lodbc32 -lodbccp32 -lcomctl32
    perllibs=-lmoldname -lkernel32 -luser32 -lgdi32 -lwinspool -lcomdlg32 -ladvapi32 -lshell32 -lole32 -loleaut32 -lnetapi32 -luuid -lws2_32 -lmpr -lwinmm -lversion -lodbc32 -lodbccp32 -lcomctl32
    libc=, so=dll, useshrplib=true, libperl=libperl512.a
    gnulibc_version=''
  Dynamic Linking:
    dlsrc=dl_win32.xs, dlext=dll, d_dlsymun=undef, ccdlflags=' '
    cccdlflags=' ', lddlflags='-mdll -s -L"C:\strawberry\perl\lib\CORE" -L"C:\strawberry\c\lib"'


Characteristics of this binary (from libperl): 
  Compile-time options: MULTIPLICITY PERL_DONT_CREATE_GVSV
                        PERL_IMPLICIT_CONTEXT PERL_IMPLICIT_SYS
                        PERL_MALLOC_WRAP PL_OP_SLAB_ALLOC USE_ITHREADS
                        USE_LARGE_FILES USE_PERLIO USE_PERL_ATOF
                        USE_SITECUSTOMIZE
  Built under MSWin32
  Compiled at Nov  5 2010 08:39:08
  %ENV:
    PERL5LIB="C:\strawberry\cpan\build\Class-Multimethods-1.70-n2Las1/blib/arch;C:\strawberry\cpan\build\Class-Multimethods-1.70-n2Las1/blib/lib;C:\strawberry\cpan\build\Business-UPC-0.05-Bzd173/blib/arch;C:\strawberry\cpan\build\Business-UPC-0.05-Bzd173/blib/lib;C:\strawberry\cpan\build\Business-CINS-1.13-3hEAzS/blib/arch;C:\strawberry\cpan\build\Business-CINS-1.13-3hEAzS/blib/lib;C:\strawberry\cpan\build\Algorithm-LUHN-1.01-prVEjQ/blib/arch;C:\strawberry\cpan\build\Algorithm-LUHN-1.01-prVEjQ/blib/lib;C:\strawberry\cpan\build\Business-CreditCard-0.32-SovO31/blib/arch;C:\strawberry\cpan\build\Business-CreditCard-0.32-SovO31/blib/lib;C:\strawberry\cpan\build\Attribute-Util-1.07-0IR0j1/blib/arch;C:\strawberry\cpan\build\Attribute-Util-1.07-0IR0j1/blib/lib;C:\strawberry\cpan\build\Locale-SubCountry-1.63-BwKfGo/blib/arch;C:\strawberry\cpan\build\Locale-SubCountry-1.63-BwKfGo/blib/lib;C:\strawberry\cpan\build\IO-Extended-0.16-zabe7i/blib/arch;C:\strawberry\cpan\build\IO-Extended-0.16-zabe7i/blib/lib;C:\strawberry\cpan\build\Tie-ListKeyedHash-1.02-gtmQSE/blib/arch;C:\strawberry\cpan\build\Tie-ListKeyedHash-1.02-gtmQSE/blib/lib;C:\strawberry\cpan\build\X500-DN-0.29-EeTMQv/blib/arch;C:\strawberry\cpan\build\X500-DN-0.29-EeTMQv/blib/lib;C:\strawberry\cpan\build\Business-ISSN-0.91-p9uu9p/blib/arch;C:\strawberry\cpan\build\Business-ISSN-0.91-p9uu9p/blib/lib;C:\strawberry\cpan\build\Net-IPv6Addr-0.2-vF4Cqm/blib/arch;C:\strawberry\cpan\build\Net-IPv6Addr-0.2-vF4Cqm/blib/lib;C:\strawberry\cpan\build\String-ExpandEscapes-0.01-pRT5Oz/blib/arch;C:\strawberry\cpan\build\String-ExpandEscapes-0.01-pRT5Oz/blib/lib"
    PERL5_CPANPLUS_IS_RUNNING="1780"
    PERL5_CPAN_IS_RUNNING="1780"
    PERL5_CPAN_IS_RUNNING_IN_RECURSION="1676,1780"
    PERL_CR_SMOKER_CURRENT="Data-Type-0.02.02"
    PERL_EXTUTILS_AUTOINSTALL="--defaultdeps"
    PERL_MM_USE_DEFAULT="1"
  @INC:
    C:\strawberry\cpan\build\Class-Multimethods-1.70-n2Las1/blib/arch
    C:\strawberry\cpan\build\Class-Multimethods-1.70-n2Las1/blib/lib
    C:\strawberry\cpan\build\Business-UPC-0.05-Bzd173/blib/arch
    C:\strawberry\cpan\build\Business-UPC-0.05-Bzd173/blib/lib
    C:\strawberry\cpan\build\Business-CINS-1.13-3hEAzS/blib/arch
    C:\strawberry\cpan\build\Business-CINS-1.13-3hEAzS/blib/lib
    C:\strawberry\cpan\build\Algorithm-LUHN-1.01-prVEjQ/blib/arch
    C:\strawberry\cpan\build\Algorithm-LUHN-1.01-prVEjQ/blib/lib
    C:\strawberry\cpan\build\Business-CreditCard-0.32-SovO31/blib/arch
    C:\strawberry\cpan\build\Business-CreditCard-0.32-SovO31/blib/lib
    C:\strawberry\cpan\build\Attribute-Util-1.07-0IR0j1/blib/arch
    C:\strawberry\cpan\build\Attribute-Util-1.07-0IR0j1/blib/lib
    C:\strawberry\cpan\build\Locale-SubCountry-1.63-BwKfGo/blib/arch
    C:\strawberry\cpan\build\Locale-SubCountry-1.63-BwKfGo/blib/lib
    C:\strawberry\cpan\build\IO-Extended-0.16-zabe7i/blib/arch
    C:\strawberry\cpan\build\IO-Extended-0.16-zabe7i/blib/lib
    C:\strawberry\cpan\build\Tie-ListKeyedHash-1.02-gtmQSE/blib/arch
    C:\strawberry\cpan\build\Tie-ListKeyedHash-1.02-gtmQSE/blib/lib
    C:\strawberry\cpan\build\X500-DN-0.29-EeTMQv/blib/arch
    C:\strawberry\cpan\build\X500-DN-0.29-EeTMQv/blib/lib
    C:\strawberry\cpan\build\Business-ISSN-0.91-p9uu9p/blib/arch
    C:\strawberry\cpan\build\Business-ISSN-0.91-p9uu9p/blib/lib
    C:\strawberry\cpan\build\Net-IPv6Addr-0.2-vF4Cqm/blib/arch
    C:\strawberry\cpan\build\Net-IPv6Addr-0.2-vF4Cqm/blib/lib
    C:\strawberry\cpan\build\String-ExpandEscapes-0.01-pRT5Oz/blib/arch
    C:\strawberry\cpan\build\String-ExpandEscapes-0.01-pRT5Oz/blib/lib
    C:/strawberry/perl/site/lib
    C:/strawberry/perl/vendor/lib
    C:/strawberry/perl/lib
    .