Unicode-EastAsianWidth-Detect v0.03 Perl 5 v5.20.3 x86_64-linux
- Status
- Pass
- From
- Nigel Horne
- Dist
-
Unicode-EastAsianWidth-Detect v0.03
- Platform
- Perl 5 v5.20.3 x86_64-linux
- Date
- 2017-10-18 11:47:25
- ID
- 1c7c391e-b3fa-11e7-9be1-bbe64cf6c7cd
This distribution has been tested as part of the CPAN Testers
project, supporting the Perl programming language. See
http://wiki.cpantesters.org/ for more information or email
questions to cpan-testers-discuss@perl.org
--
Dear Yasuhiro Matsumoto,
This is a computer-generated report for Unicode-EastAsianWidth-Detect-0.03
on perl 5.20.3, created by CPAN-Reporter-1.2018.
Thank you for uploading your work to CPAN. Congratulations!
All tests were successful.
Sections of this report:
* Tester comments
* Program output
* Prerequisites
* Environment and other context
------------------------------
TESTER COMMENTS
------------------------------
Additional comments from tester:
this report is from an automated smoke testing program
and was not reviewed by a human for accuracy
------------------------------
PROGRAM OUTPUT
------------------------------
Output from './Build test':
t/02_windows.t .. skipped: 1
t/00_compile.t .. ok
t/01_simple.t ... ok
All tests successful.
Files=3, Tests=8, 0 wallclock secs ( 0.01 usr 0.00 sys + 0.09 cusr 0.01 csys = 0.11 CPU)
Result: PASS
------------------------------
PREREQUISITES
------------------------------
Prerequisite modules loaded:
requires:
Module Need Have
------------------- -------- --------
perl 5.008005 5.020003
build_requires:
Module Need Have
------------------- -------- --------
ExtUtils::CBuilder 0 0.280217
Test::More 0.98 1.001002
configure_requires:
Module Need Have
------------------- -------- --------
CPAN::Meta 0 2.143240
CPAN::Meta::Prereqs 0 2.143240
Module::Build 0.38 0.4224
------------------------------
ENVIRONMENT AND OTHER CONTEXT
------------------------------
Environment variables:
AUTOMATED_TESTING = 1
HARNESS_OPTIONS = j4
LANG = en_GB.UTF-8
LANGUAGE = en_GB:en
PATH = /home/njh/perl5/perlbrew/bin:/home/njh/perl5/perlbrew/perls/perl-5.20.3-64all/bin:/home/njh/perl5/perlbrew/bin:/usr/bin:/bin
PERL5LIB = /home/njh/.cpan/build/Text-VisualWidth-PP-0.04-21/blib/arch:/home/njh/.cpan/build/Text-VisualWidth-PP-0.04-21/blib/lib:/home/njh/.cpan/build/Unicode-EastAsianWidth-1.33-21/blib/arch:/home/njh/.cpan/build/Unicode-EastAsianWidth-1.33-21/blib/lib:/home/njh/.cpan/build/TermReadKey-2.37-5/blib/arch:/home/njh/.cpan/build/TermReadKey-2.37-5/blib/lib:/home/njh/.cpan/build/Class-Accessor-Lite-0.08-21/blib/arch:/home/njh/.cpan/build/Class-Accessor-Lite-0.08-21/blib/lib:/home/njh/.cpan/build/JSON-Parse-0.53-24/blib/arch:/home/njh/.cpan/build/JSON-Parse-0.53-24/blib/lib
PERL5OPT =
PERL5_CPANPLUS_IS_RUNNING = 4250
PERL5_CPAN_IS_RUNNING = 4250
PERLBREW_BASHRC_VERSION = 0.80
PERLBREW_HOME = /home/njh/.perlbrew
PERLBREW_LIB =
PERLBREW_MANPATH = /home/njh/perl5/perlbrew/perls/perl-5.20.3-64all/man
PERLBREW_PATH = /home/njh/perl5/perlbrew/bin:/home/njh/perl5/perlbrew/perls/perl-5.20.3-64all/bin
PERLBREW_PERL = perl-5.20.3-64all
PERLBREW_ROOT = /home/njh/perl5/perlbrew
PERLBREW_VERSION = 0.80
PERL_LOCAL_LIB_ROOT =
SHELL = /bin/sh
Perl special variables (and OS-specific diagnostics, for MSWin32):
$^X = /home/njh/perl5/perlbrew/perls/perl-5.20.3-64all/bin/perl
$UID/$EUID = 1000 / 1000
$GID = 1000 4 24 25 29 30 44 46 108 112 1000
$EGID = 1000 4 24 25 29 30 44 46 108 112 1000
Perl module toolchain versions installed:
Module Have
------------------- --------
CPAN 2.16
CPAN::Meta 2.143240
Cwd 3.48_01
ExtUtils::CBuilder 0.280217
ExtUtils::Command 7.30
ExtUtils::Install 2.06
ExtUtils::MakeMaker 7.30
ExtUtils::Manifest 1.70
ExtUtils::ParseXS 3.24
File::Spec 3.48_01
JSON n/a
JSON::PP 2.27203
Module::Build 0.4224
Module::Signature n/a
Parse::CPAN::Meta 1.4414
Test::Harness 3.30
Test::More 1.001002
YAML n/a
YAML::Syck 1.30
version 0.9909
--
Summary of my perl5 (revision 5 version 20 subversion 3) configuration:
Platform:
osname=linux, osvers=4.11.0-1-amd64, archname=x86_64-linux
uname='linux gateway 4.11.0-1-amd64 #1 smp debian 4.11.6-1 (2017-06-19) x86_64 gnulinux '
config_args='-de -Dprefix=/home/njh/perl5/perlbrew/perls/perl-5.20.3-64all -Dusedevel -Duse64bitall -Accflags= -Aeval:scriptdir=/home/njh/perl5/perlbrew/perls/perl-5.20.3-64all/bin'
hint=recommended, useposix=true, d_sigaction=define
useithreads=undef, usemultiplicity=undef
use64bitint=define, use64bitall=define, uselongdouble=undef
usemymalloc=n, bincompat5005=undef
Compiler:
cc='cc', ccflags ='-fwrapv -fno-strict-aliasing -pipe -fstack-protector -I/usr/local/include -D_LARGEFILE_SOURCE -D_FILE_OFFSET_BITS=64',
optimize='-O2',
cppflags='-fwrapv -fno-strict-aliasing -pipe -fstack-protector -I/usr/local/include'
ccversion='', gccversion='7.2.0', gccosandvers=''
intsize=4, longsize=8, ptrsize=8, doublesize=8, byteorder=12345678
d_longlong=define, longlongsize=8, d_longdbl=define, longdblsize=16
ivtype='long', ivsize=8, nvtype='double', nvsize=8, Off_t='off_t', lseeksize=8
alignbytes=8, prototype=define
Linker and Libraries:
ld='cc', ldflags =' -fstack-protector -L/usr/local/lib'
libpth=/usr/local/lib /usr/lib/gcc/x86_64-linux-gnu/7/include-fixed /usr/include/x86_64-linux-gnu /usr/lib /lib/x86_64-linux-gnu /lib/../lib /usr/lib/x86_64-linux-gnu /usr/lib/../lib /lib
libs=-lpthread -lnsl -lgdbm -ldb -ldl -lm -lcrypt -lutil -lc -lgdbm_compat
perllibs=-lpthread -lnsl -ldl -lm -lcrypt -lutil -lc
libc=libc-2.24.so, so=so, useshrplib=false, libperl=libperl.a
gnulibc_version='2.24'
Dynamic Linking:
dlsrc=dl_dlopen.xs, dlext=so, d_dlsymun=undef, ccdlflags='-Wl,-E'
cccdlflags='-fPIC', lddlflags='-shared -O2 -L/usr/local/lib -fstack-protector'
Characteristics of this binary (from libperl):
Compile-time options: HAS_TIMES PERLIO_LAYERS PERL_DONT_CREATE_GVSV
PERL_HASH_FUNC_ONE_AT_A_TIME_HARD PERL_MALLOC_WRAP
PERL_NEW_COPY_ON_WRITE PERL_PRESERVE_IVUV
PERL_USE_DEVEL USE_64_BIT_ALL USE_64_BIT_INT
USE_LARGE_FILES USE_LOCALE USE_LOCALE_COLLATE
USE_LOCALE_CTYPE USE_LOCALE_NUMERIC USE_PERLIO
USE_PERL_ATOF
Built under linux
Compiled at Sep 23 2017 01:19:45
%ENV:
PERL5LIB="/home/njh/.cpan/build/Text-VisualWidth-PP-0.04-21/blib/arch:/home/njh/.cpan/build/Text-VisualWidth-PP-0.04-21/blib/lib:/home/njh/.cpan/build/Unicode-EastAsianWidth-1.33-21/blib/arch:/home/njh/.cpan/build/Unicode-EastAsianWidth-1.33-21/blib/lib:/home/njh/.cpan/build/TermReadKey-2.37-5/blib/arch:/home/njh/.cpan/build/TermReadKey-2.37-5/blib/lib:/home/njh/.cpan/build/Class-Accessor-Lite-0.08-21/blib/arch:/home/njh/.cpan/build/Class-Accessor-Lite-0.08-21/blib/lib:/home/njh/.cpan/build/JSON-Parse-0.53-24/blib/arch:/home/njh/.cpan/build/JSON-Parse-0.53-24/blib/lib"
PERL5OPT=""
PERL5_CPANPLUS_IS_RUNNING="4250"
PERL5_CPAN_IS_RUNNING="4250"
PERLBREW_BASHRC_VERSION="0.80"
PERLBREW_HOME="/home/njh/.perlbrew"
PERLBREW_LIB=""
PERLBREW_MANPATH="/home/njh/perl5/perlbrew/perls/perl-5.20.3-64all/man"
PERLBREW_PATH="/home/njh/perl5/perlbrew/bin:/home/njh/perl5/perlbrew/perls/perl-5.20.3-64all/bin"
PERLBREW_PERL="perl-5.20.3-64all"
PERLBREW_ROOT="/home/njh/perl5/perlbrew"
PERLBREW_VERSION="0.80"
PERL_LOCAL_LIB_ROOT=""
@INC:
/home/njh/.cpan/build/Text-VisualWidth-PP-0.04-21/blib/arch
/home/njh/.cpan/build/Text-VisualWidth-PP-0.04-21/blib/lib
/home/njh/.cpan/build/Unicode-EastAsianWidth-1.33-21/blib/arch
/home/njh/.cpan/build/Unicode-EastAsianWidth-1.33-21/blib/lib
/home/njh/.cpan/build/TermReadKey-2.37-5/blib/arch
/home/njh/.cpan/build/TermReadKey-2.37-5/blib/lib
/home/njh/.cpan/build/Class-Accessor-Lite-0.08-21/blib/arch
/home/njh/.cpan/build/Class-Accessor-Lite-0.08-21/blib/lib
/home/njh/.cpan/build/JSON-Parse-0.53-24/blib/arch
/home/njh/.cpan/build/JSON-Parse-0.53-24/blib/lib
/home/njh/perl5/perlbrew/perls/perl-5.20.3-64all/lib/site_perl/5.20.3/x86_64-linux
/home/njh/perl5/perlbrew/perls/perl-5.20.3-64all/lib/site_perl/5.20.3
/home/njh/perl5/perlbrew/perls/perl-5.20.3-64all/lib/5.20.3/x86_64-linux
/home/njh/perl5/perlbrew/perls/perl-5.20.3-64all/lib/5.20.3
.