Archive-Tar-Wrapper v0.33 Perl 5 v5.14.4 x86_64-linux

Status
Pass
From
Andreas J. König (ANDK)
Dist
Archive-Tar-Wrapper v0.33
Platform
Perl 5 v5.14.4 x86_64-linux
Date
2018-07-10 12:16:44
ID
1c14d3fc-843b-11e8-ac12-9f40dd87725f
This distribution has been tested as part of the CPAN Testers
project, supporting the Perl programming language.  See
http://wiki.cpantesters.org/ for more information or email
questions to cpan-testers-discuss@perl.org


--
Dear Alceu Rodrigues de Freitas Junior,

This is a computer-generated report for Archive-Tar-Wrapper-0.33
on perl 5.14.4, created by CPAN-Reporter-1.2018.

Thank you for uploading your work to CPAN.  Congratulations!
All tests were successful.

Sections of this report:

    * Tester comments
    * Program output
    * Prerequisites
    * Environment and other context

------------------------------
TESTER COMMENTS
------------------------------

Additional comments from tester:

this report is from an automated smoke testing program
and was not reviewed by a human for accuracy

------------------------------
PROGRAM OUTPUT
------------------------------

Output from '/usr/bin/make test':

PERL_DL_NONLAZY=1 "/home/sand/src/perl/repoperls/installed-perls/host/k93msid/v5.14.4/da1c/bin/perl" "-MExtUtils::Command::MM" "-MTest::Harness" "-e" "undef *Test::Harness::Switches; test_harness(0, 'blib/lib', 'blib/arch')" t/*.t
t/001Basic.t .............. ok
t/002Mult.t ............... ok
t/003Dirs.t ............... ok
t/004Utf8.t ............... ok
t/005Cwd.t ................ ok
t/006DirPerms.t ........... ok
t/007bzip.t ............... ok
# with grep: Ran 1337 iterations (294 outliers).
# with grep: Rounded run time per iteration: 0.000445 +/- 0.000000 (0.0%)
# with grep and compiled regex: Ran 1337 iterations (309 outliers).
# with grep and compiled regex: Rounded run time per iteration: 0.000556 +/- 0.000000 (0.0%)
# with eq: Ran 1214 iterations (195 outliers).
# with eq: Rounded run time per iteration: 0.000426 +/- 0.000000 (0.0%)
# with enhanced eq: Ran 1274 iterations (262 outliers).
# with enhanced eq: Rounded run time per iteration: 0.000422 +/- 0.000000 (0.0%)
# with enhanced eq mark2: Ran 1403 iterations (351 outliers).
# with enhanced eq mark2: Rounded run time per iteration: 0.000307 +/- 0.000000 (0.0%)
# with enhanced eq mark3: Ran 1337 iterations (327 outliers).
# with enhanced eq mark3: Rounded run time per iteration: 0.000247 +/- 0.000000 (0.0%)
# sort and shift: Ran 1403 iterations (353 outliers).
# sort and shift: Rounded run time per iteration: 0.000468 +/- 0.000000 (0.0%)
t/008performance.t ........ ok
# with grep: Ran 1214 iterations (200 outliers).
# with grep: Rounded run time per iteration: 0.000011 +/- 0.000000 (0.0%)
# with grep and compiled regex: Ran 1157 iterations (147 outliers).
# with grep and compiled regex: Rounded run time per iteration: 0.000013 +/- 0.000000 (0.0%)
# with eq: Ran 1274 iterations (235 outliers).
# with eq: Rounded run time per iteration: 0.000011 +/- 0.000000 (0.0%)
# with enhanced eq: Ran 1274 iterations (223 outliers).
# with enhanced eq: Rounded run time per iteration: 0.000011 +/- 0.000000 (0.0%)
# with enhanced eq mark2: Ran 1274 iterations (243 outliers).
# with enhanced eq mark2: Rounded run time per iteration: 0.000010 +/- 0.000000 (0.0%)
# with enhanced eq mark3: Ran 1337 iterations (300 outliers).
# with enhanced eq mark3: Rounded run time per iteration: 0.000009 +/- 0.000000 (0.0%)
# sort and shift: Ran 1337 iterations (331 outliers).
# sort and shift: Rounded run time per iteration: 0.000009 +/- 0.000000 (0.0%)
t/009performance-small.t .. ok
All tests successful.

Test Summary Report
-------------------
t/008performance.t      (Wstat: 0 Tests: 1 Failed: 0)
  TODO passed:   1
t/009performance-small.t (Wstat: 0 Tests: 1 Failed: 0)
  TODO passed:   1
Files=9, Tests=54, 25 wallclock secs ( 0.01 usr  0.06 sys + 21.53 cusr  1.85 csys = 23.45 CPU)
Result: PASS

------------------------------
PREREQUISITES
------------------------------

Prerequisite modules loaded:

requires:

    Module              Need     Have      
    ------------------- -------- ----------
    Cwd                 0        3.74      
    File::Temp          0        0.2307    
    File::Which         0        1.22      
    IPC::Run            0        20180523.0
    Log::Log4perl       0        1.49      
    perl                5.008001 5.014004  

build_requires:

    Module              Need     Have      
    ------------------- -------- ----------
    Dumbbench           0.111    0.111     
    ExtUtils::MakeMaker 0        7.35_05   
    Test::Simple        1.302073 1.302136  

configure_requires:

    Module              Need     Have      
    ------------------- -------- ----------
    ExtUtils::MakeMaker 0        7.35_05   
    File::Which         0        1.22      


------------------------------
ENVIRONMENT AND OTHER CONTEXT
------------------------------

Environment variables:

    AUTOMATED_TESTING = 1
    LANG = en_US.UTF-8
    PATH = /home/sand/bin:/usr/local/bin:/usr/bin:/bin:/usr/games:/usr/local/perl/bin:/usr/X11/bin:/sbin:/usr/sbin
    PERL5LIB = 
    PERL5OPT = 
    PERL5_CPANPLUS_IS_RUNNING = 30216
    PERL5_CPAN_IS_RUNNING = 30216
    PERL_CANARY_STABILITY_NOPROMPT = 1
    PERL_MM_USE_DEFAULT = 1
    PERL_USE_UNSAFE_INC = 1
    SHELL = /usr/bin/zsh
    TERM = screen

Perl special variables (and OS-specific diagnostics, for MSWin32):

    $^X = /home/sand/src/perl/repoperls/installed-perls/host/k93msid/v5.14.4/da1c/bin/perl
    $UID/$EUID = 1005 / 1005
    $GID = 1005 1005
    $EGID = 1005 1005

Perl module toolchain versions installed:

    Module              Have    
    ------------------- --------
    CPAN                2.20    
    CPAN::Meta          2.150010
    Cwd                 3.74    
    ExtUtils::CBuilder  0.280230
    ExtUtils::Command   7.35_05 
    ExtUtils::Install   2.06    
    ExtUtils::MakeMaker 7.35_05 
    ExtUtils::Manifest  1.71    
    ExtUtils::ParseXS   3.35    
    File::Spec          3.74    
    JSON                2.97001 
    JSON::PP            2.97001 
    Module::Build       0.4224  
    Module::Signature   0.81    
    Parse::CPAN::Meta   2.150010
    Test::Harness       3.43_01 
    Test::More          1.302136
    YAML                1.26    
    YAML::Syck          1.30    
    version             0.9924  


--

Summary of my perl5 (revision 5 version 14 subversion 4) configuration:
  Derived from: 26c5c13a4ece9084f310610bb17fb2f24c72a73e
  Platform:
    osname=linux, osvers=4.14.0-3-amd64, archname=x86_64-linux
    uname='linux k93msid 4.14.0-3-amd64 #1 smp debian 4.14.12-2 (2018-01-06) x86_64 gnulinux '
    config_args='-Dprefix=/home/sand/src/perl/repoperls/installed-perls/host/k93msid/v5.14.4/da1c -Dmyhostname=k93msid -Dinstallusrbinperl=n -Uversiononly -Dusedevel -des -Ui_db -Dlibswanted=cl pthread socket inet nsl gdbm dbm malloc dl ld sun m crypt sec util c cposix posix ucb BSD gdbm_compat -Uuseithreads -Uuselongdouble -DEBUGGING=-g'
    hint=recommended, useposix=true, d_sigaction=define
    useithreads=undef, usemultiplicity=undef
    useperlio=define, d_sfio=undef, uselargefiles=define, usesocks=undef
    use64bitint=define, use64bitall=define, uselongdouble=undef
    usemymalloc=n, bincompat5005=undef
  Compiler:
    cc='cc', ccflags ='-fno-strict-aliasing -pipe -fstack-protector -I/usr/local/include -D_LARGEFILE_SOURCE -D_FILE_OFFSET_BITS=64',
    optimize='-O2 -g',
    cppflags='-fno-strict-aliasing -pipe -fstack-protector -I/usr/local/include'
    ccversion='', gccversion='7.2.0', gccosandvers=''
    intsize=4, longsize=8, ptrsize=8, doublesize=8, byteorder=12345678
    d_longlong=define, longlongsize=8, d_longdbl=define, longdblsize=16
    ivtype='long', ivsize=8, nvtype='double', nvsize=8, Off_t='off_t', lseeksize=8
    alignbytes=8, prototype=define
  Linker and Libraries:
    ld='cc', ldflags =' -fstack-protector -L/usr/local/lib'
    libpth=/usr/local/lib /lib/x86_64-linux-gnu /lib/../lib /usr/lib/x86_64-linux-gnu /usr/lib/../lib /lib /usr/lib
    libs=-lpthread -lnsl -ldl -lm -lcrypt -lutil -lc
    perllibs=-lpthread -lnsl -ldl -lm -lcrypt -lutil -lc
    libc=libc-2.26.so, so=so, useshrplib=false, libperl=libperl.a
    gnulibc_version='2.26'
  Dynamic Linking:
    dlsrc=dl_dlopen.xs, dlext=so, d_dlsymun=undef, ccdlflags='-Wl,-E'
    cccdlflags='-fPIC', lddlflags='-shared -O2 -g -L/usr/local/lib -fstack-protector'


Characteristics of this binary (from libperl): 
  Compile-time options: PERL_DONT_CREATE_GVSV PERL_MALLOC_WRAP
                        PERL_PRESERVE_IVUV PERL_USE_DEVEL USE_64_BIT_ALL
                        USE_64_BIT_INT USE_LARGE_FILES USE_PERLIO
                        USE_PERL_ATOF
  Locally applied patches:
	uncommitted-changes
  Built under linux
  Compiled at Mar  6 2018 22:48:50
  %ENV:
    PERL5LIB=""
    PERL5OPT=""
    PERL5_CPANPLUS_IS_RUNNING="30216"
    PERL5_CPAN_IS_RUNNING="30216"
    PERL_CANARY_STABILITY_NOPROMPT="1"
    PERL_MM_USE_DEFAULT="1"
    PERL_USE_UNSAFE_INC="1"
  @INC:
    /home/sand/src/perl/repoperls/installed-perls/host/k93msid/v5.14.4/da1c/lib/site_perl/5.14.4/x86_64-linux
    /home/sand/src/perl/repoperls/installed-perls/host/k93msid/v5.14.4/da1c/lib/site_perl/5.14.4
    /home/sand/src/perl/repoperls/installed-perls/host/k93msid/v5.14.4/da1c/lib/5.14.4/x86_64-linux
    /home/sand/src/perl/repoperls/installed-perls/host/k93msid/v5.14.4/da1c/lib/5.14.4
    .