Report for Rex-Repositorio-0.4.0

Back
From: metabase:user:30f4dfbe-2aae-11df-837a-5e0a49663a4f
Subject: PASS Rex-Repositorio-0.4.0 v5.21.5 Mac OS X
Date: 2015-01-08T21:12:53Z

This distribution has been tested as part of the CPAN Testers
project, supporting the Perl programming language.  See
http://wiki.cpantesters.org/ for more information or email
questions to cpan-testers-discuss@perl.org


--
Dear Jan Gehring,

This is a computer-generated report for Rex-Repositorio-0.4.0
on perl 5.21.5, created by CPAN-Reporter-1.2011.

Thank you for uploading your work to CPAN.  Congratulations!
All tests were successful.

Sections of this report:

    * Tester comments
    * Program output
    * Prerequisites
    * Environment and other context

------------------------------
TESTER COMMENTS
------------------------------

Additional comments from tester:

this report is from an automated smoke testing program
and was not reviewed by a human for accuracy

------------------------------
PROGRAM OUTPUT
------------------------------

Output from '/sw/bin/make test':

PERL_DL_NONLAZY=1 "/Users/hornenj/perl5/perlbrew/perls/perl-5.21.5/bin/perl5.21.5" "-MExtUtils::Command::MM" "-MTest::Harness" "-e" "undef *Test::Harness::Switches; test_harness(0, 'blib/lib', 'blib/arch')" t/*.t
t/author-critic.t ....... skipped: these tests are for testing by the author
t/base.t ................ ok
t/release-pod-syntax.t .. skipped: these tests are for release candidate testing
All tests successful.
Files=3, Tests=6,  0 wallclock secs ( 0.02 usr  0.01 sys +  0.37 cusr  0.11 csys =  0.51 CPU)
Result: PASS

------------------------------
PREREQUISITES
------------------------------

Prerequisite modules loaded:

requires:

    Module                Need Have    
    --------------------- ---- --------
    Carp                  0    1.34    
    common::sense         0    3.73    
    Compress::Zlib        0    2.066   
    Config::General       0    2.56    
    Data::Dumper          0    2.154   
    Digest::MD5           0    2.53    
    Digest::SHA           0    5.93    
    Encode                0    2.62    
    English               0    1.09    
    File::Basename        0    2.85    
    File::Copy            0    2.30    
    File::Path            0    2.09    
    File::Spec            0    3.51    
    File::Spec::Functions 0    3.51    
    FindBin               0    1.51    
    Getopt::Long          0    2.42    
    IO::All               0    0.86    
    JSON::XS              0    3.01    
    lib                   0    0.63    
    List::MoreUtils       0    0.33    
    Log::Log4perl         0    1.46    
    LWP::UserAgent        0    6.06    
    MIME::Base64          0    3.14    
    Mojo::Base            0    0       
    Mojo::Util            0    0       
    Mojolicious::Commands 0    0       
    Moose                 0    2.1403  
    Params::Validate      0    1.13    
    strict                0    1.08    
    Term::ReadKey         0    2.32    
    Try::Tiny             0    0.22    
    warnings              0    1.28    
    XML::LibXML           0    2.0117  
    XML::Simple           0    2.20    

build_requires:

    Module                Need Have    
    --------------------- ---- --------
    ExtUtils::MakeMaker   0    7.02    
    Test::More            0    1.001011

configure_requires:

    Module                Need Have    
    --------------------- ---- --------
    ExtUtils::MakeMaker   0    7.02    


------------------------------
ENVIRONMENT AND OTHER CONTEXT
------------------------------

Environment variables:

    AUTOMATED_TESTING = 1
    LANG = en_US.UTF-8
    LC_ALL = POSIX
    LD_LIBRARY_PATH = :/net/traces01.be-md.ncbi.nlm.nih.gov/trace_software/vdb/mac/release/x86_64/lib
    PATH = /Users/hornenj/perl5/perlbrew/bin:/Users/hornenj/perl5/perlbrew/perls/perl-5.21.5/bin:/Users/hornenj/perl5/perlbrew/bin:/Users/hornenj/perl5/perlbrew/perls/perl-5.14.2/bin:/Users/hornenj/bin:/sw/lib/perl5/ExtUtils:/sw/bin:/am/ncbiapdata/bin:/usr/bin:/bin:/usr/X11R6/bin:/netopt/ncbi_tools/bin:/usr/local/ncbi/blast/bin:/net/traces01.be-md.ncbi.nlm.nih.gov/trace_software/vdb/mac/release/x86_64/bin
    PERL5LIB = /Users/hornenj/.cpan/build/XML-Simple-2.20-YIjGir/blib/arch:/Users/hornenj/.cpan/build/XML-Simple-2.20-YIjGir/blib/lib:/Users/hornenj/.cpan/build/XML-SAX-Expat-0.51-yStC8V/blib/arch:/Users/hornenj/.cpan/build/XML-SAX-Expat-0.51-yStC8V/blib/lib:/Users/hornenj/.cpan/build/IO-All-0.86-hvyqeV/blib/arch:/Users/hornenj/.cpan/build/IO-All-0.86-hvyqeV/blib/lib:/Users/hornenj/.cpan/build/Mojolicious-5.71-_1Le2g/blib/arch:/Users/hornenj/.cpan/build/Mojolicious-5.71-_1Le2g/blib/lib:/Users/hornenj/.cpan/build/JSON-XS-3.01-xtJHU_/blib/arch:/Users/hornenj/.cpan/build/JSON-XS-3.01-xtJHU_/blib/lib:/Users/hornenj/.cpan/build/Types-Serialiser-1.0-m3pbNG/blib/arch:/Users/hornenj/.cpan/build/Types-Serialiser-1.0-m3pbNG/blib/lib:/Users/hornenj/.cpan/build/common-sense-3.73-1gnfCp/blib/arch:/Users/hornenj/.cpan/build/common-sense-3.73-1gnfCp/blib/lib:/Users/hornenj/.cpan/build/Log-Log4perl-1.46-docbh8/blib/arch:/Users/hornenj/.cpan/build/Log-Log4perl-1.46-docbh8/blib/lib:/Users/hornenj/.cpan/build/Config-General-2.56-qTvQdS/blib/arch:/Users/hornenj/.cpan/build/Config-General-2.56-qTvQdS/blib/lib
    PERL5OPT = 
    PERL5_CPANPLUS_IS_RUNNING = 91677
    PERL5_CPAN_IS_RUNNING = 91677
    PERL5_MINISMOKEBOX = 0.58
    PERLBREW_BASHRC_VERSION = 0.69
    PERLBREW_HOME = /Users/hornenj/.perlbrew
    PERLBREW_MANPATH = /Users/hornenj/perl5/perlbrew/perls/perl-5.21.5/man
    PERLBREW_PATH = /Users/hornenj/perl5/perlbrew/bin:/Users/hornenj/perl5/perlbrew/perls/perl-5.21.5/bin
    PERLBREW_PERL = perl-5.21.5
    PERLBREW_ROOT = /Users/hornenj/perl5/perlbrew
    PERLBREW_VERSION = 0.69
    PERL_EXTUTILS_AUTOINSTALL = --defaultdeps
    PERL_MM_USE_DEFAULT = 1
    SHELL = /bin/bash
    TERM = xterm-256color
    TMPDIR = /var/folders/pz/pd7y1qjs6s3cbk170cw50fjc000c61/T/
    VERSIONER_PERL_PREFER_32_BIT = no
    VERSIONER_PERL_VERSION = 5.16
    ac_cv_path_INTLTOOL_PERL = /usr/bin/perl

Perl special variables (and OS-specific diagnostics, for MSWin32):

    $^X = /Users/hornenj/perl5/perlbrew/perls/perl-5.21.5/bin/perl5.21.5
    $UID/$EUID = 12481 / 12481
    $GID = 14 14 5344 527 241
    $EGID = 14 14 5344 527 241

Perl module toolchain versions installed:

    Module              Have    
    ------------------- --------
    CPAN                2.05    
    CPAN::Meta          2.142690
    Cwd                 3.51    
    ExtUtils::CBuilder  0.280220
    ExtUtils::Command   1.18    
    ExtUtils::Install   2.04    
    ExtUtils::MakeMaker 7.02    
    ExtUtils::Manifest  1.68    
    ExtUtils::ParseXS   3.25    
    File::Spec          3.51    
    JSON                2.90    
    JSON::PP            2.27300 
    Module::Build       0.4210  
    Module::Signature   n/a     
    Parse::CPAN::Meta   1.4414  
    Test::Harness       3.34    
    Test::More          1.001011
    YAML                1.13    
    YAML::Syck          1.27    
    version             0.9909  


--

Summary of my perl5 (revision 5 version 21 subversion 5) configuration:
   
  Platform:
    osname=darwin, osvers=13.4.0, archname=darwin-2level
    uname='darwin ncbimac2008.ncbi.nlm.nih.gov 13.4.0 darwin kernel version 13.4.0: sun aug 17 19:50:11 pdt 2014; root:xnu-2422.115.4~1release_x86_64 x86_64 '
    config_args='-de -Dprefix=/Users/hornenj/perl5/perlbrew/perls/perl-5.21.5 -Dusedevel -Aeval:scriptdir=/Users/hornenj/perl5/perlbrew/perls/perl-5.21.5/bin'
    hint=recommended, useposix=true, d_sigaction=define
    useithreads=undef, usemultiplicity=undef
    use64bitint=define, use64bitall=define, uselongdouble=undef
    usemymalloc=n, bincompat5005=undef
  Compiler:
    cc='cc', ccflags ='-fno-common -DPERL_DARWIN -fno-strict-aliasing -pipe -fstack-protector -I/usr/local/include',
    optimize='-O3',
    cppflags='-fno-common -DPERL_DARWIN -fno-strict-aliasing -pipe -fstack-protector -I/usr/local/include'
    ccversion='', gccversion='4.2.1 Compatible Apple LLVM 6.0 (clang-600.0.51)', gccosandvers=''
    intsize=4, longsize=8, ptrsize=8, doublesize=8, byteorder=12345678
    d_longlong=define, longlongsize=8, d_longdbl=define, longdblsize=16, longdblkind=3
    ivtype='long', ivsize=8, nvtype='double', nvsize=8, Off_t='off_t', lseeksize=8
    alignbytes=8, prototype=define
  Linker and Libraries:
    ld='env MACOSX_DEPLOYMENT_TARGET=10.3 cc', ldflags =' -fstack-protector -L/usr/local/lib'
    libpth=/Applications/Xcode.app/Contents/Developer/Toolchains/XcodeDefault.xctoolchain/usr/bin/../lib/clang/6.0/lib /Applications/Xcode.app/Contents/Developer/Toolchains/XcodeDefault.xctoolchain/usr/lib /Applications/Xcode.app/Contents/Developer/Platforms/MacOSX.platform/Developer/SDKs/MacOSX10.9.sdk/usr/lib /usr/local/lib /usr/lib
    libs=-ldbm -ldl -lm -lutil -lc
    perllibs=-ldl -lm -lutil -lc
    libc=, so=dylib, useshrplib=false, libperl=libperl.a
    gnulibc_version=''
  Dynamic Linking:
    dlsrc=dl_dlopen.xs, dlext=bundle, d_dlsymun=undef, ccdlflags=' '
    cccdlflags=' ', lddlflags=' -bundle -undefined dynamic_lookup -L/usr/local/lib -fstack-protector'


Characteristics of this binary (from libperl): 
  Compile-time options: HAS_TIMES PERLIO_LAYERS PERL_DONT_CREATE_GVSV
                        PERL_HASH_FUNC_ONE_AT_A_TIME_HARD PERL_MALLOC_WRAP
                        PERL_NEW_COPY_ON_WRITE PERL_PRESERVE_IVUV
                        PERL_USE_DEVEL USE_64_BIT_ALL USE_64_BIT_INT
                        USE_LARGE_FILES USE_LOCALE USE_LOCALE_COLLATE
                        USE_LOCALE_CTYPE USE_LOCALE_NUMERIC USE_LOCALE_TIME
                        USE_PERLIO USE_PERL_ATOF
  Built under darwin
  Compiled at Nov 21 2014 13:56:03
  %ENV:
    PERL5LIB="/Users/hornenj/.cpan/build/XML-Simple-2.20-YIjGir/blib/arch:/Users/hornenj/.cpan/build/XML-Simple-2.20-YIjGir/blib/lib:/Users/hornenj/.cpan/build/XML-SAX-Expat-0.51-yStC8V/blib/arch:/Users/hornenj/.cpan/build/XML-SAX-Expat-0.51-yStC8V/blib/lib:/Users/hornenj/.cpan/build/IO-All-0.86-hvyqeV/blib/arch:/Users/hornenj/.cpan/build/IO-All-0.86-hvyqeV/blib/lib:/Users/hornenj/.cpan/build/Mojolicious-5.71-_1Le2g/blib/arch:/Users/hornenj/.cpan/build/Mojolicious-5.71-_1Le2g/blib/lib:/Users/hornenj/.cpan/build/JSON-XS-3.01-xtJHU_/blib/arch:/Users/hornenj/.cpan/build/JSON-XS-3.01-xtJHU_/blib/lib:/Users/hornenj/.cpan/build/Types-Serialiser-1.0-m3pbNG/blib/arch:/Users/hornenj/.cpan/build/Types-Serialiser-1.0-m3pbNG/blib/lib:/Users/hornenj/.cpan/build/common-sense-3.73-1gnfCp/blib/arch:/Users/hornenj/.cpan/build/common-sense-3.73-1gnfCp/blib/lib:/Users/hornenj/.cpan/build/Log-Log4perl-1.46-docbh8/blib/arch:/Users/hornenj/.cpan/build/Log-Log4perl-1.46-docbh8/blib/lib:/Users/hornenj/.cpan/build/Config-General-2.56-qTvQdS/blib/arch:/Users/hornenj/.cpan/build/Config-General-2.56-qTvQdS/blib/lib"
    PERL5OPT=""
    PERL5_CPANPLUS_IS_RUNNING="91677"
    PERL5_CPAN_IS_RUNNING="91677"
    PERL5_MINISMOKEBOX="0.58"
    PERLBREW_BASHRC_VERSION="0.69"
    PERLBREW_HOME="/Users/hornenj/.perlbrew"
    PERLBREW_MANPATH="/Users/hornenj/perl5/perlbrew/perls/perl-5.21.5/man"
    PERLBREW_PATH="/Users/hornenj/perl5/perlbrew/bin:/Users/hornenj/perl5/perlbrew/perls/perl-5.21.5/bin"
    PERLBREW_PERL="perl-5.21.5"
    PERLBREW_ROOT="/Users/hornenj/perl5/perlbrew"
    PERLBREW_VERSION="0.69"
    PERL_EXTUTILS_AUTOINSTALL="--defaultdeps"
    PERL_MM_USE_DEFAULT="1"
  @INC:
    /Users/hornenj/.cpan/build/XML-Simple-2.20-YIjGir/blib/arch
    /Users/hornenj/.cpan/build/XML-Simple-2.20-YIjGir/blib/lib
    /Users/hornenj/.cpan/build/XML-SAX-Expat-0.51-yStC8V/blib/arch
    /Users/hornenj/.cpan/build/XML-SAX-Expat-0.51-yStC8V/blib/lib
    /Users/hornenj/.cpan/build/IO-All-0.86-hvyqeV/blib/arch
    /Users/hornenj/.cpan/build/IO-All-0.86-hvyqeV/blib/lib
    /Users/hornenj/.cpan/build/Mojolicious-5.71-_1Le2g/blib/arch
    /Users/hornenj/.cpan/build/Mojolicious-5.71-_1Le2g/blib/lib
    /Users/hornenj/.cpan/build/JSON-XS-3.01-xtJHU_/blib/arch
    /Users/hornenj/.cpan/build/JSON-XS-3.01-xtJHU_/blib/lib
    /Users/hornenj/.cpan/build/Types-Serialiser-1.0-m3pbNG/blib/arch
    /Users/hornenj/.cpan/build/Types-Serialiser-1.0-m3pbNG/blib/lib
    /Users/hornenj/.cpan/build/common-sense-3.73-1gnfCp/blib/arch
    /Users/hornenj/.cpan/build/common-sense-3.73-1gnfCp/blib/lib
    /Users/hornenj/.cpan/build/Log-Log4perl-1.46-docbh8/blib/arch
    /Users/hornenj/.cpan/build/Log-Log4perl-1.46-docbh8/blib/lib
    /Users/hornenj/.cpan/build/Config-General-2.56-qTvQdS/blib/arch
    /Users/hornenj/.cpan/build/Config-General-2.56-qTvQdS/blib/lib
    /Users/hornenj/perl5/perlbrew/perls/perl-5.21.5/lib/site_perl/5.21.5/darwin-2level
    /Users/hornenj/perl5/perlbrew/perls/perl-5.21.5/lib/site_perl/5.21.5
    /Users/hornenj/perl5/perlbrew/perls/perl-5.21.5/lib/5.21.5/darwin-2level
    /Users/hornenj/perl5/perlbrew/perls/perl-5.21.5/lib/5.21.5
    .