DateTime-Format-Intl vv0.1.8 Perl 5 v5.40.0 armv6l-linux
- Status
- Pass
- From
- gregor herrmann
- Dist
-
DateTime-Format-Intl vv0.1.8
- Platform
- Perl 5 v5.40.0 armv6l-linux
- Date
- 2025-01-05 17:04:21
- ID
- 1bad8cb6-cb87-11ef-a70d-ac9a6b6c6433
This distribution has been tested as part of the CPAN Testers
project, supporting the Perl programming language. See
http://wiki.cpantesters.org/ for more information or email
questions to cpan-testers-discuss@perl.org
--
Dear Jacques Deguest,
This is a computer-generated report for DateTime-Format-Intl-v0.1.8
on perl 5.40.0, created by CPAN-Reporter-1.2019.
Thank you for uploading your work to CPAN. Congratulations!
All tests were successful.
Sections of this report:
* Tester comments
* Program output
* Prerequisites
* Environment and other context
------------------------------
TESTER COMMENTS
------------------------------
Additional comments from tester:
this report is from an automated smoke testing program
and was not reviewed by a human for accuracy
------------------------------
PROGRAM OUTPUT
------------------------------
Output from '/usr/bin/make test':
PERL_DL_NONLAZY=1 "/srv/smoker/perl5/perlbrew/perls/perl-5.40.0/bin/perl" "-MExtUtils::Command::MM" "-MTest::Harness" "-e" "undef *Test::Harness::Switches; test_harness(0, 'blib/lib', 'blib/arch')" t/*.t
t/001_load.t ....................... ok
t/002_methods.t .................... ok
Warning only: unsupported numbering system provided (jpanfin) via the locale "nu" extension (ja-Kana-JP-u-ca-gregory-nu-jpanfin-tz-jptyo). at lib/DateTime/Format/Intl.pm line 357.
Warning only: unsupported numbering system provided (jpanfin) via the locale "nu" extension (ja-Kana-JP-u-ca-gregory-nu-jpanfin-tz-jptyo). at lib/DateTime/Format/Intl.pm line 357.
Warning only: unsupported numbering system provided (arab) via the locale "nu" extension (ar-EG-u-ca-gregory-nu-arab-tz-egcai). at lib/DateTime/Format/Intl.pm line 357.
t/003_resolved_options.t ........... ok
t/004_supported_locales_of.t ....... ok
t/005_select_best_pattern.t ........ ok
t/006_format.t ..................... ok
Use of uninitialized value in join or string at /srv/smoker/perl5/perlbrew/perls/perl-5.40.0/lib/site_perl/5.40.0/DateTime/Locale/FromCLDR.pm line 471.
Warning: something's wrong at /srv/smoker/perl5/perlbrew/perls/perl-5.40.0/lib/site_perl/5.40.0/DateTime/Locale/FromCLDR.pm line 482.
Use of uninitialized value in join or string at /srv/smoker/perl5/perlbrew/perls/perl-5.40.0/lib/site_perl/5.40.0/DateTime/Locale/FromCLDR.pm line 471.
Warning: something's wrong at /srv/smoker/perl5/perlbrew/perls/perl-5.40.0/lib/site_perl/5.40.0/DateTime/Locale/FromCLDR.pm line 482.
Use of uninitialized value in join or string at /srv/smoker/perl5/perlbrew/perls/perl-5.40.0/lib/site_perl/5.40.0/DateTime/Locale/FromCLDR.pm line 471.
Warning: something's wrong at /srv/smoker/perl5/perlbrew/perls/perl-5.40.0/lib/site_perl/5.40.0/DateTime/Locale/FromCLDR.pm line 482.
Use of uninitialized value in join or string at /srv/smoker/perl5/perlbrew/perls/perl-5.40.0/lib/site_perl/5.40.0/DateTime/Locale/FromCLDR.pm line 471.
Warning: something's wrong at /srv/smoker/perl5/perlbrew/perls/perl-5.40.0/lib/site_perl/5.40.0/DateTime/Locale/FromCLDR.pm line 482.
Use of uninitialized value in join or string at /srv/smoker/perl5/perlbrew/perls/perl-5.40.0/lib/site_perl/5.40.0/DateTime/Locale/FromCLDR.pm line 471.
Warning: something's wrong at /srv/smoker/perl5/perlbrew/perls/perl-5.40.0/lib/site_perl/5.40.0/DateTime/Locale/FromCLDR.pm line 482.
Use of uninitialized value in join or string at /srv/smoker/perl5/perlbrew/perls/perl-5.40.0/lib/site_perl/5.40.0/DateTime/Locale/FromCLDR.pm line 471.
Warning: something's wrong at /srv/smoker/perl5/perlbrew/perls/perl-5.40.0/lib/site_perl/5.40.0/DateTime/Locale/FromCLDR.pm line 482.
Use of uninitialized value in join or string at /srv/smoker/perl5/perlbrew/perls/perl-5.40.0/lib/site_perl/5.40.0/DateTime/Locale/FromCLDR.pm line 471.
Warning: something's wrong at /srv/smoker/perl5/perlbrew/perls/perl-5.40.0/lib/site_perl/5.40.0/DateTime/Locale/FromCLDR.pm line 482.
Use of uninitialized value in join or string at /srv/smoker/perl5/perlbrew/perls/perl-5.40.0/lib/site_perl/5.40.0/DateTime/Locale/FromCLDR.pm line 471.
Warning: something's wrong at /srv/smoker/perl5/perlbrew/perls/perl-5.40.0/lib/site_perl/5.40.0/DateTime/Locale/FromCLDR.pm line 482.
t/007_select_best_range_pattern.t .. ok
Use of uninitialized value in join or string at /srv/smoker/perl5/perlbrew/perls/perl-5.40.0/lib/site_perl/5.40.0/DateTime/Locale/FromCLDR.pm line 471.
Warning: something's wrong at /srv/smoker/perl5/perlbrew/perls/perl-5.40.0/lib/site_perl/5.40.0/DateTime/Locale/FromCLDR.pm line 482.
Use of uninitialized value in join or string at /srv/smoker/perl5/perlbrew/perls/perl-5.40.0/lib/site_perl/5.40.0/DateTime/Locale/FromCLDR.pm line 471.
Warning: something's wrong at /srv/smoker/perl5/perlbrew/perls/perl-5.40.0/lib/site_perl/5.40.0/DateTime/Locale/FromCLDR.pm line 482.
Use of uninitialized value in join or string at /srv/smoker/perl5/perlbrew/perls/perl-5.40.0/lib/site_perl/5.40.0/DateTime/Locale/FromCLDR.pm line 471.
Warning: something's wrong at /srv/smoker/perl5/perlbrew/perls/perl-5.40.0/lib/site_perl/5.40.0/DateTime/Locale/FromCLDR.pm line 482.
Use of uninitialized value in join or string at /srv/smoker/perl5/perlbrew/perls/perl-5.40.0/lib/site_perl/5.40.0/DateTime/Locale/FromCLDR.pm line 471.
Warning: something's wrong at /srv/smoker/perl5/perlbrew/perls/perl-5.40.0/lib/site_perl/5.40.0/DateTime/Locale/FromCLDR.pm line 482.
Use of uninitialized value in join or string at /srv/smoker/perl5/perlbrew/perls/perl-5.40.0/lib/site_perl/5.40.0/DateTime/Locale/FromCLDR.pm line 471.
Warning: something's wrong at /srv/smoker/perl5/perlbrew/perls/perl-5.40.0/lib/site_perl/5.40.0/DateTime/Locale/FromCLDR.pm line 482.
Use of uninitialized value in join or string at /srv/smoker/perl5/perlbrew/perls/perl-5.40.0/lib/site_perl/5.40.0/DateTime/Locale/FromCLDR.pm line 471.
Warning: something's wrong at /srv/smoker/perl5/perlbrew/perls/perl-5.40.0/lib/site_perl/5.40.0/DateTime/Locale/FromCLDR.pm line 482.
Use of uninitialized value in join or string at /srv/smoker/perl5/perlbrew/perls/perl-5.40.0/lib/site_perl/5.40.0/DateTime/Locale/FromCLDR.pm line 471.
Warning: something's wrong at /srv/smoker/perl5/perlbrew/perls/perl-5.40.0/lib/site_perl/5.40.0/DateTime/Locale/FromCLDR.pm line 482.
Use of uninitialized value in join or string at /srv/smoker/perl5/perlbrew/perls/perl-5.40.0/lib/site_perl/5.40.0/DateTime/Locale/FromCLDR.pm line 471.
Warning: something's wrong at /srv/smoker/perl5/perlbrew/perls/perl-5.40.0/lib/site_perl/5.40.0/DateTime/Locale/FromCLDR.pm line 482.
t/008_format_range.t ............... ok
t/009_date_time_combination.t ...... ok
t/010_format_to_parts.t ............ ok
Use of uninitialized value in join or string at /srv/smoker/perl5/perlbrew/perls/perl-5.40.0/lib/site_perl/5.40.0/DateTime/Locale/FromCLDR.pm line 471.
Warning: something's wrong at /srv/smoker/perl5/perlbrew/perls/perl-5.40.0/lib/site_perl/5.40.0/DateTime/Locale/FromCLDR.pm line 482.
Use of uninitialized value in join or string at /srv/smoker/perl5/perlbrew/perls/perl-5.40.0/lib/site_perl/5.40.0/DateTime/Locale/FromCLDR.pm line 471.
Warning: something's wrong at /srv/smoker/perl5/perlbrew/perls/perl-5.40.0/lib/site_perl/5.40.0/DateTime/Locale/FromCLDR.pm line 482.
Use of uninitialized value in join or string at /srv/smoker/perl5/perlbrew/perls/perl-5.40.0/lib/site_perl/5.40.0/DateTime/Locale/FromCLDR.pm line 471.
Warning: something's wrong at /srv/smoker/perl5/perlbrew/perls/perl-5.40.0/lib/site_perl/5.40.0/DateTime/Locale/FromCLDR.pm line 482.
Use of uninitialized value in join or string at /srv/smoker/perl5/perlbrew/perls/perl-5.40.0/lib/site_perl/5.40.0/DateTime/Locale/FromCLDR.pm line 471.
Warning: something's wrong at /srv/smoker/perl5/perlbrew/perls/perl-5.40.0/lib/site_perl/5.40.0/DateTime/Locale/FromCLDR.pm line 482.
Use of uninitialized value in join or string at /srv/smoker/perl5/perlbrew/perls/perl-5.40.0/lib/site_perl/5.40.0/DateTime/Locale/FromCLDR.pm line 471.
Warning: something's wrong at /srv/smoker/perl5/perlbrew/perls/perl-5.40.0/lib/site_perl/5.40.0/DateTime/Locale/FromCLDR.pm line 482.
Use of uninitialized value in join or string at /srv/smoker/perl5/perlbrew/perls/perl-5.40.0/lib/site_perl/5.40.0/DateTime/Locale/FromCLDR.pm line 471.
Warning: something's wrong at /srv/smoker/perl5/perlbrew/perls/perl-5.40.0/lib/site_perl/5.40.0/DateTime/Locale/FromCLDR.pm line 482.
Use of uninitialized value in join or string at /srv/smoker/perl5/perlbrew/perls/perl-5.40.0/lib/site_perl/5.40.0/DateTime/Locale/FromCLDR.pm line 471.
Warning: something's wrong at /srv/smoker/perl5/perlbrew/perls/perl-5.40.0/lib/site_perl/5.40.0/DateTime/Locale/FromCLDR.pm line 482.
Use of uninitialized value in join or string at /srv/smoker/perl5/perlbrew/perls/perl-5.40.0/lib/site_perl/5.40.0/DateTime/Locale/FromCLDR.pm line 471.
Warning: something's wrong at /srv/smoker/perl5/perlbrew/perls/perl-5.40.0/lib/site_perl/5.40.0/DateTime/Locale/FromCLDR.pm line 482.
t/011_format_range_to_parts.t ...... ok
t/900_pod.t ........................ skipped: These tests are for author or release candidate testing
t/910_coverage.t ................... skipped: These tests are for author or release candidate testing
t/920_manifest.t ................... skipped: Author tests not required for installation
t/930_signature.t .................. skipped: Set the environment variable AUTHOR_TESTING to enable this test.
t/999_kwalitee.t ................... skipped: These tests are for author or release candidate testing
All tests successful.
Files=16, Tests=467, 945 wallclock secs ( 5.15 usr 0.50 sys + 656.47 cusr 12.17 csys = 674.29 CPU)
Result: PASS
------------------------------
PREREQUISITES
------------------------------
Prerequisite modules loaded:
requires:
Module Need Have
-------------------------- -------- --------
DateTime 0.42 1.65
! DateTime::Format::Unicode v0.1.6 v0.1.5
DateTime::Locale::FromCLDR v0.6.1 v0.6.1
! Locale::Intl v0.1.3 v0.1.2
! Locale::Unicode::Data v1.3.2 v1.3.1
parent 0 0.244
perl 5.010001 5.040000
Scalar::Util 0 1.68
strict 0 1.13
vars 0 1.05
Want 0.17 0.29
warnings 0 1.70
warnings::register 0 1.06
build_requires:
Module Need Have
-------------------------- -------- --------
ExtUtils::MakeMaker 0 7.71_02
lib 0.63 0.65
open 0 1.13
Test::More 1.302120 1.302207
Test::Pod 1.52 1.52
utf8 0 1.25
configure_requires:
Module Need Have
-------------------------- -------- --------
ExtUtils::MakeMaker 0 7.71_02
------------------------------
ENVIRONMENT AND OTHER CONTEXT
------------------------------
Environment variables:
AUTOMATED_TESTING = 1
LC_CTYPE = de_AT.utf8
LD_LIBRARY_PATH = /usr/lib/libeatmydata
NONINTERACTIVE_TESTING = 1
PATH = /srv/smoker/bin:/usr/lib/ccache:/srv/smoker/perl5/perlbrew/bin:/srv/smoker/perl5/perlbrew/perls/perl-5.40.0/bin:/usr/local/bin:/usr/bin:/bin:/usr/local/games:/usr/games
PERL5LIB =
PERL5OPT =
PERL5_CPANPLUS_IS_RUNNING = 29167
PERL5_CPAN_IS_RUNNING = 29167
PERL5_CPAN_IS_RUNNING_IN_RECURSION = 26059,29167
PERLBREW_HOME = /srv/smoker/.perlbrew
PERLBREW_MANPATH = /srv/smoker/perl5/perlbrew/perls/perl-5.40.0/man
PERLBREW_PATH = /srv/smoker/perl5/perlbrew/bin:/srv/smoker/perl5/perlbrew/perls/perl-5.40.0/bin
PERLBREW_PERL = perl-5.40.0
PERLBREW_ROOT = /srv/smoker/perl5/perlbrew
PERLBREW_SHELLRC_VERSION = 1.01
PERLBREW_VERSION = 1.01
PERL_CPANM_OPT = --prompt --configure-timeout 300 --build-timeout 18000 --test-timeout 18000 --from https://www.cpan.org
PERL_CR_SMOKER_CURRENT = DateTime-Format-Intl-v0.1.8
PERL_EXTUTILS_AUTOINSTALL = --defaultdeps
PERL_MM_USE_DEFAULT = 1
PERL_TEST_TIME_OUT_FACTOR = 3
PERL_TEST_TIME_OUT_FACTOR = 3
PERL_USE_UNSAFE_INC = 1
SHELL = /bin/bash
TERM = screen-256color
Perl special variables (and OS-specific diagnostics, for MSWin32):
$^X = /srv/smoker/perl5/perlbrew/perls/perl-5.40.0/bin/perl
$UID/$EUID = 1111 / 1111
$GID = 65534 65534
$EGID = 65534 65534
Perl module toolchain versions installed:
Module Have
------------------- --------
CPAN 2.38
CPAN::Meta 2.150010
Cwd 3.90
ExtUtils::CBuilder 0.280240
ExtUtils::Command 7.71_02
ExtUtils::Install 2.22
ExtUtils::MakeMaker 7.71_02
ExtUtils::Manifest 1.75
ExtUtils::ParseXS 3.51
File::Spec 3.90
JSON 4.10
JSON::PP 4.16
Module::Build 0.4234
Module::Signature 0.89
Parse::CPAN::Meta 2.150010
Test2 1.302207
Test::Harness 3.50
Test::More 1.302207
YAML 1.31
YAML::Syck 1.34
version 0.9933
--
Summary of my perl5 (revision 5 version 40 subversion 0) configuration:
Platform:
osname=linux
osvers=5.10.103+
archname=armv6l-linux
uname='linux smoker 5.10.103+ #1529 tue mar 8 12:19:18 gmt 2022 armv6l gnulinux '
config_args='-de -Dprefix=/srv/smoker/perl5/perlbrew/perls/perl-5.40.0 -Aeval:scriptdir=/srv/smoker/perl5/perlbrew/perls/perl-5.40.0/bin'
hint=recommended
useposix=true
d_sigaction=define
useithreads=undef
usemultiplicity=undef
use64bitint=undef
use64bitall=undef
uselongdouble=undef
usemymalloc=n
default_inc_excludes_dot=define
Compiler:
cc='cc'
ccflags ='-fwrapv -fno-strict-aliasing -pipe -fstack-protector-strong -I/usr/local/include -D_LARGEFILE_SOURCE -D_FILE_OFFSET_BITS=64 -D_FORTIFY_SOURCE=2'
optimize='-O2'
cppflags='-fwrapv -fno-strict-aliasing -pipe -fstack-protector-strong -I/usr/local/include'
ccversion=''
gccversion='13.2.0'
gccosandvers=''
intsize=4
longsize=4
ptrsize=4
doublesize=8
byteorder=1234
doublekind=3
d_longlong=define
longlongsize=8
d_longdbl=define
longdblsize=8
longdblkind=0
ivtype='long'
ivsize=4
nvtype='double'
nvsize=8
Off_t='off_t'
lseeksize=8
alignbytes=8
prototype=define
Linker and Libraries:
ld='cc'
ldflags =' -fstack-protector-strong -L/usr/local/lib'
libpth=/usr/local/lib /usr/lib/arm-linux-gnueabihf /usr/lib
libs=-lpthread -ldb -ldl -lm -lcrypt -lutil -lc
perllibs=-lpthread -ldl -lm -lcrypt -lutil -lc
libc=/lib/arm-linux-gnueabihf/libc.so.6
so=so
useshrplib=false
libperl=libperl.a
gnulibc_version='2.38'
Dynamic Linking:
dlsrc=dl_dlopen.xs
dlext=so
d_dlsymun=undef
ccdlflags='-Wl,-E'
cccdlflags='-fPIC'
lddlflags='-shared -O2 -L/usr/local/lib -fstack-protector-strong'
Characteristics of this binary (from libperl):
Compile-time options:
HAS_LONG_DOUBLE
HAS_STRTOLD
HAS_TIMES
PERLIO_LAYERS
PERL_COPY_ON_WRITE
PERL_DONT_CREATE_GVSV
PERL_HASH_FUNC_ZAPHOD32
PERL_HASH_USE_SBOX32
PERL_MALLOC_WRAP
PERL_OP_PARENT
PERL_PRESERVE_IVUV
PERL_USE_SAFE_PUTENV
USE_LARGE_FILES
USE_LOCALE
USE_LOCALE_COLLATE
USE_LOCALE_CTYPE
USE_LOCALE_NUMERIC
USE_LOCALE_TIME
USE_PERLIO
USE_PERL_ATOF
Built under linux
Compiled at Jun 10 2024 21:35:21
%ENV:
PERL5LIB=""
PERL5OPT=""
PERL5_CPANPLUS_IS_RUNNING="29167"
PERL5_CPAN_IS_RUNNING="29167"
PERL5_CPAN_IS_RUNNING_IN_RECURSION="26059,29167"
PERLBREW_HOME="/srv/smoker/.perlbrew"
PERLBREW_MANPATH="/srv/smoker/perl5/perlbrew/perls/perl-5.40.0/man"
PERLBREW_PATH="/srv/smoker/perl5/perlbrew/bin:/srv/smoker/perl5/perlbrew/perls/perl-5.40.0/bin"
PERLBREW_PERL="perl-5.40.0"
PERLBREW_ROOT="/srv/smoker/perl5/perlbrew"
PERLBREW_SHELLRC_VERSION="1.01"
PERLBREW_VERSION="1.01"
PERL_CPANM_OPT="--prompt --configure-timeout 300 --build-timeout 18000 --test-timeout 18000 --from https://www.cpan.org"
PERL_CR_SMOKER_CURRENT="DateTime-Format-Intl-v0.1.8"
PERL_EXTUTILS_AUTOINSTALL="--defaultdeps"
PERL_MM_USE_DEFAULT="1"
PERL_TEST_TIME_OUT_FACTOR="3"
PERL_USE_UNSAFE_INC="1"
@INC:
/srv/smoker/perl5/perlbrew/perls/perl-5.40.0/lib/site_perl/5.40.0/armv6l-linux
/srv/smoker/perl5/perlbrew/perls/perl-5.40.0/lib/site_perl/5.40.0
/srv/smoker/perl5/perlbrew/perls/perl-5.40.0/lib/5.40.0/armv6l-linux
/srv/smoker/perl5/perlbrew/perls/perl-5.40.0/lib/5.40.0
.