Report for MooseX-WithCache-0.01002

Back
From: metabase:user:30977d10-2aae-11df-837a-5e0a49663a4f
Subject: PASS MooseX-WithCache-0.01002 v5.12.2 
Date: 2010-09-30T20:53:19Z

This distribution has been tested as part of the CPAN Testers
project, supporting the Perl programming language.  See
http://wiki.cpantesters.org/ for more information or email
questions to cpan-testers-discuss@perl.org


--
Dear Daisuke Maki,

This is a computer-generated report for MooseX-WithCache-0.01002
on perl 5.12.2, created by CPAN-Reporter-1.1801.

Thank you for uploading your work to CPAN.  Congratulations!
All tests were successful.

Sections of this report:

    * Tester comments
    * Program output
    * Prerequisites
    * Environment and other context

------------------------------
TESTER COMMENTS
------------------------------

Additional comments from tester:

this report is from an automated smoke testing program
and was not reviewed by a human for accuracy

------------------------------
PROGRAM OUTPUT
------------------------------

Output from 'C:\bin\dev\perl\site\bin\dmake.EXE test':

C:\home\stro\perl\perl5122\bin\perl.exe "-MExtUtils::Command::MM" "-e" "test_harness(0, 'inc', 'blib\lib', 'blib\arch')" t/*.t t/*/*.t
t/00_compile.t ............... ok
t/02_memcached.t ............. skipped: no memcached server found
must specify either 'datastore' hashref or 'global' flag at C:/home/stro/perl/perl5122/site/lib/CHI/Driver/Memory.pm line 34
	CHI::Driver::Memory::BUILD('Class::MOP::Class::__ANON__::SERIAL::3=HASH(0x14a17d4)', 'HASH(0xa4a444)') called at C:/home/stro/perl/perl5122/site/lib/Class/MOP/Method.pm line 123
	Class::MOP::Method::execute('Moose::Meta::Method=HASH(0x18a5cf4)', 'Class::MOP::Class::__ANON__::SERIAL::3=HASH(0x14a17d4)', 'HASH(0xa4a444)') called at C:/home/stro/perl/perl5122/site/lib/Moose/Object.pm line 50
	Moose::Object::BUILDALL('Class::MOP::Class::__ANON__::SERIAL::3=HASH(0x14a17d4)', 'HASH(0xa4a444)') called at C:/home/stro/perl/perl5122/site/lib/Moose/Meta/Class.pm line 265
	Moose::Meta::Class::new_object('Moose::Meta::Class=HASH(0x3f8c7c)', 'HASH(0xa4a444)') called at C:/home/stro/perl/perl5122/site/lib/Moose/Object.pm line 25
	Moose::Object::new('Class::MOP::Class::__ANON__::SERIAL::3', 'chi_root_class', 'CHI', 'driver_class', 'CHI::Driver::Memory') called at generated method (unknown origin) line 3
	CHI::Driver::Memory::new('Class::MOP::Class::__ANON__::SERIAL::3', 'chi_root_class', 'CHI', 'driver_class', 'CHI::Driver::Memory') called at C:/home/stro/perl/perl5122/site/lib/CHI.pm line 76
	CHI::new('CHI', 'driver', 'Memory') called at t/03_chi.t line 29
t/03_chi.t ................... ok
t/04_fastmmap.t .............. ok
t/deprecated/00_compile.t .... ok
t/deprecated/02_memcached.t .. skipped: no memcached server found
must specify either 'datastore' hashref or 'global' flag at C:/home/stro/perl/perl5122/site/lib/CHI/Driver/Memory.pm line 34
	CHI::Driver::Memory::BUILD('Class::MOP::Class::__ANON__::SERIAL::3=HASH(0x18c0b54)', 'HASH(0x1538c8c)') called at C:/home/stro/perl/perl5122/site/lib/Class/MOP/Method.pm line 123
	Class::MOP::Method::execute('Moose::Meta::Method=HASH(0x18a7174)', 'Class::MOP::Class::__ANON__::SERIAL::3=HASH(0x18c0b54)', 'HASH(0x1538c8c)') called at C:/home/stro/perl/perl5122/site/lib/Moose/Object.pm line 50
	Moose::Object::BUILDALL('Class::MOP::Class::__ANON__::SERIAL::3=HASH(0x18c0b54)', 'HASH(0x1538c8c)') called at C:/home/stro/perl/perl5122/site/lib/Moose/Meta/Class.pm line 265
	Moose::Meta::Class::new_object('Moose::Meta::Class=HASH(0xa4a4b4)', 'HASH(0x1538c8c)') called at C:/home/stro/perl/perl5122/site/lib/Moose/Object.pm line 25
	Moose::Object::new('Class::MOP::Class::__ANON__::SERIAL::3', 'chi_root_class', 'CHI', 'driver_class', 'CHI::Driver::Memory') called at generated method (unknown origin) line 3
	CHI::Driver::Memory::new('Class::MOP::Class::__ANON__::SERIAL::3', 'chi_root_class', 'CHI', 'driver_class', 'CHI::Driver::Memory') called at C:/home/stro/perl/perl5122/site/lib/CHI.pm line 76
	CHI::new('CHI', 'driver', 'Memory') called at t/deprecated/03_chi.t line 30
t/deprecated/03_chi.t ........ ok
t/deprecated/04_fastmmap.t ... ok
All tests successful.
Files=8, Tests=62, 12 wallclock secs ( 0.08 usr +  0.06 sys =  0.14 CPU)
Result: PASS

------------------------------
PREREQUISITES
------------------------------

Prerequisite modules loaded:

requires:

    Module                      Need Have 
    --------------------------- ---- -----
  ! Cache::Memcached            0    n/a  
    Data::Dumper                0    2.128
    Digest::MD5                 0    2.50 
    ExtUtils::MakeMaker         6.42 6.56 
    IO::Socket::INET            0    1.31 
    Moose                       0.59 1.14 
    MooseX::Role::Parameterized 0    0.19 
    Test::Exception             0    0.29 
    Test::More                  0    0.96 

configure_requires:

    Module                      Need Have 
    --------------------------- ---- -----
    ExtUtils::MakeMaker         6.42 6.56 


------------------------------
ENVIRONMENT AND OTHER CONTEXT
------------------------------

Environment variables:

    ACTIVEPERL_CONFIG_SILENT = 1
    AUTOMATED_TESTING = 1
    COMSPEC = C:\WINDOWS\system32\cmd.exe
    NUMBER_OF_PROCESSORS = 2
    PATH = C:\bin\dev\python\;C:\bin\dev\svn;C:\Program Files\Common Files\Microsoft Shared\Windows Live;C:\bin\dev\perl\site\bin;C:\bin\dev\perl\bin;C:\WINDOWS\system32;C:\WINDOWS;C:\WINDOWS\System32\Wbem;C:\WINDOWS\system32\WindowsPowerShell\v1.0;C:\bin\arc;C:\bin\dev\TortoiseSVN\bin;C:\bin\dev\Mercurial;C:\bin\dev\TortoiseHg;c:\bin\sys\gnuwin32\bin;C:\bin\dev\oracle\instantclient_11_1;C:\Program Files\Common Files\Microsoft Shared\Windows Live
    PERL5LIB = 
    PERL5OPT = 
    PERL5_CPANPLUS_IS_RUNNING = 5460
    PERL5_CPAN_IS_RUNNING = 5460
    PERL5_CPAN_IS_RUNNING_IN_RECURSION = 4500,5460
    PERL_CR_SMOKER_CURRENT = WebService-Async-0.01
    PERL_EXTUTILS_AUTOINSTALL = --defaultdeps
    PERL_MM_USE_DEFAULT = 1
    PROCESSOR_IDENTIFIER = x86 Family 6 Model 15 Stepping 11, GenuineIntel
    TEMP = C:\WINDOWS\Temp

Perl special variables (and OS-specific diagnostics, for MSWin32):

    $^X = C:\home\stro\perl\perl5122\bin\perl.exe
    $UID/$EUID = 0 / 0
    $GID = 0
    $EGID = 0
    Win32::GetOSName = WinXP/.Net
    Win32::GetOSVersion = Service Pack 3, 5, 1, 2600, 2, 3, 0, 256, 1
    Win32::FsType = NTFS
    Win32::IsAdminUser = 1

Perl module toolchain versions installed:

    Module              Have  
    ------------------- ------
    CPAN                1.9402
    Cwd                 3.33  
    ExtUtils::CBuilder  0.2703
    ExtUtils::Command   1.16  
    ExtUtils::Install   1.55  
    ExtUtils::MakeMaker 6.56  
    ExtUtils::Manifest  1.57  
    ExtUtils::ParseXS   2.2206
    File::Spec          3.33  
    Module::Build       0.3607
    Module::Signature   n/a   
    Test::Harness       3.22  
    Test::More          0.96  
    YAML                0.72  
    YAML::Syck          1.15  
    version             0.82  


--

Summary of my perl5 (revision 5 version 12 subversion 2) configuration:
   
  Platform:
    osname=MSWin32, osvers=5.1, archname=MSWin32-x86-multi-thread
    uname=''
    config_args='undef'
    hint=recommended, useposix=true, d_sigaction=undef
    useithreads=define, usemultiplicity=define
    useperlio=define, d_sfio=undef, uselargefiles=define, usesocks=undef
    use64bitint=undef, use64bitall=undef, uselongdouble=undef
    usemymalloc=n, bincompat5005=undef
  Compiler:
    cc='gcc', ccflags =' -s -O2 -DWIN32 -DHAVE_DES_FCRYPT  -DPERL_IMPLICIT_CONTEXT -DPERL_IMPLICIT_SYS -fno-strict-aliasing -mms-bitfields -DPERL_MSVCRT_READFIX',
    optimize='-s -O2',
    cppflags='-DWIN32'
    ccversion='', gccversion='3.4.5', gccosandvers=''
    intsize=4, longsize=4, ptrsize=4, doublesize=8, byteorder=1234
    d_longlong=undef, longlongsize=8, d_longdbl=define, longdblsize=12
    ivtype='long', ivsize=4, nvtype='double', nvsize=8, Off_t='long long', lseeksize=8
    alignbytes=8, prototype=define
  Linker and Libraries:
    ld='g++', ldflags ='-s -L"c:\home\stro\perl\perl5122\lib\CORE" -L"C:\MinGW\lib"'
    libpth=C:\MinGW\lib
    libs=-lmoldname -lkernel32 -luser32 -lgdi32 -lwinspool -lcomdlg32 -ladvapi32 -lshell32 -lole32 -loleaut32 -lnetapi32 -luuid -lws2_32 -lmpr -lwinmm -lversion -lodbc32 -lodbccp32 -lcomctl32
    perllibs=-lmoldname -lkernel32 -luser32 -lgdi32 -lwinspool -lcomdlg32 -ladvapi32 -lshell32 -lole32 -loleaut32 -lnetapi32 -luuid -lws2_32 -lmpr -lwinmm -lversion -lodbc32 -lodbccp32 -lcomctl32
    libc=, so=dll, useshrplib=true, libperl=libperl512.a
    gnulibc_version=''
  Dynamic Linking:
    dlsrc=dl_win32.xs, dlext=dll, d_dlsymun=undef, ccdlflags=' '
    cccdlflags=' ', lddlflags='-mdll -s -L"c:\home\stro\perl\perl5122\lib\CORE" -L"C:\MinGW\lib"'


Characteristics of this binary (from libperl): 
  Compile-time options: MULTIPLICITY PERL_DONT_CREATE_GVSV
                        PERL_IMPLICIT_CONTEXT PERL_IMPLICIT_SYS
                        PERL_MALLOC_WRAP PL_OP_SLAB_ALLOC USE_ITHREADS
                        USE_LARGE_FILES USE_PERLIO USE_PERL_ATOF
  Built under MSWin32
  Compiled at Sep 10 2010 14:47:41
  %ENV:
    PERL5_CPANPLUS_IS_RUNNING="5460"
    PERL5_CPAN_IS_RUNNING="5460"
    PERL5_CPAN_IS_RUNNING_IN_RECURSION="4500,5460"
    PERL_CR_SMOKER_CURRENT="WebService-Async-0.01"
    PERL_EXTUTILS_AUTOINSTALL="--defaultdeps"
    PERL_MM_USE_DEFAULT="1"
  @INC:
    C:/home/stro/perl/perl5122/site/lib
    C:/home/stro/perl/perl5122/lib
    .