Tags-HTML-Element v0.15 Perl 5 v5.20.0 x86_64-linux

Status
Pass
From
Slaven Rezić
Dist
Tags-HTML-Element v0.15
Platform
Perl 5 v5.20.0 x86_64-linux
Date
2024-05-31 12:34:21
ID
1aed1678-1f4a-11ef-950f-472f6e8775ea
This distribution has been tested as part of the CPAN Testers
project, supporting the Perl programming language.  See
http://wiki.cpantesters.org/ for more information or email
questions to cpan-testers-discuss@perl.org


--
Dear Michal Josef Spacek,

This is a computer-generated report for Tags-HTML-Element-0.15
on perl 5.20.0, created by CPAN-Reporter-1.2018.

Thank you for uploading your work to CPAN.  Congratulations!
All tests were successful.

Sections of this report:

    * Tester comments
    * Program output
    * Prerequisites
    * Environment and other context

------------------------------
TESTER COMMENTS
------------------------------

Additional comments from tester:

none provided

------------------------------
PROGRAM OUTPUT
------------------------------

Output from '/usr/bin/make test':

PERL_DL_NONLAZY=1 "/opt/perl-5.20.0/bin/perl" "-MExtUtils::Command::MM" "-MTest::Harness" "-e" "undef *Test::Harness::Switches; test_harness(0, 'inc', 'blib/lib', 'blib/arch')" t/Tags-HTML-Element-A/*.t t/Tags-HTML-Element-Button/*.t t/Tags-HTML-Element-Form/*.t t/Tags-HTML-Element-Input/*.t t/Tags-HTML-Element-Option/*.t t/Tags-HTML-Element-Select/*.t t/Tags-HTML-Element-Textarea/*.t t/Tags-HTML-Element-Utils/*.t t/Tags-HTML-Element/*.t
t/Tags-HTML-Element-A/01-use.t ................. ok
t/Tags-HTML-Element-A/02-version.t ............. ok
t/Tags-HTML-Element-A/03-new.t ................. ok
t/Tags-HTML-Element-A/04-cleanup.t ............. ok
t/Tags-HTML-Element-A/05-init.t ................ ok
t/Tags-HTML-Element-A/06-process.t ............. ok
t/Tags-HTML-Element-A/07-process_css.t ......... ok
t/Tags-HTML-Element-Button/01-use.t ............ ok
t/Tags-HTML-Element-Button/02-version.t ........ ok
t/Tags-HTML-Element-Button/03-new.t ............ ok
t/Tags-HTML-Element-Button/04-cleanup.t ........ ok
t/Tags-HTML-Element-Button/05-init.t ........... ok
t/Tags-HTML-Element-Button/06-process.t ........ ok
t/Tags-HTML-Element-Button/07-process_css.t .... ok
t/Tags-HTML-Element-Form/01-use.t .............. ok
t/Tags-HTML-Element-Form/02-version.t .......... ok
t/Tags-HTML-Element-Form/03-new.t .............. ok
t/Tags-HTML-Element-Form/04-cleanup.t .......... ok
t/Tags-HTML-Element-Form/05-init.t ............. ok
t/Tags-HTML-Element-Form/06-process.t .......... ok
t/Tags-HTML-Element-Form/07-process_css.t ...... ok
t/Tags-HTML-Element-Input/01-use.t ............. ok
t/Tags-HTML-Element-Input/02-version.t ......... ok
t/Tags-HTML-Element-Input/03-new.t ............. ok
t/Tags-HTML-Element-Input/04-init.t ............ ok
t/Tags-HTML-Element-Input/05-process.t ......... ok
t/Tags-HTML-Element-Input/06-process_css.t ..... ok
t/Tags-HTML-Element-Option/01-use.t ............ ok
t/Tags-HTML-Element-Option/02-version.t ........ ok
t/Tags-HTML-Element-Option/03-new.t ............ ok
t/Tags-HTML-Element-Option/04-cleanup.t ........ ok
t/Tags-HTML-Element-Option/05-init.t ........... ok
t/Tags-HTML-Element-Option/06-process.t ........ ok
t/Tags-HTML-Element-Option/07-process_css.t .... ok
t/Tags-HTML-Element-Select/01-use.t ............ ok
t/Tags-HTML-Element-Select/02-version.t ........ ok
t/Tags-HTML-Element-Select/03-new.t ............ ok
t/Tags-HTML-Element-Select/04-cleanup.t ........ ok
t/Tags-HTML-Element-Select/05-init.t ........... ok
t/Tags-HTML-Element-Select/06-process.t ........ ok
t/Tags-HTML-Element-Select/07-process_css.t .... ok
t/Tags-HTML-Element-Textarea/01-use.t .......... ok
t/Tags-HTML-Element-Textarea/02-version.t ...... ok
t/Tags-HTML-Element-Textarea/03-new.t .......... ok
t/Tags-HTML-Element-Textarea/04-cleanup.t ...... ok
t/Tags-HTML-Element-Textarea/05-init.t ......... ok
t/Tags-HTML-Element-Textarea/06-process.t ...... ok
t/Tags-HTML-Element-Textarea/07-process_css.t .. ok
t/Tags-HTML-Element-Utils/01-use.t ............. ok
t/Tags-HTML-Element-Utils/02-version.t ......... ok
t/Tags-HTML-Element-Utils/03-tags_boolean.t .... ok
t/Tags-HTML-Element-Utils/04-tags_data.t ....... ok
t/Tags-HTML-Element-Utils/05-tags_label.t ...... ok
t/Tags-HTML-Element-Utils/06-tags_value.t ...... ok
t/Tags-HTML-Element/01-use.t ................... ok
t/Tags-HTML-Element/02-version.t ............... ok
All tests successful.
Files=56, Tests=243,  2 wallclock secs ( 0.05 usr  0.09 sys +  1.72 cusr  0.74 csys =  2.60 CPU)
Result: PASS

------------------------------
PREREQUISITES
------------------------------

Prerequisite modules loaded:

requires:

    Module                         Need  Have      
    ------------------------------ ----- ----------
    Class::Utils                   0     0.07      
    Error::Pure                    0     0.24      
    perl                           5.008 5.020000  
    Scalar::Util                   0     1.53      
    Tags::HTML                     0.06  0.1       

build_requires:

    Module                         Need  Have      
    ------------------------------ ----- ----------
    CSS::Struct::Output::Structure 0.03  0.04      
    Data::HTML::Element::Button    0.1   0.17      
    Data::HTML::Element::Form      0.1   0.17      
    Data::HTML::Element::Input     0.13  0.17      
    Data::HTML::Element::Select    0.14  0.17      
    Data::HTML::Element::Textarea  0.1   0.17      
    English                        0     1.09      
    Error::Pure::Utils             0     0.24      
    ExtUtils::MakeMaker            6.59  7.24      
    Tags::Output::Structure        0     0.08      
    Test::MockObject               0     1.20150527
    Test::More                     0     1.302056  
    Test::NoWarnings               0     1.04      

configure_requires:

    Module                         Need  Have      
    ------------------------------ ----- ----------
    ExtUtils::MakeMaker            6.59  7.24      


------------------------------
ENVIRONMENT AND OTHER CONTEXT
------------------------------

Environment variables:

    LANG = en_US.UTF-8
    LANGUAGE = en_US:en
    LC_ALL = en_US.UTF-8
    PATH = /usr/local/bin:/usr/bin:/bin:/usr/local/sbin:/usr/sbin:/sbin:/home/cpansand/bin/linux-gnu:/home/cpansand/bin/sh:/home/cpansand/bin:/usr/games:/home/cpansand/devel:/home/eserte/src/srezic-misc/scripts
    PERL5LIB = /home/cpansand/.cpan/build/2024053114/Tags-HTML-0.10-0/blib/arch:/home/cpansand/.cpan/build/2024053114/Tags-HTML-0.10-0/blib/lib:/home/cpansand/.cpan/build/2024053114/Tags-Output-Structure-0.08-0/blib/arch:/home/cpansand/.cpan/build/2024053114/Tags-Output-Structure-0.08-0/blib/lib:/home/cpansand/.cpan/build/2024053114/Tags-0.16-0/blib/arch:/home/cpansand/.cpan/build/2024053114/Tags-0.16-0/blib/lib:/home/cpansand/.cpan/build/2024053114/Data-HTML-Element-0.17-0/blib/arch:/home/cpansand/.cpan/build/2024053114/Data-HTML-Element-0.17-0/blib/lib:/home/cpansand/.cpan/build/2024053114/Mo-utils-CSS-0.08-0/blib/arch:/home/cpansand/.cpan/build/2024053114/Mo-utils-CSS-0.08-0/blib/lib:/home/cpansand/.cpan/build/2024053114/Graphics-ColorNames-WWW-1.14-0/blib/arch:/home/cpansand/.cpan/build/2024053114/Graphics-ColorNames-WWW-1.14-0/blib/lib:/home/cpansand/.cpan/build/2024053114/Mo-utils-0.29-0/blib/arch:/home/cpansand/.cpan/build/2024053114/Mo-utils-0.29-0/blib/lib:/home/cpansand/.cpan/build/2024053114/CSS-Struct-Output-Structure-0.04-0/blib/arch:/home/cpansand/.cpan/build/2024053114/CSS-Struct-Output-Structure-0.04-0/blib/lib:/home/cpansand/.cpan/build/2024053114/Indent-0.09-0/blib/arch:/home/cpansand/.cpan/build/2024053114/Indent-0.09-0/blib/lib:/home/cpansand/.cpan/build/2024053114/CSS-Struct-0.05-0/blib/arch:/home/cpansand/.cpan/build/2024053114/CSS-Struct-0.05-0/blib/lib
    PERL5OPT = 
    PERL5_CPANPLUS_IS_RUNNING = 5564
    PERL5_CPAN_IS_RUNNING = 5564
    PERL5_CPAN_IS_RUNNING_IN_RECURSION = 5379,5564
    PERLDOC = -MPod::Perldoc::ToTextOverstrike
    PERL_BATCH = yes
    PERL_CANARY_STABILITY_NOPROMPT = 1
    PERL_CPAN_REPORTER_CONFIG = /var/tmp/cpansmoker-1023/2024053114/cpanreporter_000_config.ini
    PERL_EXTUTILS_AUTOINSTALL = --defaultdeps
    PERL_USE_UNSAFE_INC = 1
    SHELL = /bin/zsh
    TERM = screen
    TMPDIR = /var/tmp/cpansmoker-1023/2024053114

Perl special variables (and OS-specific diagnostics, for MSWin32):

    $^X = /opt/perl-5.20.0/bin/perl
    $UID/$EUID = 1023 / 1023
    $GID = 1023 1023
    $EGID = 1023 1023

Perl module toolchain versions installed:

    Module              Have    
    ------------------- --------
    CPAN                2.16    
    CPAN::Meta          2.150010
    Cwd                 3.62    
    ExtUtils::CBuilder  0.280216
    ExtUtils::Command   7.24    
    ExtUtils::Install   1.67    
    ExtUtils::MakeMaker 7.24    
    ExtUtils::Manifest  1.70    
    ExtUtils::ParseXS   3.24    
    File::Spec          3.62    
    JSON                2.90    
    JSON::PP            2.27400 
    Module::Build       0.4220  
    Module::Signature   0.81    
    Parse::CPAN::Meta   2.150010
    Test::Harness       3.30    
    Test::More          1.302056
    YAML                1.17    
    YAML::Syck          1.29    
    version             0.9917  


--

Summary of my perl5 (revision 5 version 20 subversion 0) configuration:
   
  Platform:
    osname=linux, osvers=3.2.0-4-amd64, archname=x86_64-linux
    uname='linux cvrsnica-wheezy 3.2.0-4-amd64 #1 smp debian 3.2.54-2 x86_64 gnulinux '
    config_args='-ds -e -Dprefix=/opt/perl-5.20.0'
    hint=recommended, useposix=true, d_sigaction=define
    useithreads=undef, usemultiplicity=undef
    use64bitint=define, use64bitall=define, uselongdouble=undef
    usemymalloc=n, bincompat5005=undef
  Compiler:
    cc='cc', ccflags ='-fwrapv -fno-strict-aliasing -pipe -fstack-protector -I/usr/local/include -D_LARGEFILE_SOURCE -D_FILE_OFFSET_BITS=64',
    optimize='-O2',
    cppflags='-fwrapv -fno-strict-aliasing -pipe -fstack-protector -I/usr/local/include'
    ccversion='', gccversion='4.7.2', gccosandvers=''
    intsize=4, longsize=8, ptrsize=8, doublesize=8, byteorder=12345678
    d_longlong=define, longlongsize=8, d_longdbl=define, longdblsize=16
    ivtype='long', ivsize=8, nvtype='double', nvsize=8, Off_t='off_t', lseeksize=8
    alignbytes=8, prototype=define
  Linker and Libraries:
    ld='cc', ldflags =' -fstack-protector -L/usr/local/lib'
    libpth=/usr/local/lib /usr/lib/gcc/x86_64-linux-gnu/4.7/include-fixed /usr/include/x86_64-linux-gnu /usr/lib /lib/x86_64-linux-gnu /lib/../lib /usr/lib/x86_64-linux-gnu /usr/lib/../lib /lib
    libs=-lnsl -ldb -ldl -lm -lcrypt -lutil -lc
    perllibs=-lnsl -ldl -lm -lcrypt -lutil -lc
    libc=libc-2.13.so, so=so, useshrplib=false, libperl=libperl.a
    gnulibc_version='2.13'
  Dynamic Linking:
    dlsrc=dl_dlopen.xs, dlext=so, d_dlsymun=undef, ccdlflags='-Wl,-E'
    cccdlflags='-fPIC', lddlflags='-shared -O2 -L/usr/local/lib -fstack-protector'


Characteristics of this binary (from libperl): 
  Compile-time options: HAS_TIMES PERLIO_LAYERS PERL_DONT_CREATE_GVSV
                        PERL_HASH_FUNC_ONE_AT_A_TIME_HARD PERL_MALLOC_WRAP
                        PERL_NEW_COPY_ON_WRITE PERL_PRESERVE_IVUV
                        USE_64_BIT_ALL USE_64_BIT_INT USE_LARGE_FILES
                        USE_LOCALE USE_LOCALE_COLLATE USE_LOCALE_CTYPE
                        USE_LOCALE_NUMERIC USE_PERLIO USE_PERL_ATOF
  Built under linux
  Compiled at Jul 19 2014 07:43:18
  %ENV:
    PERL5LIB="/home/cpansand/.cpan/build/2024053114/Tags-HTML-0.10-0/blib/arch:/home/cpansand/.cpan/build/2024053114/Tags-HTML-0.10-0/blib/lib:/home/cpansand/.cpan/build/2024053114/Tags-Output-Structure-0.08-0/blib/arch:/home/cpansand/.cpan/build/2024053114/Tags-Output-Structure-0.08-0/blib/lib:/home/cpansand/.cpan/build/2024053114/Tags-0.16-0/blib/arch:/home/cpansand/.cpan/build/2024053114/Tags-0.16-0/blib/lib:/home/cpansand/.cpan/build/2024053114/Data-HTML-Element-0.17-0/blib/arch:/home/cpansand/.cpan/build/2024053114/Data-HTML-Element-0.17-0/blib/lib:/home/cpansand/.cpan/build/2024053114/Mo-utils-CSS-0.08-0/blib/arch:/home/cpansand/.cpan/build/2024053114/Mo-utils-CSS-0.08-0/blib/lib:/home/cpansand/.cpan/build/2024053114/Graphics-ColorNames-WWW-1.14-0/blib/arch:/home/cpansand/.cpan/build/2024053114/Graphics-ColorNames-WWW-1.14-0/blib/lib:/home/cpansand/.cpan/build/2024053114/Mo-utils-0.29-0/blib/arch:/home/cpansand/.cpan/build/2024053114/Mo-utils-0.29-0/blib/lib:/home/cpansand/.cpan/build/2024053114/CSS-Struct-Output-Structure-0.04-0/blib/arch:/home/cpansand/.cpan/build/2024053114/CSS-Struct-Output-Structure-0.04-0/blib/lib:/home/cpansand/.cpan/build/2024053114/Indent-0.09-0/blib/arch:/home/cpansand/.cpan/build/2024053114/Indent-0.09-0/blib/lib:/home/cpansand/.cpan/build/2024053114/CSS-Struct-0.05-0/blib/arch:/home/cpansand/.cpan/build/2024053114/CSS-Struct-0.05-0/blib/lib"
    PERL5OPT=""
    PERL5_CPANPLUS_IS_RUNNING="5564"
    PERL5_CPAN_IS_RUNNING="5564"
    PERL5_CPAN_IS_RUNNING_IN_RECURSION="5379,5564"
    PERLDOC="-MPod::Perldoc::ToTextOverstrike"
    PERL_BATCH="yes"
    PERL_CANARY_STABILITY_NOPROMPT="1"
    PERL_CPAN_REPORTER_CONFIG="/var/tmp/cpansmoker-1023/2024053114/cpanreporter_000_config.ini"
    PERL_EXTUTILS_AUTOINSTALL="--defaultdeps"
    PERL_USE_UNSAFE_INC="1"
  @INC:
    /home/cpansand/.cpan/build/2024053114/Tags-HTML-0.10-0/blib/arch
    /home/cpansand/.cpan/build/2024053114/Tags-HTML-0.10-0/blib/lib
    /home/cpansand/.cpan/build/2024053114/Tags-Output-Structure-0.08-0/blib/arch
    /home/cpansand/.cpan/build/2024053114/Tags-Output-Structure-0.08-0/blib/lib
    /home/cpansand/.cpan/build/2024053114/Tags-0.16-0/blib/arch
    /home/cpansand/.cpan/build/2024053114/Tags-0.16-0/blib/lib
    /home/cpansand/.cpan/build/2024053114/Data-HTML-Element-0.17-0/blib/arch
    /home/cpansand/.cpan/build/2024053114/Data-HTML-Element-0.17-0/blib/lib
    /home/cpansand/.cpan/build/2024053114/Mo-utils-CSS-0.08-0/blib/arch
    /home/cpansand/.cpan/build/2024053114/Mo-utils-CSS-0.08-0/blib/lib
    /home/cpansand/.cpan/build/2024053114/Graphics-ColorNames-WWW-1.14-0/blib/arch
    /home/cpansand/.cpan/build/2024053114/Graphics-ColorNames-WWW-1.14-0/blib/lib
    /home/cpansand/.cpan/build/2024053114/Mo-utils-0.29-0/blib/arch
    /home/cpansand/.cpan/build/2024053114/Mo-utils-0.29-0/blib/lib
    /home/cpansand/.cpan/build/2024053114/CSS-Struct-Output-Structure-0.04-0/blib/arch
    /home/cpansand/.cpan/build/2024053114/CSS-Struct-Output-Structure-0.04-0/blib/lib
    /home/cpansand/.cpan/build/2024053114/Indent-0.09-0/blib/arch
    /home/cpansand/.cpan/build/2024053114/Indent-0.09-0/blib/lib
    /home/cpansand/.cpan/build/2024053114/CSS-Struct-0.05-0/blib/arch
    /home/cpansand/.cpan/build/2024053114/CSS-Struct-0.05-0/blib/lib
    /opt/perl-5.20.0/lib/site_perl/5.20.0/x86_64-linux
    /opt/perl-5.20.0/lib/site_perl/5.20.0
    /opt/perl-5.20.0/lib/5.20.0/x86_64-linux
    /opt/perl-5.20.0/lib/5.20.0
    .