PayProp-API-Public-Client v0.04 Perl 5 v5.30.0 x86_64-linux-thread-multi-ld

Status
Pass
From
Andreas J. König (ANDK)
Dist
PayProp-API-Public-Client v0.04
Platform
Perl 5 v5.30.0 x86_64-linux-thread-multi-ld
Date
2023-12-13 23:48:24
ID
1ad6b04e-9a12-11ee-a89d-b53efd3d226e
This distribution has been tested as part of the CPAN Testers
project, supporting the Perl programming language.  See
http://wiki.cpantesters.org/ for more information or email
questions to cpan-testers-discuss@perl.org


--
Dear Yanga Kandeni,

This is a computer-generated report for PayProp-API-Public-Client-0.04
on perl 5.30.0, created by CPAN-Reporter-1.2018.

Thank you for uploading your work to CPAN.  Congratulations!
All tests were successful.

Sections of this report:

    * Tester comments
    * Program output
    * Prerequisites
    * Environment and other context

------------------------------
TESTER COMMENTS
------------------------------

Additional comments from tester:

this report is from an automated smoke testing program
and was not reviewed by a human for accuracy

------------------------------
PROGRAM OUTPUT
------------------------------

Output from './Build test':

t/author-pod-syntax.t ............................................... skipped: these tests are for testing by the author
t/basic.t ........................................................... ok
t/payprop/api/public/client.t ....................................... ok
t/payprop/api/public/client/authorization/apikey.t .................. ok
t/payprop/api/public/client/authorization/base.t .................... ok
[2023-12-14 00:47:56.09068] [2808321] [info] Listening at "http://*:6537"
t/payprop/api/public/client/authorization/clientcredentials.t ....... ok
t/payprop/api/public/client/authorization/storage/local.t ........... ok
Unhandled rejected promise: ping failed at t/payprop/api/public/client/authorization/storage/memcached.t line 68.
t/payprop/api/public/client/authorization/storage/memcached.t ....... ok
t/payprop/api/public/client/error/authorization.t ................... ok
t/payprop/api/public/client/error/response.t ........................ ok
t/payprop/api/public/client/exception/authorization.t ............... ok
t/payprop/api/public/client/exception/base.t ........................ ok
t/payprop/api/public/client/exception/connection.t .................. ok
t/payprop/api/public/client/exception/response.t .................... ok
t/payprop/api/public/client/exception/storage.t ..................... ok
t/payprop/api/public/client/request/entity.t ........................ ok
[2023-12-14 00:47:59.69413] [2808418] [info] Listening at "http://*:6467"
[2023-12-14 00:48:00.22204] [2808419] [info] Listening at "http://*:6467"
child process '2808418' disappeared. A call to `waitpid` outside of Parallel::ForkManager might have reaped it.
[2023-12-14 00:48:00.72235] [2808445] [info] Listening at "http://*:6467"
t/payprop/api/public/client/request/entity/invoice.t ................ ok
[2023-12-14 00:48:01.76119] [2808501] [info] Listening at "http://*:6515"
[2023-12-14 00:48:02.24743] [2808525] [info] Listening at "http://*:6515"
child process '2808501' disappeared. A call to `waitpid` outside of Parallel::ForkManager might have reaped it.
[2023-12-14 00:48:02.75562] [2808527] [info] Listening at "http://*:6515"
t/payprop/api/public/client/request/entity/payment.t ................ ok
t/payprop/api/public/client/request/export.t ........................ ok
[2023-12-14 00:48:04.25542] [2808558] [info] Listening at "http://*:6482"
t/payprop/api/public/client/request/export/beneficiaries.t .......... ok
[2023-12-14 00:48:05.24965] [2808565] [info] Listening at "http://*:6509"
t/payprop/api/public/client/request/export/tenants.t ................ ok
[2023-12-14 00:48:06.28574] [2808638] [info] Listening at "http://*:6482"
[2023-12-14 00:48:06.80443] [2808639] [info] Listening at "http://*:6482"
child process '2808638' disappeared. A call to `waitpid` outside of Parallel::ForkManager might have reaped it.
[2023-12-14 00:48:07.39396] [2808640] [info] Listening at "http://*:6482"
[2023-12-14 00:48:07.83947] [2808652] [info] Listening at "http://*:6482"
child process '2808640' disappeared. A call to `waitpid` outside of Parallel::ForkManager might have reaped it.
[2023-12-14 00:48:08.37144] [2808668] [info] Listening at "http://*:6482"
[2023-12-14 00:48:08.87101] [2808682] [info] Listening at "http://*:6482"
child process '2808668' disappeared. A call to `waitpid` outside of Parallel::ForkManager might have reaped it.
[2023-12-14 00:48:09.38479] [2808689] [info] Listening at "http://*:6482"
t/payprop/api/public/client/request/tags.t .......................... ok
t/payprop/api/public/client/response/entity/invoice.t ............... ok
t/payprop/api/public/client/response/entity/payment.t ............... ok
t/payprop/api/public/client/response/export/beneficiary.t ........... ok
t/payprop/api/public/client/response/export/beneficiary/address.t ... ok
t/payprop/api/public/client/response/export/beneficiary/property.t .. ok
t/payprop/api/public/client/response/export/tenant.t ................ ok
t/payprop/api/public/client/response/export/tenant/address.t ........ ok
t/payprop/api/public/client/response/export/tenant/property.t ....... ok
t/payprop/api/public/client/response/tag.t .......................... ok
t/payprop/api/public/client/role/apirequest.t ....................... ok
t/payprop/api/public/client/role/attribute/apiversion.t ............. ok
t/payprop/api/public/client/role/attribute/authorization.t .......... ok
t/payprop/api/public/client/role/attribute/domain.t ................. ok
t/payprop/api/public/client/role/attribute/storage.t ................ ok
t/payprop/api/public/client/role/attribute/token.t .................. ok
t/payprop/api/public/client/role/attribute/ua.t ..................... ok
t/payprop/api/public/client/role/encrypt.t .......................... ok
t/payprop/api/public/client/role/json.t ............................. ok
t/payprop/api/public/client/role/request.t .......................... ok
t/payprop/api/public/client/role/storage.t .......................... ok
t/payprop/api/public/client/util/apirequest.t ....................... ok
t/payprop/api/public/client/util/request.t .......................... ok
All tests successful.
Files=44, Tests=147, 24 wallclock secs ( 0.12 usr  0.06 sys + 11.85 cusr  2.50 csys = 14.53 CPU)
Result: PASS

------------------------------
PREREQUISITES
------------------------------

Prerequisite modules loaded:

requires:

    Module                       Need  Have   
    ---------------------------- ----- -------
    Cache::Memcached             0     1.30   
    Crypt::CBC                   0     3.04   
    IO::Socket::INET             0     1.51   
    MIME::Base64                 0     3.16   
    Module::Load                 0     0.36   
    Mojo::Promise                0     0      
    Mojo::URL                    0     0      
    Mojo::UserAgent              0     0      
    Mojolicious                  0     9.34   
    Mouse                        0     v2.5.10
    Mouse::Role                  0     v2.5.10
    Mouse::Util::TypeConstraints 0     0      
    Parallel::ForkManager        0     2.02   
    parent                       0     0.238  
    POSIX                        0     1.88   
    strict                       0     1.11   
    Time::HiRes                  0     1.9764 
    warnings                     0     1.44   

build_requires:

    Module                       Need  Have   
    ---------------------------- ----- -------
    FindBin                      0     1.51   
    JSON::PP                     0     4.16   
    lib                          0     0.65   
    Test::Most                   0     0.37   

configure_requires:

    Module                       Need  Have   
    ---------------------------- ----- -------
    Module::Build::Tiny          0.034 0.046  


------------------------------
ENVIRONMENT AND OTHER CONTEXT
------------------------------

Environment variables:

    AUTOMATED_TESTING = 1
    LANG = en_US.UTF-8
    LANGUAGE = en_US:en
    PATH = /home/sand/bin:/usr/local/bin:/usr/bin:/bin:/usr/games:/usr/local/perl/bin:/usr/X11/bin:/sbin:/usr/sbin
    PERL5LIB = 
    PERL5OPT = 
    PERL5_CPANPLUS_IS_RUNNING = 2807935
    PERL5_CPAN_IS_RUNNING = 2807935
    PERL_CANARY_STABILITY_NOPROMPT = 1
    PERL_MM_USE_DEFAULT = 1
    PERL_USE_UNSAFE_INC = 1
    SHELL = /usr/bin/zsh
    TERM = screen

Perl special variables (and OS-specific diagnostics, for MSWin32):

    $^X = /home/sand/src/perl/repoperls/installed-perls/host/k93msid/v5.30.0/8854/bin/perl
    $UID/$EUID = 1005 / 1005
    $GID = 1005 1005
    $EGID = 1005 1005

Perl module toolchain versions installed:

    Module              Have    
    ------------------- --------
    CPAN                2.34    
    CPAN::Meta          2.150010
    Cwd                 3.78    
    ExtUtils::CBuilder  0.280236
    ExtUtils::Command   7.70    
    ExtUtils::Install   2.22    
    ExtUtils::MakeMaker 7.70    
    ExtUtils::Manifest  1.72    
    ExtUtils::ParseXS   3.51    
    File::Spec          3.78    
    JSON                4.10    
    JSON::PP            4.16    
    Module::Build       0.4232  
    Module::Signature   0.88    
    Parse::CPAN::Meta   2.150010
    Test::Harness       3.44    
    Test::More          1.302195
    YAML                1.30    
    YAML::Syck          1.34    
    version             0.9929  


--

Summary of my perl5 (revision 5 version 30 subversion 0) configuration:
  Commit id: 44523d1ffde5f23de2e13216cdbac46357631904
  Platform:
    osname=linux
    osvers=5.16.0-5-amd64
    archname=x86_64-linux-thread-multi-ld
    uname='linux k93msid 5.16.0-5-amd64 #1 smp preempt debian 5.16.14-1 (2022-03-15) x86_64 gnulinux '
    config_args='-Dprefix=/home/sand/src/perl/repoperls/installed-perls/host/k93msid/v5.30.0/8854 -Dmyhostname=k93msid -Dinstallusrbinperl=n -Uversiononly -Dusedevel -des -Ui_db -Dlibswanted=cl pthread socket inet nsl gdbm dbm malloc dl ld sun m crypt sec util c cposix posix ucb BSD gdbm_compat -Duseithreads -Duselongdouble -DEBUGGING=-g'
    hint=recommended
    useposix=true
    d_sigaction=define
    useithreads=define
    usemultiplicity=define
    use64bitint=define
    use64bitall=define
    uselongdouble=define
    usemymalloc=n
    default_inc_excludes_dot=define
    bincompat5005=undef
  Compiler:
    cc='cc'
    ccflags ='-D_REENTRANT -D_GNU_SOURCE -fwrapv -fpcc-struct-return -pipe -fstack-protector-strong -I/usr/local/include -D_LARGEFILE_SOURCE -D_FILE_OFFSET_BITS=64'
    optimize='-O2 -g'
    cppflags='-D_REENTRANT -D_GNU_SOURCE -fwrapv -fpcc-struct-return -pipe -fstack-protector-strong -I/usr/local/include -D__GNUC__'
    ccversion=''
    gccversion='11.2.0'
    gccosandvers=''
    intsize=4
    longsize=8
    ptrsize=8
    doublesize=8
    byteorder=12345678
    doublekind=3
    d_longlong=define
    longlongsize=8
    d_longdbl=define
    longdblsize=16
    longdblkind=3
    ivtype='long'
    ivsize=8
    nvtype='long double'
    nvsize=16
    Off_t='off_t'
    lseeksize=8
    alignbytes=16
    prototype=define
  Linker and Libraries:
    ld='cc'
    ldflags =' -fstack-protector-strong -L/usr/local/lib'
    libpth=/usr/local/lib /usr/include/x86_64-linux-gnu /usr/lib /lib/x86_64-linux-gnu /lib/../lib /usr/lib/x86_64-linux-gnu /usr/lib/../lib /lib
    libs=-lpthread -lnsl -ldl -lm -lcrypt -lutil -lc
    perllibs=-lpthread -lnsl -ldl -lm -lcrypt -lutil -lc
    libc=libc-2.33.so
    so=so
    useshrplib=false
    libperl=libperl.a
    gnulibc_version='2.33'
  Dynamic Linking:
    dlsrc=dl_dlopen.xs
    dlext=so
    d_dlsymun=undef
    ccdlflags='-Wl,-E'
    cccdlflags='-fPIC'
    lddlflags='-shared -O2 -g -L/usr/local/lib -fstack-protector-strong'


Characteristics of this binary (from libperl): 
  Compile-time options:
    HAS_TIMES
    MULTIPLICITY
    PERLIO_LAYERS
    PERL_COPY_ON_WRITE
    PERL_DONT_CREATE_GVSV
    PERL_IMPLICIT_CONTEXT
    PERL_MALLOC_WRAP
    PERL_OP_PARENT
    PERL_PRESERVE_IVUV
    PERL_USE_DEVEL
    USE_64_BIT_ALL
    USE_64_BIT_INT
    USE_ITHREADS
    USE_LARGE_FILES
    USE_LOCALE
    USE_LOCALE_COLLATE
    USE_LOCALE_CTYPE
    USE_LOCALE_NUMERIC
    USE_LOCALE_TIME
    USE_LONG_DOUBLE
    USE_PERLIO
    USE_PERL_ATOF
    USE_REENTRANT_API
    USE_THREAD_SAFE_LOCALE
  Built under linux
  Compiled at Mar 18 2022 07:34:46
  %ENV:
    PERL5LIB=""
    PERL5OPT=""
    PERL5_CPANPLUS_IS_RUNNING="2807935"
    PERL5_CPAN_IS_RUNNING="2807935"
    PERL_CANARY_STABILITY_NOPROMPT="1"
    PERL_MM_USE_DEFAULT="1"
    PERL_USE_UNSAFE_INC="1"
  @INC:
    /home/sand/src/perl/repoperls/installed-perls/host/k93msid/v5.30.0/8854/lib/site_perl/5.30.0/x86_64-linux-thread-multi-ld
    /home/sand/src/perl/repoperls/installed-perls/host/k93msid/v5.30.0/8854/lib/site_perl/5.30.0
    /home/sand/src/perl/repoperls/installed-perls/host/k93msid/v5.30.0/8854/lib/5.30.0/x86_64-linux-thread-multi-ld
    /home/sand/src/perl/repoperls/installed-perls/host/k93msid/v5.30.0/8854/lib/5.30.0
    .