Const v0.002 Perl 5 v5.8.8 darwin-2level

Status
Pass
From
Chris Williams (BINGOS)
Dist
Const v0.002
Platform
Perl 5 v5.8.8 darwin-2level
Date
2010-07-14T13:45:46
ID
1a93bcb8-8f4e-11df-a1aa-55996e8696e0
This distribution has been tested as part of the CPAN Testers
project, supporting the Perl programming language.  See
http://wiki.cpantesters.org/ for more information or email
questions to cpan-testers-discuss@perl.org


--

Dear LEONT,
    
This is a computer-generated error report created automatically by
CPANPLUS, version 0.9006. Testers personal comments may appear 
at the end of this report.

MAKE TEST passed:
# Testing Const 0.002, Perl 5.008008, /Volumes/Media/smoke/bare/perl-5.8.8/bin/perl
t/00-load.t ....... ok
t/10-basics.t ..... ok
t/pod-coverage.t .. skipped: Test::Pod::Coverage 1.08 required for testing POD coverage
t/pod.t ........... skipped: Test::Pod 1.22 required for testing POD
All tests successful.
Files=4, Tests=15,  2 wallclock secs ( 0.23 usr  0.12 sys +  0.73 cusr  0.21 csys =  1.29 CPU)
Result: PASS

[MSG] [Wed Jul 14 14:48:37 2010] Sending test report for 'Const-0.002'

This report was machine-generated by CPANPLUS::Dist::YACSmoke 0.58.
Powered by minismokebox version 0.26

------------------------------
ENVIRONMENT AND OTHER CONTEXT
------------------------------

Environment variables:

    AUTOMATED_TESTING = 1
    PATH = /bin:/sbin:/usr/bin:/usr/sbin:/usr/local/bin:/usr/local/sbin
    PERL5LIB = :/Volumes/Media/smoke/bare/conf/perl-5.8.8/.cpanplus/5.8.8/build/Sub-Uplevel-0.22/blib/lib:/Volumes/Media/smoke/bare/conf/perl-5.8.8/.cpanplus/5.8.8/build/Sub-Uplevel-0.22/blib/arch:/Volumes/Media/smoke/bare/conf/perl-5.8.8/.cpanplus/5.8.8/build/Test-Exception-0.29/blib/lib:/Volumes/Media/smoke/bare/conf/perl-5.8.8/.cpanplus/5.8.8/build/Test-Exception-0.29/blib/arch:/Volumes/Media/smoke/bare/conf/perl-5.8.8/.cpanplus/5.8.8/build/Const-0.002/blib/lib:/Volumes/Media/smoke/bare/conf/perl-5.8.8/.cpanplus/5.8.8/build/Const-0.002/blib/arch
    PERL5_CPANPLUS_IS_RUNNING = 15393
    PERL5_CPANPLUS_IS_VERSION = 0.9006
    PERL5_MINISMOKEBOX = 0.26
    PERL5_YACSMOKE_BASE = /Volumes/Media/smoke/bare/conf/perl-5.8.8
    PERL_EXTUTILS_AUTOINSTALL = --defaultdeps
    PERL_MM_USE_DEFAULT = 1
    SHELL = /bin/bash
    TERM = screen

Perl special variables (and OS-specific diagnostics, for MSWin32):

    Perl: $^X = /Volumes/Media/smoke/bare/perl-5.8.8/bin/perl
    UID:  $<  = 502
    EUID: $>  = 502
    GID:  $(  = 502 502
    EGID: $)  = 502 502


-------------------------------


--

Summary of my perl5 (revision 5 version 8 subversion 8) configuration:
  Platform:
    osname=darwin, osvers=8.11.0, archname=darwin-2level
    uname='darwin afalglas.bingosnet.co.uk 8.11.0 darwin kernel version 8.11.0: wed oct 10 18:26:00 pdt 2007; root:xnu-792.24.17~1release_ppc power macintosh powerpc '
    config_args='-de -Dprefix=/Volumes/Media/smoke/bare/perl-5.8.8'
    hint=recommended, useposix=true, d_sigaction=define
    usethreads=undef use5005threads=undef useithreads=undef usemultiplicity=undef
    useperlio=define d_sfio=undef uselargefiles=define usesocks=undef
    use64bitint=undef use64bitall=undef uselongdouble=undef
    usemymalloc=n, bincompat5005=undef
  Compiler:
    cc='cc', ccflags ='-fno-common -DPERL_DARWIN -no-cpp-precomp -fno-strict-aliasing -pipe -Wdeclaration-after-statement -I/usr/local/include',
    optimize='-O3',
    cppflags='-no-cpp-precomp -fno-common -DPERL_DARWIN -no-cpp-precomp -fno-strict-aliasing -pipe -Wdeclaration-after-statement -I/usr/local/include'
    ccversion='', gccversion='4.0.1 (Apple Computer, Inc. build 5367)', gccosandvers=''
    intsize=4, longsize=4, ptrsize=4, doublesize=8, byteorder=4321
    d_longlong=define, longlongsize=8, d_longdbl=define, longdblsize=16
    ivtype='long', ivsize=4, nvtype='double', nvsize=8, Off_t='off_t', lseeksize=8
    alignbytes=8, prototype=define
  Linker and Libraries:
    ld='env MACOSX_DEPLOYMENT_TARGET=10.3 cc', ldflags =' -L/usr/local/lib'
    libpth=/usr/local/lib /usr/lib
    libs=-ldbm -ldl -lm -lc
    perllibs=-ldl -lm -lc
    libc=/usr/lib/libc.dylib, so=dylib, useshrplib=false, libperl=libperl.a
    gnulibc_version=''
  Dynamic Linking:
    dlsrc=dl_dlopen.xs, dlext=bundle, d_dlsymun=undef, ccdlflags=' '
    cccdlflags=' ', lddlflags=' -bundle -undefined dynamic_lookup -L/usr/local/lib'


Characteristics of this binary (from libperl): 
  Compile-time options: PERL_MALLOC_WRAP USE_LARGE_FILES USE_PERLIO
  Built under darwin
  Compiled at May  9 2009 22:09:25
  %ENV:
    PERL5LIB=":/Volumes/Media/smoke/bare/conf/perl-5.8.8/.cpanplus/5.8.8/build/Sub-Uplevel-0.22/blib/lib:/Volumes/Media/smoke/bare/conf/perl-5.8.8/.cpanplus/5.8.8/build/Sub-Uplevel-0.22/blib/arch:/Volumes/Media/smoke/bare/conf/perl-5.8.8/.cpanplus/5.8.8/build/Test-Exception-0.29/blib/lib:/Volumes/Media/smoke/bare/conf/perl-5.8.8/.cpanplus/5.8.8/build/Test-Exception-0.29/blib/arch:/Volumes/Media/smoke/bare/conf/perl-5.8.8/.cpanplus/5.8.8/build/Const-0.002/blib/lib:/Volumes/Media/smoke/bare/conf/perl-5.8.8/.cpanplus/5.8.8/build/Const-0.002/blib/arch"
    PERL5_CPANPLUS_IS_RUNNING="15393"
    PERL5_CPANPLUS_IS_VERSION="0.9006"
    PERL5_MINISMOKEBOX="0.26"
    PERL5_YACSMOKE_BASE="/Volumes/Media/smoke/bare/conf/perl-5.8.8"
    PERL_EXTUTILS_AUTOINSTALL="--defaultdeps"
    PERL_MM_USE_DEFAULT="1"
  @INC:
    /Volumes/Media/smoke/bare/conf/perl-5.8.8/.cpanplus/5.8.8/build/Sub-Uplevel-0.22/blib/lib
    /Volumes/Media/smoke/bare/conf/perl-5.8.8/.cpanplus/5.8.8/build/Sub-Uplevel-0.22/blib/arch
    /Volumes/Media/smoke/bare/conf/perl-5.8.8/.cpanplus/5.8.8/build/Test-Exception-0.29/blib/lib
    /Volumes/Media/smoke/bare/conf/perl-5.8.8/.cpanplus/5.8.8/build/Test-Exception-0.29/blib/arch
    /Volumes/Media/smoke/bare/conf/perl-5.8.8/.cpanplus/5.8.8/build/Const-0.002/blib/lib
    /Volumes/Media/smoke/bare/conf/perl-5.8.8/.cpanplus/5.8.8/build/Const-0.002/blib/arch
    /Volumes/Media/smoke/bare/perl-5.8.8/lib/5.8.8/darwin-2level
    /Volumes/Media/smoke/bare/perl-5.8.8/lib/5.8.8
    /Volumes/Media/smoke/bare/perl-5.8.8/lib/site_perl/5.8.8/darwin-2level
    /Volumes/Media/smoke/bare/perl-5.8.8/lib/site_perl/5.8.8
    /Volumes/Media/smoke/bare/perl-5.8.8/lib/site_perl
    .