Mail-DKIM v1.20240923 Perl 5 v5.42.0 x86_64-linux-thread-multi

Status
Pass
From
Nick Alcock
Dist
Mail-DKIM v1.20240923
Platform
Perl 5 v5.42.0 x86_64-linux-thread-multi
Date
2025-10-11 16:34:05
ID
1a33e352-a6c0-11f0-963d-b23f35386826
This distribution has been tested as part of the CPAN Testers
project, supporting the Perl programming language.  See
http://wiki.cpantesters.org/ for more information or email
questions to cpan-testers-discuss@perl.org


--
Dear Marc Bradshaw,

This is a computer-generated report for Mail-DKIM-1.20240923
on perl 5.42.0, created by CPAN-Reporter-1.2020.

Thank you for uploading your work to CPAN.  Congratulations!
All tests were successful.

Sections of this report:

    * Tester comments
    * Program output
    * Prerequisites
    * Environment and other context

------------------------------
TESTER COMMENTS
------------------------------

Additional comments from tester:

none provided

------------------------------
PROGRAM OUTPUT
------------------------------

Output from '/usr/bin/make test':

PERL_DL_NONLAZY=1 "/pkg/perl/5.42.0/usr/bin/perl" "-MExtUtils::Command::MM" "-MTest::Harness" "-e" "undef *Test::Harness::Switches; test_harness(0, 'blib/lib', 'blib/arch')" t/*.t
t/adsp.t ........................ ok
Authentication-Results Header parse error: not expecting a string at /tmp/cpan-build/Mail-DKIM-1.20240923-0/blib/lib/Mail/DKIM/ARC/Signer.pm line 116.

Authentication-Results: Garbage Authentication-Results Header - SHOULD NOT PARSE at /tmp/cpan-build/Mail-DKIM-1.20240923-0/blib/lib/Mail/DKIM/ARC/Signer.pm line 121.
t/arc-draft-sign-tests.t ........ ok
t/arc-draft-validation-tests.t .. ok
t/arc-signer.t .................. ok
t/author-pod-syntax.t ........... skipped: these tests are for testing by the author
t/dev-manifest.t ................ skipped: Author tests not required for installation
t/external_signer.t ............. ok
t/Mail-DKIM.t ................... ok
t/policy.t ...................... ok
t/public_key.t .................. ok
t/signature.t ................... ok
t/signer.t ...................... ok
t/signer_dk.t ................... ok
t/signer_expiration.t ........... ok
t/signer_expiration_set_time.t .. ok
t/signer_policy.t ............... ok
t/simple_canonicalization.t ..... ok
t/textwrap.t .................... ok
did not cache that DNS entry: 2023-05-ed25519-does-not-exist._domainkey.wander.science
>>>
No results: NXDOMAIN
<<<
t/verifier.t .................... ok
t/verifier_strict.t ............. ok
All tests successful.
Files=20, Tests=495,  4 wallclock secs ( 0.16 usr  0.00 sys +  2.98 cusr  0.18 csys =  3.32 CPU)
Result: PASS

------------------------------
PREREQUISITES
------------------------------

Prerequisite modules loaded:

requires:

    Module                                          Need  Have      
    ----------------------------------------------- ----- ----------
    base                                            0     2.27      
    Carp                                            0     1.54      
    Crypt::OpenSSL::RSA                             0     0.35      
    Crypt::PK::Ed25519                              0     0.087     
    Digest::SHA                                     0     6.04      
    Mail::Address                                   0     2.22      
    Mail::AuthenticationResults::Header::AuthServID 0     2.20250709
    Mail::AuthenticationResults::Parser             0     2.20250709
    MIME::Base64                                    0     3.16_01   
    Net::DNS                                        0     1.53      
    perl                                            5.006 5.042000  
    strict                                          0     1.14      
    warnings                                        0     1.74      

build_requires:

    Module                                          Need  Have      
    ----------------------------------------------- ----- ----------
    Data::Dumper                                    0     2.192     
    ExtUtils::MakeMaker                             0     7.76      
    lib                                             0     0.65      
    Net::DNS::Resolver                              0     2017      
    Net::DNS::Resolver::Mock                        0     1.20230216
    Test::More                                      0     1.302214  
    Test::RequiresInternet                          0     0.05      
    Test::Simple                                    0     1.302214  
    YAML                                            0     1.31      
    YAML::XS                                        0     v0.904.0  

configure_requires:

    Module                                          Need  Have      
    ----------------------------------------------- ----- ----------
    ExtUtils::MakeMaker                             0     7.76      


------------------------------
ENVIRONMENT AND OTHER CONTEXT
------------------------------

Environment variables:

    LANG = en_GB.UTF-8
    LC_COLLATE = C
    PATH = /usr/sbin:/usr/bin:/usr/games
    PERL5LIB = 
    PERL5OPT = 
    PERL5_CPANPLUS_IS_RUNNING = 25257
    PERL5_CPAN_IS_RUNNING = 25257
    PERL_USE_UNSAFE_INC = 1
    SHELL = /bin/bash
    TERM = vte

Perl special variables (and OS-specific diagnostics, for MSWin32):

    $^X = /pkg/perl/5.42.0/usr/bin/perl
    $UID/$EUID = 0 / 0
    $GID = 0 0 1 2 3 4 6 10 11 16 25 72 73 80 81 89
    $EGID = 0 0 1 2 3 4 6 10 11 16 25 72 73 80 81 89

Perl module toolchain versions installed:

    Module              Have    
    ------------------- --------
    CPAN                2.38    
    CPAN::Meta          2.150010
    Cwd                 3.94    
    ExtUtils::CBuilder  0.280242
    ExtUtils::Command   7.76    
    ExtUtils::Install   2.22    
    ExtUtils::MakeMaker 7.76    
    ExtUtils::Manifest  1.75    
    ExtUtils::ParseXS   3.57    
    File::Spec          3.94    
    JSON                4.10    
    JSON::PP            4.16    
    Module::Build       0.4234  
    Module::Signature   0.93    
    Parse::CPAN::Meta   2.150010
    Test2               1.302214
    Test::Harness       3.50    
    Test::More          1.302214
    YAML                1.31    
    YAML::Syck          n/a     
    version             0.9933  


--

Summary of my perl5 (revision 5 version 42 subversion 0) configuration:
   
  Platform:
    osname=linux
    osvers=6.15.6-00002-g0d4613ee4427-dirty
    archname=x86_64-linux-thread-multi
    uname='linux loom 6.15.6-00002-g0d4613ee4427-dirty #2 smp sun jul 13 12:35:56 bst 2025 x86_64 gnulinux '
    config_args='-d -e -Duseithreads -D privlib=/usr/lib/perl5/5.42 -D sitelib=/usr/lib/perl5/site_perl/5.42 -D optimize=-std=gnu17 -fzero-init-padding-bits=unions -gdwarf-4 -feliminate-unused-debug-types -fvar-tracking-assignments -O2 -pipe '
    hint=recommended
    useposix=true
    d_sigaction=define
    useithreads=define
    usemultiplicity=define
    use64bitint=define
    use64bitall=define
    uselongdouble=undef
    usemymalloc=n
    default_inc_excludes_dot=define
  Compiler:
    cc='gcc'
    ccflags ='-D_REENTRANT -D_GNU_SOURCE -D_REENTRANT -D_GNU_SOURCE -g -fno-strict-aliasing -D_LARGEFILE_SOURCE -D_FILE_OFFSET_BITS=64 -pipe -fstack-protector-strong -fwrapv -feliminate-unused-debug-types -fvar-tracking-assignments -fstack-clash-protection -fno-lto -D_LARGEFILE_SOURCE -D_FILE_OFFSET_BITS=64 -D_FORTIFY_SOURCE=2'
    optimize='-std=gnu17 -fzero-init-padding-bits=unions -gdwarf-4 -feliminate-unused-debug-types -fvar-tracking-assignments -O2 -pipe '
    cppflags='-D_REENTRANT -D_GNU_SOURCE -D_REENTRANT -D_GNU_SOURCE -g -fno-strict-aliasing -D_LARGEFILE_SOURCE -D_FILE_OFFSET_BITS=64 -pipe -fstack-protector-strong -fwrapv -feliminate-unused-debug-types -fvar-tracking-assignments -fstack-clash-protection -fno-lto'
    ccversion=''
    gccversion='15.1.1 20250722'
    gccosandvers=''
    intsize=4
    longsize=8
    ptrsize=8
    doublesize=8
    byteorder=12345678
    doublekind=3
    d_longlong=define
    longlongsize=8
    d_longdbl=define
    longdblsize=16
    longdblkind=3
    ivtype='long'
    ivsize=8
    nvtype='double'
    nvsize=8
    Off_t='off_t'
    lseeksize=8
    alignbytes=8
    prototype=define
  Linker and Libraries:
    ld='gcc'
    ldflags ='-Wl,--enable-new-dtags -fstack-protector-strong -L/usr/local/lib'
    libpth=/usr/lib /lib /usr/local/lib
    libs=-lpthread -lgdbm -ldb -ldl -lm -lcrypt -lutil -lc -lgdbm_compat
    perllibs=-lpthread -ldl -lm -lcrypt -lutil -lc
    libc=/lib/64/libc.so.6
    so=so
    useshrplib=true
    libperl=libperl.so
    gnulibc_version='2.41'
  Dynamic Linking:
    dlsrc=dl_dlopen.xs
    dlext=so
    d_dlsymun=undef
    ccdlflags='-Wl,-E -Wl,-rpath,/usr/lib/perl5/5.42/x86_64-linux-thread-multi/CORE'
    cccdlflags='-fPIC'
    lddlflags='-shared -std=gnu17 -fzero-init-padding-bits=unions -gdwarf-4 -feliminate-unused-debug-types -fvar-tracking-assignments -O2 -pipe  -L/usr/local/lib -fstack-protector-strong'


Characteristics of this binary (from libperl): 
  Compile-time options:
    HAS_LONG_DOUBLE
    HAS_STRTOLD
    HAS_TIMES
    MULTIPLICITY
    PERLIO_LAYERS
    PERL_COPY_ON_WRITE
    PERL_DONT_CREATE_GVSV
    PERL_HASH_FUNC_SIPHASH13
    PERL_HASH_USE_SBOX32
    PERL_MALLOC_WRAP
    PERL_OP_PARENT
    PERL_PRESERVE_IVUV
    PERL_USE_SAFE_PUTENV
    USE_64_BIT_ALL
    USE_64_BIT_INT
    USE_ITHREADS
    USE_LARGE_FILES
    USE_LOCALE
    USE_LOCALE_COLLATE
    USE_LOCALE_CTYPE
    USE_LOCALE_NUMERIC
    USE_LOCALE_TIME
    USE_PERLIO
    USE_PERL_ATOF
    USE_REENTRANT_API
    USE_THREAD_SAFE_LOCALE
  Built under linux
  Compiled at Oct 11 2025 16:22:39
  %ENV:
    PERL5LIB=""
    PERL5OPT=""
    PERL5_CPANPLUS_IS_RUNNING="25257"
    PERL5_CPAN_IS_RUNNING="25257"
    PERL_USE_UNSAFE_INC="1"
  @INC:
    /usr/lib/perl5/site_perl/5.42/x86_64-linux-thread-multi
    /usr/lib/perl5/site_perl/5.42
    /usr/lib/perl5/5.42/x86_64-linux-thread-multi
    /usr/lib/perl5/5.42
    .