Form-Tiny v2.20 Perl 5 v5.22.2 x86_64-linux

Status
Pass
From
Slaven Rezić
Dist
Form-Tiny v2.20
Platform
Perl 5 v5.22.2 x86_64-linux
Date
2023-08-22 04:48:11
ID
18f40106-40a7-11ee-b8c7-3b096e8775ea
This distribution has been tested as part of the CPAN Testers
project, supporting the Perl programming language.  See
http://wiki.cpantesters.org/ for more information or email
questions to cpan-testers-discuss@perl.org


--
Dear Bartosz Jarzyna,

This is a computer-generated report for Form-Tiny-2.20
on perl 5.22.2, created by CPAN-Reporter-1.2018.

Thank you for uploading your work to CPAN.  Congratulations!
All tests were successful.

Sections of this report:

    * Tester comments
    * Program output
    * Prerequisites
    * Environment and other context

------------------------------
TESTER COMMENTS
------------------------------

Additional comments from tester:

none provided

------------------------------
PROGRAM OUTPUT
------------------------------

Output from '/usr/bin/make test':

PERL_DL_NONLAZY=1 "/opt/perl-5.22.2/bin/perl" "-MExtUtils::Command::MM" "-MTest::Harness" "-e" "undef *Test::Harness::Switches; test_harness(0, 'blib/lib', 'blib/arch')" t/*.t t/500-subforms/*.t t/800-inheritance/*.t t/900-plugins/*.t t/990-examples/*.t t/999-bugfixes/*.t
t/010-no-arguments.t .................. ok
t/011-no-moo.t ........................ ok
t/012-names.t ......................... ok
t/013-meta.t .......................... ok
t/014-cloning.t ....................... ok
t/020-inline.t ........................ ok
t/030-errors.t ........................ ok
t/031-adding-errors.t ................. ok
t/032-errors-hash.t ................... ok
t/040-format.t ........................ ok
t/050-required.t ...................... ok
t/060-strictness.t .................... ok
t/070-filtering.t ..................... ok
t/071-field-filtering.t ............... ok
t/080-adjustments.t ................... ok
t/090-cleaning.t ...................... ok
t/100-subroutines.t ................... ok
t/110-tiny-types.t .................... ok
t/120-tiny-types-coerce.t ............. ok
t/130-arrays.t ........................ ok
t/140-arrays-required.t ............... ok
t/150-nested-hash.t ................... ok
t/160-nested-form.t ................... ok
t/170-nested-mixed.t .................. ok
t/180-triple-nest.t ................... ok
t/190-hooks.t ......................... ok
t/200-data.t .......................... ok
t/210-helpers.t ....................... ok
t/220-default.t ....................... ok
t/221-default-flat.t .................. ok
t/230-nesting-escape.t ................ ok
t/240-context.t ....................... ok
t/250-messages.t ...................... ok
t/251-form-messages.t ................. ok
t/260-additional-validators.t ......... ok
t/270-consistent-api.t ................ ok
t/280-blueprint.t ..................... ok
t/281-dynamic-blueprint.t ............. ok
t/290-custom-field-defs.t ............. ok
t/300-value.t ......................... ok
t/500-subforms/01-default.t ........... ok
t/500-subforms/02-message.t ........... ok
t/800-inheritance/010-simple.t ........ ok
t/800-inheritance/020-plugins.t ....... ok
t/900-plugins/010-subroutine.t ........ ok
t/900-plugins/020-role.t .............. ok
t/900-plugins/030-metarole.t .......... ok
t/990-examples/010-inline-form.t ...... ok
t/990-examples/020-metaobject.t ....... ok
t/990-examples/030-regular-form.t ..... ok
t/999-bugfixes/001-3-plugins-array.t .. ok
t/999-bugfixes/002-8-empty-form.t ..... ok
t/author-01-object-pad.t .............. skipped: these tests are for testing by the author
t/author-02-bless.t ................... skipped: these tests are for testing by the author
t/author-03-autoclean.t ............... skipped: these tests are for testing by the author
t/author-pod-syntax.t ................. skipped: these tests are for testing by the author
All tests successful.
Files=56, Tests=529,  7 wallclock secs ( 0.13 usr  0.02 sys +  6.06 cusr  0.61 csys =  6.82 CPU)
Result: PASS

------------------------------
PREREQUISITES
------------------------------

Prerequisite modules loaded:

requires:

    Module              Need     Have    
    ------------------- -------- --------
    Import::Into        0        1.002005
    Moo                 2.000000 2.002004
    perl                5.010    5.022002
    Sub::Util           0        1.45    
    Type::Tiny          1.004000 2.004000

build_requires:

    Module              Need     Have    
    ------------------- -------- --------
    ExtUtils::MakeMaker 0        7.24    
    Test::Exception     0        0.43    

configure_requires:

    Module              Need     Have    
    ------------------- -------- --------
    ExtUtils::MakeMaker 0        7.24    


------------------------------
ENVIRONMENT AND OTHER CONTEXT
------------------------------

Environment variables:

    LANG = en_US.UTF-8
    LANGUAGE = en_US:en
    LC_ALL = en_US.UTF-8
    PATH = /usr/local/bin:/usr/bin:/bin:/usr/local/sbin:/usr/sbin:/sbin:/home/cpansand/bin/linux-gnu:/home/cpansand/bin/sh:/home/cpansand/bin:/usr/games:/home/cpansand/devel:/home/eserte/src/srezic-misc/scripts
    PERL5LIB = /home/cpansand/.cpan/build/2023082206/Type-Tiny-2.004000-1/blib/arch:/home/cpansand/.cpan/build/2023082206/Type-Tiny-2.004000-1/blib/lib:/home/cpansand/.cpan/build/2023082206/Exporter-Tiny-1.006002-1/blib/arch:/home/cpansand/.cpan/build/2023082206/Exporter-Tiny-1.006002-1/blib/lib
    PERL5OPT = 
    PERL5_CPANPLUS_IS_RUNNING = 7418
    PERL5_CPAN_IS_RUNNING = 7418
    PERL5_CPAN_IS_RUNNING_IN_RECURSION = 5905,7418
    PERLDOC = -MPod::Perldoc::ToTextOverstrike
    PERL_BATCH = yes
    PERL_CANARY_STABILITY_NOPROMPT = 1
    PERL_CPAN_REPORTER_CONFIG = /var/tmp/cpansmoker-1023/2023082206/cpanreporter_000_config.ini
    PERL_EXTUTILS_AUTOINSTALL = --defaultdeps
    PERL_USE_UNSAFE_INC = 1
    SHELL = /bin/zsh
    TERM = screen
    TMPDIR = /var/tmp/cpansmoker-1023/2023082206

Perl special variables (and OS-specific diagnostics, for MSWin32):

    $^X = /opt/perl-5.22.2/bin/perl
    $UID/$EUID = 1023 / 1023
    $GID = 1023 1023
    $EGID = 1023 1023

Perl module toolchain versions installed:

    Module              Have    
    ------------------- --------
    CPAN                2.16    
    CPAN::Meta          2.150010
    Cwd                 3.62    
    ExtUtils::CBuilder  0.280221
    ExtUtils::Command   7.24    
    ExtUtils::Install   2.04    
    ExtUtils::MakeMaker 7.24    
    ExtUtils::Manifest  1.70    
    ExtUtils::ParseXS   3.28    
    File::Spec          3.62    
    JSON                2.90    
    JSON::PP            2.27300 
    Module::Build       0.4220  
    Module::Signature   0.81    
    Parse::CPAN::Meta   2.150010
    Test::Harness       3.35    
    Test::More          1.302052
    YAML                1.17    
    YAML::Syck          1.29    
    version             0.9917  


--

Summary of my perl5 (revision 5 version 22 subversion 2) configuration:
   
  Platform:
    osname=linux, osvers=3.2.0-4-amd64, archname=x86_64-linux
    uname='linux cvrsnica-wheezy 3.2.0-4-amd64 #1 smp debian 3.2.54-2 x86_64 gnulinux '
    config_args='-ds -e -Dprefix=/opt/perl-5.22.2 -Dcf_email=srezic@cpan.org'
    hint=recommended, useposix=true, d_sigaction=define
    useithreads=undef, usemultiplicity=undef
    use64bitint=define, use64bitall=define, uselongdouble=undef
    usemymalloc=n, bincompat5005=undef
  Compiler:
    cc='cc', ccflags ='-fwrapv -fno-strict-aliasing -pipe -fstack-protector -I/usr/local/include -D_LARGEFILE_SOURCE -D_FILE_OFFSET_BITS=64 -D_FORTIFY_SOURCE=2',
    optimize='-O2',
    cppflags='-fwrapv -fno-strict-aliasing -pipe -fstack-protector -I/usr/local/include'
    ccversion='', gccversion='4.7.2', gccosandvers=''
    intsize=4, longsize=8, ptrsize=8, doublesize=8, byteorder=12345678, doublekind=3
    d_longlong=define, longlongsize=8, d_longdbl=define, longdblsize=16, longdblkind=3
    ivtype='long', ivsize=8, nvtype='double', nvsize=8, Off_t='off_t', lseeksize=8
    alignbytes=8, prototype=define
  Linker and Libraries:
    ld='cc', ldflags =' -fstack-protector -L/usr/local/lib'
    libpth=/usr/local/lib /usr/lib/gcc/x86_64-linux-gnu/4.7/include-fixed /usr/include/x86_64-linux-gnu /usr/lib /lib/x86_64-linux-gnu /lib/../lib /usr/lib/x86_64-linux-gnu /usr/lib/../lib /lib
    libs=-lpthread -lnsl -ldb -ldl -lm -lcrypt -lutil -lc
    perllibs=-lpthread -lnsl -ldl -lm -lcrypt -lutil -lc
    libc=libc-2.13.so, so=so, useshrplib=false, libperl=libperl.a
    gnulibc_version='2.13'
  Dynamic Linking:
    dlsrc=dl_dlopen.xs, dlext=so, d_dlsymun=undef, ccdlflags='-Wl,-E'
    cccdlflags='-fPIC', lddlflags='-shared -O2 -L/usr/local/lib -fstack-protector'


Characteristics of this binary (from libperl): 
  Compile-time options: HAS_TIMES PERLIO_LAYERS PERL_DONT_CREATE_GVSV
                        PERL_HASH_FUNC_ONE_AT_A_TIME_HARD PERL_MALLOC_WRAP
                        PERL_NEW_COPY_ON_WRITE PERL_PRESERVE_IVUV
                        USE_64_BIT_ALL USE_64_BIT_INT USE_LARGE_FILES
                        USE_LOCALE USE_LOCALE_COLLATE USE_LOCALE_CTYPE
                        USE_LOCALE_NUMERIC USE_LOCALE_TIME USE_PERLIO
                        USE_PERL_ATOF
  Built under linux
  Compiled at May 29 2016 23:41:57
  %ENV:
    PERL5LIB="/home/cpansand/.cpan/build/2023082206/Type-Tiny-2.004000-1/blib/arch:/home/cpansand/.cpan/build/2023082206/Type-Tiny-2.004000-1/blib/lib:/home/cpansand/.cpan/build/2023082206/Exporter-Tiny-1.006002-1/blib/arch:/home/cpansand/.cpan/build/2023082206/Exporter-Tiny-1.006002-1/blib/lib"
    PERL5OPT=""
    PERL5_CPANPLUS_IS_RUNNING="7418"
    PERL5_CPAN_IS_RUNNING="7418"
    PERL5_CPAN_IS_RUNNING_IN_RECURSION="5905,7418"
    PERLDOC="-MPod::Perldoc::ToTextOverstrike"
    PERL_BATCH="yes"
    PERL_CANARY_STABILITY_NOPROMPT="1"
    PERL_CPAN_REPORTER_CONFIG="/var/tmp/cpansmoker-1023/2023082206/cpanreporter_000_config.ini"
    PERL_EXTUTILS_AUTOINSTALL="--defaultdeps"
    PERL_USE_UNSAFE_INC="1"
  @INC:
    /home/cpansand/.cpan/build/2023082206/Type-Tiny-2.004000-1/blib/arch
    /home/cpansand/.cpan/build/2023082206/Type-Tiny-2.004000-1/blib/lib
    /home/cpansand/.cpan/build/2023082206/Exporter-Tiny-1.006002-1/blib/arch
    /home/cpansand/.cpan/build/2023082206/Exporter-Tiny-1.006002-1/blib/lib
    /opt/perl-5.22.2/lib/site_perl/5.22.2/x86_64-linux
    /opt/perl-5.22.2/lib/site_perl/5.22.2
    /opt/perl-5.22.2/lib/5.22.2/x86_64-linux
    /opt/perl-5.22.2/lib/5.22.2
    .