Smartcat-Client v0.0.1 Perl 5 v5.20.2 x86_64-linux-thread-multi

Status
Pass
From
David Cantrell (DCANTRELL)
Dist
Smartcat-Client v0.0.1
Platform
Perl 5 v5.20.2 x86_64-linux-thread-multi
Date
2018-10-06 07:11:51
ID
18f1702c-c937-11e8-8e24-0fd87247484a
This distribution has been tested as part of the CPAN Testers
project, supporting the Perl programming language.  See
http://wiki.cpantesters.org/ for more information or email
questions to cpan-testers-discuss@perl.org


--
Dear Taras Semenenko,

This is a computer-generated report for Smartcat-Client-0.0.1
on perl 5.20.2, created by CPAN-Reporter-1.2018.

Thank you for uploading your work to CPAN.  Congratulations!
All tests were successful.

Sections of this report:

    * Tester comments
    * Program output
    * Prerequisites
    * Environment and other context

------------------------------
TESTER COMMENTS
------------------------------

Additional comments from tester:

this report is from an automated smoke testing program
and was not reviewed by a human for accuracy

------------------------------
PROGRAM OUTPUT
------------------------------

Output from './Build test':

t/AccountApiTest.t .............................................. ok
t/AccountModelTest.t ............................................ ok
t/AdditionalHeaderModelTest.t ................................... ok
t/AssignExecutivesRequestModelTest.t ............................ ok
t/AssignMyTeamExecutivesRequestModelTest.t ...................... ok
t/AssignedExecutiveModelTest.t .................................. ok
t/BilingualFileImportSetingsModelTest.t ......................... ok
t/CallbackApiTest.t ............................................. ok
t/CallbackErrorModelTest.t ...................................... ok
t/CallbackPropertyModelTest.t ................................... ok
t/CancelInvoiceModelTest.t ...................................... ok
t/ClientApiTest.t ............................................... ok
t/ClientModelTest.t ............................................. ok
t/CreateDocumentPropertyModelTest.t ............................. ok
t/CreateInvoiceModelTest.t ...................................... ok
t/CreateProjectModelTest.t ...................................... ok
t/CreateTranslationMemoryModelTest.t ............................ ok
t/DirectoriesApiTest.t .......................................... ok
t/DirectoryItemModelTest.t ...................................... ok
t/DirectoryModelTest.t .......................................... ok
t/DocumentApiTest.t ............................................. ok
t/DocumentExportApiTest.t ....................................... ok
t/DocumentModelTest.t ........................................... ok
t/DocumentStatisticsModelTest.t ................................. ok
t/DocumentTargetIdTest.t ........................................ ok
t/DocumentWorkflowStageModelTest.t .............................. ok
t/ExecutiveModelTest.t .......................................... ok
t/ExecutiveStatisticsModelTest.t ................................ ok
t/ExecutiveTest.t ............................................... ok
t/ExportDocumentTaskModelTest.t ................................. ok
t/FileFormatModelTest.t ......................................... ok
t/GlossaryApiTest.t ............................................. ok
t/GlossaryModelTest.t ........................................... ok
t/ImportJobModelTest.t .......................................... ok
t/InhouseTranslatorCreationModelTest.t .......................... ok
t/InvoiceApiTest.t .............................................. ok
t/LspServiceModelTest.t ......................................... ok
t/MTEngineModelTest.t ........................................... ok
t/ModelWithFilesCreateProjectModelTest.t ........................ ok
t/ModelWithFilesIReadOnlyListCreateDocumentPropertyModelTest.t .. ok
t/ModelWithFilesUploadDocumentPropertiesModelTest.t ............. ok
t/MyTeamMemberModelTest.t ....................................... ok
t/MyTeamSearchRequestModelTest.t ................................ ok
t/NetRateModelTest.t ............................................ ok
t/ObjectTest.t .................................................. ok
t/PlaceholderFormatApiApiTest.t ................................. ok
t/PlaceholderFormatModelTest.t .................................. ok
t/ProjectApiTest.t .............................................. ok
t/ProjectChangesModelTest.t ..................................... ok
t/ProjectModelTest.t ............................................ ok
t/ProjectStatisticsModelTest.t .................................. ok
t/ProjectStatisticsObsoleteModelTest.t .......................... ok
t/ProjectTranslationMemoryModelTest.t ........................... ok
t/ProjectWorkflowStageModelTest.t ............................... ok
t/SegmentModelTest.t ............................................ ok
t/SegmentTagModelTest.t ......................................... ok
t/SegmentWithMatchesModelTest.t ................................. ok
t/ServiceModelTest.t ............................................ ok
t/StatisticsRowModelTest.t ...................................... ok
t/TMImportTaskModelTest.t ....................................... ok
t/TMMatchesRequestTest.t ........................................ ok
t/TMRangeRateModelTest.t ........................................ ok
t/TagsFromUnitTest.t ............................................ ok
t/TranslationMemoriesApiTest.t .................................. ok
t/TranslationMemoriesForLanguageModelTest.t ..................... ok
t/TranslationMemoryForProjectModelTest.t ........................ ok
t/TranslationMemoryModelTest.t .................................. ok
t/UploadDocumentPropertiesModelTest.t ........................... ok
t/UploadedFileTest.t ............................................ ok
t/author-pod-syntax.t ........................................... skipped: these tests are for testing by the author
All tests successful.
Files=70, Tests=138, 25 wallclock secs ( 0.15 usr  0.34 sys + 10.94 cusr  1.53 csys = 12.96 CPU)
Result: PASS

------------------------------
PREREQUISITES
------------------------------

Prerequisite modules loaded:

requires:

    Module                   Need   Have    
    ------------------------ ------ --------
    base                     0      2.22    
    Carp                     0      1.50    
    Class::Accessor          0      0.51    
    Class::Data::Inheritable 0      0.08    
    Class::Inspector         0      1.32    
    constant                 0      1.31    
    Data::Dumper             0      2.151_01
    Date::Parse              0      2.30    
    DateTime                 0      1.50    
    Exporter                 0      5.71    
    HTTP::Headers            0      6.18    
    HTTP::Request::Common    0      6.18    
    HTTP::Response           0      6.18    
    HTTP::Status             0      6.18    
    JSON                     0      2.90    
    List::MoreUtils          0      0.428   
    Log::Any                 0      1.707   
    LWP::UserAgent           0      6.35    
    MIME::Base64             0      3.14    
    Module::Find             0      0.13    
    Module::Runtime          0      0.016   
    Moose::Role              0      2.2011  
    namespace::autoclean     0      0.28    
    perl                     v5.6.0 5.020002
    Scalar::Util             0      1.50    
    strict                   0      1.08    
    URI::Escape              0      3.31    
    URI::Query               0      0.16    
    utf8                     0      1.13_01 
    warnings                 0      1.23    

build_requires:

    Module                   Need   Have    
    ------------------------ ------ --------
    File::Spec               0      3.48_01 
    IO::Handle               0      1.35    
    IPC::Open3               0      1.16    
    lib                      0      0.63    
    Test::Exception          0      0.43    
    Test::More               0      1.302140

configure_requires:

    Module                   Need   Have    
    ------------------------ ------ --------
    ExtUtils::MakeMaker      0      6.98    
    Module::Build::Tiny      0.034  0.039   


------------------------------
ENVIRONMENT AND OTHER CONTEXT
------------------------------

Environment variables:

    AUTOMATED_TESTING = 1
    NONINTERACTIVE_TESTING = 1
    PATH = /usr/local/bin:/usr/bin:/bin:/usr/local/games:/usr/games
    PERL = 5.20.2
    PERL5LIB = 
    PERL5OPT = 
    PERL5_CPANPLUS_IS_RUNNING = 6722
    PERL5_CPAN_IS_RUNNING = 6722
    PERLVER = 5.20.2
    PERL_INLINE_DIRECTORY = /home/david/.Inline-5.20.2
    PERL_MM_USE_DEFAULT = 1
    PERL_USE_UNSAFE_INC = 0
    SHELL = /bin/bash
    TERM = screen

Perl special variables (and OS-specific diagnostics, for MSWin32):

    $^X = /home/david/cpantesting/perl-5.20.2/bin/perl
    $UID/$EUID = 1000 / 1000
    $GID = 1000 1000
    $EGID = 1000 1000

Perl module toolchain versions installed:

    Module              Have    
    ------------------- --------
    CPAN                2.05    
    CPAN::Meta          2.150010
    Cwd                 3.48_01 
    ExtUtils::CBuilder  0.280217
    ExtUtils::Command   1.18    
    ExtUtils::Install   1.67    
    ExtUtils::MakeMaker 6.98    
    ExtUtils::Manifest  1.63    
    ExtUtils::ParseXS   3.35    
    File::Spec          3.48_01 
    JSON                2.90    
    JSON::PP            2.27400 
    Module::Build       0.4224  
    Module::Signature   n/a     
    Parse::CPAN::Meta   2.150010
    Test::Harness       3.42    
    Test::More          1.302140
    YAML                1.18    
    YAML::Syck          n/a     
    version             0.9909  


--

Summary of my perl5 (revision 5 version 20 subversion 2) configuration:
   
  Platform:
    osname=linux, osvers=3.16.0-4-amd64, archname=x86_64-linux-thread-multi
    uname='linux pigsty.barnyard.co.uk 3.16.0-4-amd64 #1 smp debian 3.16.36-1+deb8u1 (2016-09-03) x86_64 gnulinux '
    config_args='-de -Duse64bitall -Dusethreads -Dprefix=/home/david/cpantesting/perl-5.20.2'
    hint=recommended, useposix=true, d_sigaction=define
    useithreads=define, usemultiplicity=define
    use64bitint=define, use64bitall=define, uselongdouble=undef
    usemymalloc=n, bincompat5005=undef
  Compiler:
    cc='cc', ccflags ='-D_REENTRANT -D_GNU_SOURCE -fwrapv -fno-strict-aliasing -pipe -fstack-protector -I/usr/local/include -D_LARGEFILE_SOURCE -D_FILE_OFFSET_BITS=64',
    optimize='-O2',
    cppflags='-D_REENTRANT -D_GNU_SOURCE -fwrapv -fno-strict-aliasing -pipe -fstack-protector -I/usr/local/include'
    ccversion='', gccversion='4.9.2', gccosandvers=''
    intsize=4, longsize=8, ptrsize=8, doublesize=8, byteorder=12345678
    d_longlong=define, longlongsize=8, d_longdbl=define, longdblsize=16
    ivtype='long', ivsize=8, nvtype='double', nvsize=8, Off_t='off_t', lseeksize=8
    alignbytes=8, prototype=define
  Linker and Libraries:
    ld='cc', ldflags =' -fstack-protector -L/usr/local/lib'
    libpth=/usr/local/lib /usr/lib/gcc/x86_64-linux-gnu/4.9/include-fixed /usr/include/x86_64-linux-gnu /usr/lib /lib/x86_64-linux-gnu /lib/../lib /usr/lib/x86_64-linux-gnu /usr/lib/../lib /lib
    libs=-lnsl -ldb -ldl -lm -lcrypt -lutil -lpthread -lc
    perllibs=-lnsl -ldl -lm -lcrypt -lutil -lpthread -lc
    libc=libc-2.19.so, so=so, useshrplib=false, libperl=libperl.a
    gnulibc_version='2.19'
  Dynamic Linking:
    dlsrc=dl_dlopen.xs, dlext=so, d_dlsymun=undef, ccdlflags='-Wl,-E'
    cccdlflags='-fPIC', lddlflags='-shared -O2 -L/usr/local/lib -fstack-protector'


Characteristics of this binary (from libperl): 
  Compile-time options: HAS_TIMES MULTIPLICITY PERLIO_LAYERS
                        PERL_DONT_CREATE_GVSV
                        PERL_HASH_FUNC_ONE_AT_A_TIME_HARD
                        PERL_IMPLICIT_CONTEXT PERL_MALLOC_WRAP
                        PERL_NEW_COPY_ON_WRITE PERL_PRESERVE_IVUV
                        USE_64_BIT_ALL USE_64_BIT_INT USE_ITHREADS
                        USE_LARGE_FILES USE_LOCALE USE_LOCALE_COLLATE
                        USE_LOCALE_CTYPE USE_LOCALE_NUMERIC USE_PERLIO
                        USE_PERL_ATOF USE_REENTRANT_API
  Locally applied patches:
	Devel::PatchPerl 1.44
  Built under linux
  Compiled at Oct 12 2016 16:20:03
  %ENV:
    PERL="5.20.2"
    PERL5LIB=""
    PERL5OPT=""
    PERL5_CPANPLUS_IS_RUNNING="6722"
    PERL5_CPAN_IS_RUNNING="6722"
    PERLVER="5.20.2"
    PERL_INLINE_DIRECTORY="/home/david/.Inline-5.20.2"
    PERL_MM_USE_DEFAULT="1"
    PERL_USE_UNSAFE_INC="0"
  @INC:
    /home/david/cpantesting/perl-5.20.2/lib/site_perl/5.20.2/x86_64-linux-thread-multi
    /home/david/cpantesting/perl-5.20.2/lib/site_perl/5.20.2
    /home/david/cpantesting/perl-5.20.2/lib/5.20.2/x86_64-linux-thread-multi
    /home/david/cpantesting/perl-5.20.2/lib/5.20.2
    .