Report for Algorithm-AM-3.03-TRIAL

Back
From: metabase:user:838e5b0a-2bb6-1016-a696-43a2537fa0c6
Subject: PASS Algorithm-AM-3.03-TRIAL v5.16.2 
Date: 2014-09-24T20:26:19Z

This distribution has been tested as part of the CPAN Testers
project, supporting the Perl programming language.  See
http://wiki.cpantesters.org/ for more information or email
questions to cpan-testers-discuss@perl.org


--
Dear Nathan Gary Glenn,

This is a computer-generated report for Algorithm-AM-3.03-TRIAL
on perl 5.16.2, created by CPAN-Reporter-1.2011.

Thank you for uploading your work to CPAN.  Congratulations!
All tests were successful.

Sections of this report:

    * Tester comments
    * Program output
    * Prerequisites
    * Environment and other context

------------------------------
TESTER COMMENTS
------------------------------

Additional comments from tester:

this report is from an automated smoke testing program
and was not reviewed by a human for accuracy

------------------------------
PROGRAM OUTPUT
------------------------------

Output from 'C:\Users\solimanod\Desktop\strawberry-perl-5.16.2.1-64bit-portable\c\bin\dmake.exe test':

C:\Users\solimanod\Desktop\strawberry-perl-5.16.2.1-64bit-portable\perl\bin\perl.exe "-MExtUtils::Command::MM" "-MTest::Harness" "-e" "undef *Test::Harness::Switches; test_harness(0, 'blib\lib', 'blib\arch')" t/*.t
t/0-use_AM.t .................. ok
t/0-use_Batch.t ............... ok
t/00-compile.t ................ ok
# 
# 
# Generated by Dist::Zilla::Plugin::ReportVersions::Tiny v1.10
# perl: 5.016002 (wanted v5.10.0) on MSWin32 from C:\Users\solimanod\Desktop\strawberry-perl-5.16.2.1-64bit-portable\perl\bin\perl.exe
# 
# Carp                                          => 1.32       (want any version)
# Class::Tiny                                   => 1.000      (want any version)
# Exporter::Easy                                => 0.17       (want any version)
# ExtUtils::MakeMaker                           => 6.94       (want any version)
# File::Spec                                    => 3.40       (want any version)
# File::Temp                                    => 0.2304     (want any version)
# FindBin                                       => 1.51       (want any version)
# IO::Handle                                    => 1.33       (want any version)
# IPC::Open3                                    => 1.12       (want any version)
# Import::Into                                  => 1.002001   (want any version)
# Log::Any                                      => 0.15       (want any version)
# Path::Tiny                                    => 0.058      (want any version)
# Test::Deep                                    => 0.112      (want any version)
# Test::Exception                               => 0.32       (want any version)
# Test::LongString                              => 0.16       (want any version)
# Test::More                                    => 1.001003   (want 0.88)   
# Test::NoWarnings                              => 1.04       (want any version)
# Text::Table                                   => 1.130      (want any version)
# XSLoader                                      => 0.16       (want any version)
# feature                                       => 1.27       (want any version)
# integer                                       => 1.00       (want any version)
# strict                                        => 1.07       (want any version)
# warnings                                      => 1.13       (want any version)
# 
# Thanks for using my code.  I hope it works for you.
# If not, please try and include this output in the bug report.
# That will help me reproduce the issue and solve your problem.
# 
t/000-report-versions-tiny.t .. ok
t/01-Item.t ................... ok
t/02-DataSet.t ................ ok
t/03-AM.t ..................... ok
t/04-Result.t ................. ok
t/05-Bigint.t ................. ok
t/06-Batch.t .................. ok
t/07-Batch_hooks.t ............ ok
t/08-finnverb.t ............... ok
All tests successful.
Files=12, Tests=141, 10 wallclock secs ( 0.22 usr +  0.06 sys =  0.28 CPU)
Result: PASS

------------------------------
PREREQUISITES
------------------------------

Prerequisite modules loaded:

requires:

    Module              Need Have    
    ------------------- ---- --------
    Carp                0    1.32    
    Class::Tiny         0    1.000   
    Exporter::Easy      0    0.17    
    feature             0    1.27    
    Import::Into        0    1.002001
    integer             0    1.00    
    Log::Any            0    0.15    
    Path::Tiny          0    0.058   
    strict              0    1.07    
    Text::Table         0    1.130   
    warnings            0    1.13    
    XSLoader            0    0.16    

build_requires:

    Module              Need Have    
    ------------------- ---- --------
    ExtUtils::MakeMaker 0    6.94    
    File::Spec          0    3.40    
    File::Temp          0    0.2304  
    FindBin             0    1.51    
    IO::Handle          0    1.33    
    IPC::Open3          0    1.12    
    Test::Deep          0    0.112   
    Test::Exception     0    0.32    
    Test::LongString    0    0.16    
    Test::More          0.88 1.001003
    Test::NoWarnings    0    1.04    

configure_requires:

    Module              Need Have    
    ------------------- ---- --------
    ExtUtils::MakeMaker 0    6.94    


------------------------------
ENVIRONMENT AND OTHER CONTEXT
------------------------------

Environment variables:

    AUTOMATED_TESTING = 1
    COMSPEC = C:\Windows\system32\cmd.exe
    LD_LIBRARY_PATH = /usr/lib/x86:/usr/X11R6/lib
    NUMBER_OF_PROCESSORS = 4
    PATH = C:\Users\solimanod\Desktop\strawberry-perl-5.16.2.1-64bit-portable\perl\site\bin;C:\Users\solimanod\Desktop\strawberry-perl-5.16.2.1-64bit-portable\perl\bin;C:\Users\solimanod\Desktop\strawberry-perl-5.16.2.1-64bit-portable\c\bin;C:\Windows\system32;C:\Windows;C:\Windows\System32\Wbem;C:\Windows\System32\WindowsPowerShell\v1.0\;C:\RV\BIN;C:\Program Files (x86)\GnuWin32\bin;C:\Windows\System32\Windows System Resource Manager\bin;C:\Windows\SUA\common\;C:\Windows\SUA\usr\lib\;C:\strawberry\c\bin;C:\strawberry\perl\site\bin;C:\strawberry\perl\bin;C:\Program Files (x86)\Git\cmd
    PERL5LIB = C:\Users\solimanod\Desktop\strawberry-perl-5.16.2.1-64bit-portable\cpan\build\Test-LongString-0.16-PStq_U/blib/arch;C:\Users\solimanod\Desktop\strawberry-perl-5.16.2.1-64bit-portable\cpan\build\Test-LongString-0.16-PStq_U/blib/lib;C:\Users\solimanod\Desktop\strawberry-perl-5.16.2.1-64bit-portable\cpan\build\Path-Tiny-0.058-1SsdHJ/blib/arch;C:\Users\solimanod\Desktop\strawberry-perl-5.16.2.1-64bit-portable\cpan\build\Path-Tiny-0.058-1SsdHJ/blib/lib;C:\Users\solimanod\Desktop\strawberry-perl-5.16.2.1-64bit-portable\cpan\build\Class-Tiny-1.000-3nj1YC/blib/arch;C:\Users\solimanod\Desktop\strawberry-perl-5.16.2.1-64bit-portable\cpan\build\Class-Tiny-1.000-3nj1YC/blib/lib;C:\Users\solimanod\Desktop\strawberry-perl-5.16.2.1-64bit-portable\cpan\build\Exporter-Easy-0.17-_M3y7z/blib/arch;C:\Users\solimanod\Desktop\strawberry-perl-5.16.2.1-64bit-portable\cpan\build\Exporter-Easy-0.17-_M3y7z/blib/lib;C:\Users\solimanod\Desktop\strawberry-perl-5.16.2.1-64bit-portable\cpan\build\Log-Any-0.15-rGv1ra/blib/arch;C:\Users\solimanod\Desktop\strawberry-perl-5.16.2.1-64bit-portable\cpan\build\Log-Any-0.15-rGv1ra/blib/lib;C:\Users\solimanod\Desktop\strawberry-perl-5.16.2.1-64bit-portable\cpan\build\Text-Table-1.130-m4EKaU/blib/arch;C:\Users\solimanod\Desktop\strawberry-perl-5.16.2.1-64bit-portable\cpan\build\Text-Table-1.130-m4EKaU/blib/lib;C:\Users\solimanod\Desktop\strawberry-perl-5.16.2.1-64bit-portable\cpan\build\Text-Aligner-0.10-LdjD5_/blib/arch;C:\Users\solimanod\Desktop\strawberry-perl-5.16.2.1-64bit-portable\cpan\build\Text-Aligner-0.10-LdjD5_/blib/lib
    PERL5OPT = 
    PERL5_CPANPLUS_IS_RUNNING = 6652
    PERL5_CPAN_IS_RUNNING = 6652
    PERL5_CPAN_IS_RUNNING_IN_RECURSION = 10780,6652
    PERL_CR_SMOKER_CURRENT = Algorithm-AM-3.03-TRIAL
    PERL_EXTUTILS_AUTOINSTALL = --defaultdeps
    PERL_MM_USE_DEFAULT = 1
    PROCESSOR_IDENTIFIER = Intel64 Family 6 Model 37 Stepping 1, GenuineIntel
    TEMP = C:\Users\SOLIMA~1\AppData\Local\Temp
    TERM = dumb

Perl special variables (and OS-specific diagnostics, for MSWin32):

    $^X = C:\Users\solimanod\Desktop\strawberry-perl-5.16.2.1-64bit-portable\perl\bin\perl.exe
    $UID/$EUID = 0 / 0
    $GID = 0
    $EGID = 0
    Win32::GetOSName = Win2008
    Win32::GetOSVersion = Service Pack 1, 6, 1, 7601, 2, 1, 0, 272, 3
    Win32::FsType = NTFS
    Win32::IsAdminUser = 1

Perl module toolchain versions installed:

    Module              Have    
    ------------------- --------
    CPAN                2.05    
    CPAN::Meta          2.140640
    Cwd                 3.40    
    ExtUtils::CBuilder  0.280216
    ExtUtils::Command   1.18    
    ExtUtils::Install   1.63    
    ExtUtils::MakeMaker 6.94    
    ExtUtils::Manifest  1.63    
    ExtUtils::ParseXS   3.24    
    File::Spec          3.40    
    JSON                2.90    
    JSON::PP            2.27203 
    Module::Build       0.4205  
    Module::Signature   n/a     
    Parse::CPAN::Meta   1.4414  
    Test::Harness       3.30    
    Test::More          1.001003
    YAML                0.90    
    YAML::Syck          1.21    
    version             0.9908  


--

Summary of my perl5 (revision 5 version 16 subversion 2) configuration:
   
  Platform:
    osname=MSWin32, osvers=4.0, archname=MSWin32-x64-multi-thread
    uname='Win32 strawberry-perl 5.16.2.1 #1 Fri Nov  2 03:03:35 2012 x64'
    config_args='undef'
    hint=recommended, useposix=true, d_sigaction=undef
    useithreads=define, usemultiplicity=define
    useperlio=define, d_sfio=undef, uselargefiles=define, usesocks=undef
    use64bitint=define, use64bitall=undef, uselongdouble=undef
    usemymalloc=n, bincompat5005=undef
  Compiler:
    cc='gcc', ccflags =' -s -O2 -DWIN32 -DWIN64 -DCONSERVATIVE  -DPERL_TEXTMODE_SCRIPTS -DPERL_IMPLICIT_CONTEXT -DPERL_IMPLICIT_SYS -fno-strict-aliasing -mms-bitfields',
    optimize='-s -O2',
    cppflags='-DWIN32'
    ccversion='', gccversion='4.6.3', gccosandvers=''
    intsize=4, longsize=4, ptrsize=8, doublesize=8, byteorder=12345678
    d_longlong=define, longlongsize=8, d_longdbl=define, longdblsize=12
    ivtype='long long', ivsize=8, nvtype='double', nvsize=8, Off_t='long long', lseeksize=8
    alignbytes=8, prototype=define
  Linker and Libraries:
    ld='g++.exe', ldflags ='-s -L"C:\Users\solimanod\Desktop\strawberry-perl-5.16.2.1-64bit-portable\perl\lib\CORE" -L"C:\Users\solimanod\Desktop\strawberry-perl-5.16.2.1-64bit-portable\c\lib"'
    libpth=C:\Users\solimanod\Desktop\strawberry-perl-5.16.2.1-64bit-portable\c\lib C:\Users\solimanod\Desktop\strawberry-perl-5.16.2.1-64bit-portable\c\x86_64-w64-mingw32\lib
    libs=-lmoldname -lkernel32 -luser32 -lgdi32 -lwinspool -lcomdlg32 -ladvapi32 -lshell32 -lole32 -loleaut32 -lnetapi32 -luuid -lws2_32 -lmpr -lwinmm -lversion -lodbc32 -lodbccp32 -lcomctl32
    perllibs=-lmoldname -lkernel32 -luser32 -lgdi32 -lwinspool -lcomdlg32 -ladvapi32 -lshell32 -lole32 -loleaut32 -lnetapi32 -luuid -lws2_32 -lmpr -lwinmm -lversion -lodbc32 -lodbccp32 -lcomctl32
    libc=, so=dll, useshrplib=true, libperl=libperl516.a
    gnulibc_version=''
  Dynamic Linking:
    dlsrc=dl_win32.xs, dlext=dll, d_dlsymun=undef, ccdlflags=' '
    cccdlflags=' ', lddlflags='-mdll -s -L"C:\Users\solimanod\Desktop\strawberry-perl-5.16.2.1-64bit-portable\perl\lib\CORE" -L"C:\Users\solimanod\Desktop\strawberry-perl-5.16.2.1-64bit-portable\c\lib"'


Characteristics of this binary (from libperl): 
  Compile-time options: HAS_TIMES HAVE_INTERP_INTERN MULTIPLICITY
                        PERLIO_LAYERS PERL_DONT_CREATE_GVSV
                        PERL_IMPLICIT_CONTEXT PERL_IMPLICIT_SYS
                        PERL_MALLOC_WRAP PERL_PRESERVE_IVUV PL_OP_SLAB_ALLOC
                        USE_64_BIT_INT USE_ITHREADS USE_LARGE_FILES
                        USE_LOCALE USE_LOCALE_COLLATE USE_LOCALE_CTYPE
                        USE_LOCALE_NUMERIC USE_PERLIO USE_PERL_ATOF
  Built under MSWin32
  Compiled at Nov  2 2012 03:12:17
  %ENV:
    PERL5LIB="C:\Users\solimanod\Desktop\strawberry-perl-5.16.2.1-64bit-portable\cpan\build\Test-LongString-0.16-PStq_U/blib/arch;C:\Users\solimanod\Desktop\strawberry-perl-5.16.2.1-64bit-portable\cpan\build\Test-LongString-0.16-PStq_U/blib/lib;C:\Users\solimanod\Desktop\strawberry-perl-5.16.2.1-64bit-portable\cpan\build\Path-Tiny-0.058-1SsdHJ/blib/arch;C:\Users\solimanod\Desktop\strawberry-perl-5.16.2.1-64bit-portable\cpan\build\Path-Tiny-0.058-1SsdHJ/blib/lib;C:\Users\solimanod\Desktop\strawberry-perl-5.16.2.1-64bit-portable\cpan\build\Class-Tiny-1.000-3nj1YC/blib/arch;C:\Users\solimanod\Desktop\strawberry-perl-5.16.2.1-64bit-portable\cpan\build\Class-Tiny-1.000-3nj1YC/blib/lib;C:\Users\solimanod\Desktop\strawberry-perl-5.16.2.1-64bit-portable\cpan\build\Exporter-Easy-0.17-_M3y7z/blib/arch;C:\Users\solimanod\Desktop\strawberry-perl-5.16.2.1-64bit-portable\cpan\build\Exporter-Easy-0.17-_M3y7z/blib/lib;C:\Users\solimanod\Desktop\strawberry-perl-5.16.2.1-64bit-portable\cpan\build\Log-Any-0.15-rGv1ra/blib/arch;C:\Users\solimanod\Desktop\strawberry-perl-5.16.2.1-64bit-portable\cpan\build\Log-Any-0.15-rGv1ra/blib/lib;C:\Users\solimanod\Desktop\strawberry-perl-5.16.2.1-64bit-portable\cpan\build\Text-Table-1.130-m4EKaU/blib/arch;C:\Users\solimanod\Desktop\strawberry-perl-5.16.2.1-64bit-portable\cpan\build\Text-Table-1.130-m4EKaU/blib/lib;C:\Users\solimanod\Desktop\strawberry-perl-5.16.2.1-64bit-portable\cpan\build\Text-Aligner-0.10-LdjD5_/blib/arch;C:\Users\solimanod\Desktop\strawberry-perl-5.16.2.1-64bit-portable\cpan\build\Text-Aligner-0.10-LdjD5_/blib/lib"
    PERL5_CPANPLUS_IS_RUNNING="6652"
    PERL5_CPAN_IS_RUNNING="6652"
    PERL5_CPAN_IS_RUNNING_IN_RECURSION="10780,6652"
    PERL_CR_SMOKER_CURRENT="Algorithm-AM-3.03-TRIAL"
    PERL_EXTUTILS_AUTOINSTALL="--defaultdeps"
    PERL_MM_USE_DEFAULT="1"
  @INC:
    C:\Users\solimanod\Desktop\strawberry-perl-5.16.2.1-64bit-portable\cpan\build\Test-LongString-0.16-PStq_U/blib/arch
    C:\Users\solimanod\Desktop\strawberry-perl-5.16.2.1-64bit-portable\cpan\build\Test-LongString-0.16-PStq_U/blib/lib
    C:\Users\solimanod\Desktop\strawberry-perl-5.16.2.1-64bit-portable\cpan\build\Path-Tiny-0.058-1SsdHJ/blib/arch
    C:\Users\solimanod\Desktop\strawberry-perl-5.16.2.1-64bit-portable\cpan\build\Path-Tiny-0.058-1SsdHJ/blib/lib
    C:\Users\solimanod\Desktop\strawberry-perl-5.16.2.1-64bit-portable\cpan\build\Class-Tiny-1.000-3nj1YC/blib/arch
    C:\Users\solimanod\Desktop\strawberry-perl-5.16.2.1-64bit-portable\cpan\build\Class-Tiny-1.000-3nj1YC/blib/lib
    C:\Users\solimanod\Desktop\strawberry-perl-5.16.2.1-64bit-portable\cpan\build\Exporter-Easy-0.17-_M3y7z/blib/arch
    C:\Users\solimanod\Desktop\strawberry-perl-5.16.2.1-64bit-portable\cpan\build\Exporter-Easy-0.17-_M3y7z/blib/lib
    C:\Users\solimanod\Desktop\strawberry-perl-5.16.2.1-64bit-portable\cpan\build\Log-Any-0.15-rGv1ra/blib/arch
    C:\Users\solimanod\Desktop\strawberry-perl-5.16.2.1-64bit-portable\cpan\build\Log-Any-0.15-rGv1ra/blib/lib
    C:\Users\solimanod\Desktop\strawberry-perl-5.16.2.1-64bit-portable\cpan\build\Text-Table-1.130-m4EKaU/blib/arch
    C:\Users\solimanod\Desktop\strawberry-perl-5.16.2.1-64bit-portable\cpan\build\Text-Table-1.130-m4EKaU/blib/lib
    C:\Users\solimanod\Desktop\strawberry-perl-5.16.2.1-64bit-portable\cpan\build\Text-Aligner-0.10-LdjD5_/blib/arch
    C:\Users\solimanod\Desktop\strawberry-perl-5.16.2.1-64bit-portable\cpan\build\Text-Aligner-0.10-LdjD5_/blib/lib
    C:/Users/solimanod/Desktop/strawberry-perl-5.16.2.1-64bit-portable/perl/site/lib
    C:/Users/solimanod/Desktop/strawberry-perl-5.16.2.1-64bit-portable/perl/vendor/lib
    C:/Users/solimanod/Desktop/strawberry-perl-5.16.2.1-64bit-portable/perl/lib
    .