Report for Mo-0.40

Back
From: metabase:user:b5d08ee0-c4e1-11e4-8722-f94d18e3ac47
Subject: PASS Mo-0.40 v5.22.0 GNU/Linux
Date: 2016-07-07T02:04:09Z

This distribution has been tested as part of the CPAN Testers
project, supporting the Perl programming language.  See
http://wiki.cpantesters.org/ for more information or email
questions to cpan-testers-discuss@perl.org


--
Dear TINITA,

This is a computer-generated report for Mo-0.40
on perl 5.22.0, created by App::cpanminus::reporter 0.17 (1.7042).

Thank you for uploading your work to CPAN.  Congratulations!
All tests were successful.

Sections of this report:

    * Tester comments
    * Program output
    * Prerequisites
    * Environment and other context

------------------------------
TESTER COMMENTS
------------------------------

Additional comments from tester:

none provided

------------------------------
PROGRAM OUTPUT
------------------------------

Output from '':

Building and testing Mo-0.40
cp lib/Mo.pod blib/lib/Mo.pod
cp lib/Mo/exports.pod blib/lib/Mo/exports.pod
cp lib/Mo.pm blib/lib/Mo.pm
cp ReadMe.pod blib/lib/ReadMe.pod
cp lib/Mo/coerce.pod blib/lib/Mo/coerce.pod
cp lib/Mo/Inline.pm blib/lib/Mo/Inline.pm
cp lib/Mo/Mouse.pm blib/lib/Mo/Mouse.pm
cp lib/Mo/xs.pm blib/lib/Mo/xs.pm
cp lib/Mo/Moose.pod blib/lib/Mo/Moose.pod
cp lib/Mo/default.pm blib/lib/Mo/default.pm
cp lib/Mo/is.pod blib/lib/Mo/is.pod
cp lib/Mo/coerce.pm blib/lib/Mo/coerce.pm
cp lib/Mo/required.pod blib/lib/Mo/required.pod
cp lib/Mo/build.pm blib/lib/Mo/build.pm
cp lib/Mo/importer.pod blib/lib/Mo/importer.pod
cp lib/Mo/option.pod blib/lib/Mo/option.pod
cp lib/Mo/exporter.pm blib/lib/Mo/exporter.pm
cp lib/Mo/build.pod blib/lib/Mo/build.pod
cp lib/Mo/Design.pod blib/lib/Mo/Design.pod
cp lib/Mo/Golf.pm blib/lib/Mo/Golf.pm
cp lib/Mo/nonlazy.pm blib/lib/Mo/nonlazy.pm
cp lib/Mo/chain.pod blib/lib/Mo/chain.pod
cp lib/Mo/importer.pm blib/lib/Mo/importer.pm
cp lib/Mo/is.pm blib/lib/Mo/is.pm
cp lib/Mo/option.pm blib/lib/Mo/option.pm
cp lib/Mo/Hacking.pod blib/lib/Mo/Hacking.pod
cp lib/Mo/builder.pod blib/lib/Mo/builder.pod
cp lib/Mo/import.pm blib/lib/Mo/import.pm
cp lib/Mo/Moose.pm blib/lib/Mo/Moose.pm
cp lib/Mo/xs.pod blib/lib/Mo/xs.pod
cp lib/Mo/builder.pm blib/lib/Mo/builder.pm
cp lib/Mo/required.pm blib/lib/Mo/required.pm
cp lib/Mo/Mouse.pod blib/lib/Mo/Mouse.pod
cp lib/Mo/Features.pod blib/lib/Mo/Features.pod
cp lib/Mo/chain.pm blib/lib/Mo/chain.pm
cp lib/Mo/default.pod blib/lib/Mo/default.pod
cp lib/Mo/import.pod blib/lib/Mo/import.pod
cp bin/mo-inline blib/script/mo-inline
"/home/arpi/opt/perl5/perls/perl-5.22.0/bin/perl" -MExtUtils::MY -e 'MY->fixin(shift)' -- blib/script/mo-inline
Manifying 21 pod documents
PERL_DL_NONLAZY=1 "/home/arpi/opt/perl5/perls/perl-5.22.0/bin/perl" "-MExtUtils::Command::MM" "-MTest::Harness" "-e" "undef *Test::Harness::Switches; test_harness(0, 'blib/lib', 'blib/arch')" t/*.t
# 
# 
# Generated by Dist::Zilla::Plugin::ReportVersions::Tiny v1.12
# perl: 5.022000 (wanted v5.6.0) on linux from /home/arpi/opt/perl5/perls/perl-5.22.0/bin/perl
# 
# Class::XSAccessor                             => 1.19       (want any version)
# ExtUtils::MakeMaker                           => 7.0401     (want any version)
# IO::All                                       => module not found. (want any version)
# Moose                                         => 2.1804     (want any version)
# Mouse                                         => module not found. (want any version)
# Test::More                                    => 1.001014   (want 0.96)   
# 
# Thanks for using my code.  I hope it works for you.
# If not, please try and include this output in the bug report.
# That will help me reproduce the issue and solve your problem.
# 
t/author-00-compile.t ......... skipped: these tests are for testing by the author
t/author-pod-spell.t .......... skipped: these tests are for testing by the author
t/000-report-versions-tiny.t .. ok
t/author-pod-syntax.t ......... skipped: these tests are for testing by the author
t/author-test-version.t ....... skipped: these tests are for testing by the author
t/build.t ..................... ok
t/coerce.t .................... ok
t/importer.t .................. ok
t/extends.t ................... ok
t/builder.t ................... ok
t/is.t ........................ ok
t/combined.t .................. ok
t/Mouse.t ..................... skipped: Mouse is needed
t/object.t .................... ok
t/main_sub.t .................. ok
t/release-distmeta.t .......... skipped: these tests are for release candidate testing
t/release-correct-version.t ... skipped: these tests are for release candidate testing
t/release-eol.t ............... skipped: these tests are for release candidate testing
t/option.t .................... ok
t/release-no-tabs.t ........... skipped: these tests are for release candidate testing
t/strict.t .................... ok
t/required.t .................. ok
t/default.t ................... ok
t/chain.t ..................... ok
t/lazy-nonlazy.t .............. ok
t/test.t ...................... ok
t/xs.t ........................ ok
t/Moose.t ..................... ok
All tests successful.
Files=28, Tests=153,  0 wallclock secs ( 0.07 usr  0.02 sys +  0.82 cusr  0.07 csys =  0.98 CPU)
Result: PASS

------------------------------
PREREQUISITES
------------------------------

Prerequisite modules loaded:

    No requirements found

------------------------------
ENVIRONMENT AND OTHER CONTEXT
------------------------------

Environment variables:

    LANG = en_US.UTF-8
    LANGUAGE = en_US
    LC_ADDRESS = ro_RO.UTF-8
    LC_IDENTIFICATION = ro_RO.UTF-8
    LC_MEASUREMENT = ro_RO.UTF-8
    LC_MONETARY = ro_RO.UTF-8
    LC_NAME = ro_RO.UTF-8
    LC_NUMERIC = ro_RO.UTF-8
    LC_PAPER = ro_RO.UTF-8
    LC_TELEPHONE = ro_RO.UTF-8
    LC_TIME = ro_RO.UTF-8
    PATH = /home/arpi/opt/perl5/bin:/home/arpi/opt/perl5/perls/stable/bin:/home/arpi/.nvm/versions/node/v4.2.1/bin:/home/arpi/.local/opt/postgresql/bin:/home/arpi/bin:/home/arpi/.local/opt/PDK9/bin:/home/arpi/.vim/bin:/home/arpi/.local/share/umake/bin:/home/arpi/.local/opt/postgresql/bin:/home/arpi/bin:/home/arpi/.local/opt/PDK9/bin:/home/arpi/.vim/bin:/media/arpi/XTEND/programs/adt-bundle-linux-x86_64-20140702/sdk/tools:/media/arpi/XTEND/programs/adt-bundle-linux-x86_64-20140702/sdk/platform-tools:/home/arpi/bin:/home/arpi/.local/opt/postgresql/bin:/home/arpi/bin:/home/arpi/.local/opt/PDK9/bin:/home/arpi/.vim/bin:/home/arpi/.local/opt/postgresql/bin:/home/arpi/bin:/home/arpi/.local/opt/PDK9/bin:/home/arpi/.vim/bin:/home/arpi/.local/opt/perl5/perls/stable/bin:/home/arpi/bin:/home/arpi/.vim/bin:/home/arpi/.local/share/umake/bin:/media/arpi/XTEND/programs/adt-bundle-linux-x86_64-20140702/sdk/tools:/media/arpi/XTEND/programs/adt-bundle-linux-x86_64-20140702/sdk/platform-tools:/home/arpi/bin:/usr/local/sbin:/usr/local/bin:/usr/sbin:/usr/bin:/sbin:/bin:/usr/games:/usr/local/games:/snap/bin:/home/arpi/.fzf/bin:/snap/bin
    PERLBREW_BASHRC_VERSION = 0.75
    PERLBREW_HOME = /home/arpi/.perlbrew
    PERLBREW_MANPATH = /home/arpi/opt/perl5/perls/stable/man
    PERLBREW_PATH = /home/arpi/opt/perl5/bin:/home/arpi/opt/perl5/perls/stable/bin
    PERLBREW_PERL = stable
    PERLBREW_ROOT = /home/arpi/opt/perl5
    PERLBREW_VERSION = 0.75
    SHELL = /bin/bash
    TERM = screen-256color

Perl special variables (and OS-specific diagnostics, for MSWin32):

    EGID = 1000 4 6 24 27 30 46 104 109 124 125 130 134 135 1000 1001
    EUID = 1000
    EXECUTABLE_NAME = /home/arpi/opt/perl5/perls/perl-5.22.0/bin/perl
    GID = 1000 4 6 24 27 30 46 104 109 124 125 130 134 135 1000 1001
    UID = 1000

Perl module toolchain versions installed:

    Module              Have    
    ------------------- --------
    CPAN                2.11    
    CPAN::Meta          2.150001
    Cwd                 3.56    
    ExtUtils::CBuilder  0.280221
    ExtUtils::Command   1.20    
    ExtUtils::Install   2.04    
    ExtUtils::MakeMaker 7.04_01 
    ExtUtils::Manifest  1.70    
    ExtUtils::ParseXS   3.28    
    File::Spec          3.56    
    JSON                2.90    
    JSON::PP            2.27300 
    Module::Build       0.4218  
    Module::Signature   n/a     
    Parse::CPAN::Meta   1.4414  
    Test::Harness       3.35    
    Test::More          1.001014
    YAML                1.17    
    YAML::Syck          1.29    
    version             0.9909  


--

Summary of my perl5 (revision 5 version 22 subversion 0) configuration:
   
  Platform:
    osname=linux, osvers=3.13.0-62-generic, archname=x86_64-linux-thread-multi
    uname='linux plancton 3.13.0-62-generic #101-ubuntu smp thu jul 30 09:01:36 utc 2015 x86_64 x86_64 x86_64 gnulinux '
    config_args='-de -Dprefix=/home/arpi/opt/perl5/perls/perl-5.22.0 -Dusethreads -Duselargefiles -Duse64bitall -Dusesitecustomize -Duseshrplib -Dinc_version_list=none -Dpager=/bin/less -Doptimize=-O2 -Dcf_by=Plenum.ro -Dcf_email=arpad.szasz@plenum.ro -Uuserelocatableinc -UDEBUGGING -Aeval:scriptdir=/home/arpi/opt/perl5/perls/perl-5.22.0/bin'
    hint=recommended, useposix=true, d_sigaction=define
    useithreads=define, usemultiplicity=define
    use64bitint=define, use64bitall=define, uselongdouble=undef
    usemymalloc=n, bincompat5005=undef
  Compiler:
    cc='cc', ccflags ='-D_REENTRANT -D_GNU_SOURCE -fwrapv -fno-strict-aliasing -pipe -fstack-protector -I/usr/local/include -D_LARGEFILE_SOURCE -D_FILE_OFFSET_BITS=64',
    optimize='-O2',
    cppflags='-D_REENTRANT -D_GNU_SOURCE -fwrapv -fno-strict-aliasing -pipe -fstack-protector -I/usr/local/include'
    ccversion='', gccversion='4.8.4', gccosandvers=''
    intsize=4, longsize=8, ptrsize=8, doublesize=8, byteorder=12345678, doublekind=3
    d_longlong=define, longlongsize=8, d_longdbl=define, longdblsize=16, longdblkind=3
    ivtype='long', ivsize=8, nvtype='double', nvsize=8, Off_t='off_t', lseeksize=8
    alignbytes=8, prototype=define
  Linker and Libraries:
    ld='cc', ldflags =' -fstack-protector -L/usr/local/lib'
    libpth=/usr/local/lib /usr/lib/gcc/x86_64-linux-gnu/4.8/include-fixed /usr/include/x86_64-linux-gnu /usr/lib /lib/x86_64-linux-gnu /lib/../lib /usr/lib/x86_64-linux-gnu /usr/lib/../lib /lib
    libs=-lpthread -lnsl -ldb -ldl -lm -lcrypt -lutil -lc
    perllibs=-lpthread -lnsl -ldl -lm -lcrypt -lutil -lc
    libc=libc-2.19.so, so=so, useshrplib=true, libperl=libperl.so
    gnulibc_version='2.19'
  Dynamic Linking:
    dlsrc=dl_dlopen.xs, dlext=so, d_dlsymun=undef, ccdlflags='-Wl,-E -Wl,-rpath,/home/arpi/opt/perl5/perls/perl-5.22.0/lib/5.22.0/x86_64-linux-thread-multi/CORE'
    cccdlflags='-fPIC', lddlflags='-shared -O2 -L/usr/local/lib -fstack-protector'


Characteristics of this binary (from libperl): 
  Compile-time options: HAS_TIMES MULTIPLICITY PERLIO_LAYERS
                        PERL_DONT_CREATE_GVSV
                        PERL_HASH_FUNC_ONE_AT_A_TIME_HARD
                        PERL_IMPLICIT_CONTEXT PERL_MALLOC_WRAP
                        PERL_NEW_COPY_ON_WRITE PERL_PRESERVE_IVUV
                        USE_64_BIT_ALL USE_64_BIT_INT USE_ITHREADS
                        USE_LARGE_FILES USE_LOCALE USE_LOCALE_COLLATE
                        USE_LOCALE_CTYPE USE_LOCALE_NUMERIC USE_LOCALE_TIME
                        USE_PERLIO USE_PERL_ATOF USE_REENTRANT_API
                        USE_SITECUSTOMIZE
  Locally applied patches:
	Devel::PatchPerl 1.30
  Built under linux
  Compiled at Aug 10 2015 11:54:21
  %ENV:
    PERLBREW_BASHRC_VERSION="0.75"
    PERLBREW_HOME="/home/arpi/.perlbrew"
    PERLBREW_MANPATH="/home/arpi/opt/perl5/perls/stable/man"
    PERLBREW_PATH="/home/arpi/opt/perl5/bin:/home/arpi/opt/perl5/perls/stable/bin"
    PERLBREW_PERL="stable"
    PERLBREW_ROOT="/home/arpi/opt/perl5"
    PERLBREW_VERSION="0.75"
  @INC:
    /home/arpi/opt/perl5/perls/perl-5.22.0/lib/site_perl/5.22.0/x86_64-linux-thread-multi
    /home/arpi/opt/perl5/perls/perl-5.22.0/lib/site_perl/5.22.0
    /home/arpi/opt/perl5/perls/perl-5.22.0/lib/5.22.0/x86_64-linux-thread-multi
    /home/arpi/opt/perl5/perls/perl-5.22.0/lib/5.22.0
    .