Cache-CacheFactory v1.10 Perl 5 v5.12.0 i386-freebsd

Status
Pass
From
Squeeks (SQUEEK)
Dist
Cache-CacheFactory v1.10
Platform
Perl 5 v5.12.0 i386-freebsd
Date
2010-04-20 17:49:38
ID
1729d0bc-4ca5-11df-b41c-6ab0225e3911
This distribution has been tested as part of the CPAN Testers
project, supporting the Perl programming language.  See
http://wiki.cpantesters.org/ for more information or email
questions to cpan-testers-discuss@perl.org


--
Dear Sam Graham,

This is a computer-generated report for Cache-CacheFactory-1.10
on perl 5.12.0, created by CPAN-Reporter-1.1711.

Thank you for uploading your work to CPAN.  Congratulations!
All tests were successful.

Sections of this report:

    * Tester comments
    * Program output
    * Prerequisites
    * Environment and other context

------------------------------
TESTER COMMENTS
------------------------------

Additional comments from tester:

this report is from an automated smoke testing program
and was not reviewed by a human for accuracy

------------------------------
PROGRAM OUTPUT
------------------------------

Output from './Build test':

# Testing Cache::CacheFactory 1.10, Perl 5.012000, /home/squeek/perl5/perlbrew/bin/perl
t/00-load.t ................................ ok
t/10-namespace.t ........................... ok
t/20-storage.t ............................. ok
t/30-size-hack-with-devel-size.t ........... skipped: Devel::Size required for testing Devel::Size-using memorycache workaround
t/31-size-hack-force-missing-devel-size.t .. ok
t/40-expiry-lastmodified.t ................. ok
t/40-expiry-size.t ......................... ok
t/40-expiry-time.t ......................... ok
t/50-deep-clone.t .......................... ok
t/80-export.t .............................. ok
t/90-pod.t ................................. skipped: Test::Pod 1.22 required for testing POD
t/99-pod-coverage.t ........................ skipped: Test::Pod::Coverage 1.00 required for testing POD coverage
All tests successful.
Files=12, Tests=225, 10 wallclock secs ( 0.37 usr  0.22 sys +  4.16 cusr  0.97 csys =  5.71 CPU)
Result: PASS

------------------------------
PREREQUISITES
------------------------------

Prerequisite modules loaded:

requires:

    Module           Need  Have  
    ---------------- ----- ------
    Cache::BaseCache 0     0     
    Cache::Cache     1     1.06  
    Cache::Object    0     0     
    Carp             0     1.15  
    Class::Factory   0     1.06  
    Scalar::Util     0     1.22  
    Storable         1.014 2.22  

build_requires:

    Module           Need  Have  
    ---------------- ----- ------
    Module::Build    0.07  0.3603
    Test::More       0     0.94  

configure_requires:

    Module           Need  Have  
    ---------------- ----- ------
    Module::Build    0.36  0.3603


------------------------------
ENVIRONMENT AND OTHER CONTEXT
------------------------------

Environment variables:

    AUTOMATED_TESTING = 1
    PATH = /home/squeek/perl5/perlbrew/bin:/home/squeek/perl5/perlbrew/perls/current/bin:/sbin:/bin:/usr/sbin:/usr/bin:/usr/games:/usr/local/sbin:/usr/local/bin:/home/squeek/bin
    PERL5LIB = /home/squeek/.cpan/build/Cache-Cache-1.06-x6joAP/blib/arch:/home/squeek/.cpan/build/Cache-Cache-1.06-x6joAP/blib/lib:/home/squeek/.cpan/build/Error-0.17016-89oMxG/blib/arch:/home/squeek/.cpan/build/Error-0.17016-89oMxG/blib/lib:/home/squeek/.cpan/build/Digest-SHA1-2.12-9EFajy/blib/arch:/home/squeek/.cpan/build/Digest-SHA1-2.12-9EFajy/blib/lib:/home/squeek/.cpan/build/Class-Factory-1.06-YMCSsX/blib/arch:/home/squeek/.cpan/build/Class-Factory-1.06-YMCSsX/blib/lib
    PERL5OPT = 
    PERL5_CPANPLUS_IS_RUNNING = 53668
    PERL5_CPAN_IS_RUNNING = 53668
    PERL5_CPAN_IS_RUNNING_IN_RECURSION = 89667,53668
    PERL_CR_SMOKER_CURRENT = Cache-CacheFactory-1.10
    PERL_EXTUTILS_AUTOINSTALL = --defaultdeps
    PERL_MM_USE_DEFAULT = 1
    SHELL = /bin/csh
    TERM = screen

Perl special variables (and OS-specific diagnostics, for MSWin32):

    $^X = /home/squeek/perl5/perlbrew/bin/perl
    $UID/$EUID = 1002 / 1002
    $GID = 1002 1002 1002
    $EGID = 1002 1002 1002

Perl module toolchain versions installed:

    Module              Have   
    ------------------- -------
    CPAN                1.94_56
    Cwd                 3.31   
    ExtUtils::CBuilder  0.27   
    ExtUtils::Command   1.16   
    ExtUtils::Install   1.55   
    ExtUtils::MakeMaker 6.56   
    ExtUtils::Manifest  1.57   
    ExtUtils::ParseXS   2.21   
    File::Spec          3.31   
    Module::Build       0.3603 
    Module::Signature   n/a    
    Test::Harness       3.17   
    Test::More          0.94   
    YAML                0.71   
    YAML::Syck          n/a    
    version             0.82   


--

Summary of my perl5 (revision 5 version 12 subversion 0) configuration:
   
  Platform:
    osname=freebsd, osvers=7.2-release, archname=i386-freebsd
    uname='freebsd smoketest 7.2-release freebsd 7.2-release #0: fri may 1 08:49:13 utc 2009 root@walker.cse.buffalo.edu:usrobjusrsrcsysgeneric i386 '
    config_args='-de -Dprefix=/home/squeek/perl5/perlbrew/perls/perl-5.12.0'
    hint=recommended, useposix=true, d_sigaction=define
    useithreads=undef, usemultiplicity=undef
    useperlio=define, d_sfio=undef, uselargefiles=define, usesocks=undef
    use64bitint=undef, use64bitall=undef, uselongdouble=undef
    usemymalloc=n, bincompat5005=undef
  Compiler:
    cc='cc', ccflags ='-DHAS_FPSETMASK -DHAS_FLOATINGPOINT_H -fno-strict-aliasing -pipe -fstack-protector -I/usr/local/include',
    optimize='-O',
    cppflags='-DHAS_FPSETMASK -DHAS_FLOATINGPOINT_H -fno-strict-aliasing -pipe -fstack-protector -I/usr/local/include'
    ccversion='', gccversion='4.2.1 20070719  [FreeBSD]', gccosandvers=''
    intsize=4, longsize=4, ptrsize=4, doublesize=8, byteorder=1234
    d_longlong=define, longlongsize=8, d_longdbl=define, longdblsize=12
    ivtype='long', ivsize=4, nvtype='double', nvsize=8, Off_t='off_t', lseeksize=8
    alignbytes=4, prototype=define
  Linker and Libraries:
    ld='cc', ldflags ='-Wl,-E  -fstack-protector -L/usr/local/lib'
    libpth=/usr/lib /usr/local/lib
    libs=-lm -lcrypt -lutil -lc
    perllibs=-lm -lcrypt -lutil -lc
    libc=, so=so, useshrplib=false, libperl=libperl.a
    gnulibc_version=''
  Dynamic Linking:
    dlsrc=dl_dlopen.xs, dlext=so, d_dlsymun=undef, ccdlflags=' '
    cccdlflags='-DPIC -fPIC', lddlflags='-shared  -L/usr/local/lib -fstack-protector'


Characteristics of this binary (from libperl): 
  Compile-time options: PERL_DONT_CREATE_GVSV PERL_MALLOC_WRAP
                        USE_LARGE_FILES USE_PERLIO USE_PERL_ATOF
  Built under freebsd
  Compiled at Apr 13 2010 09:07:40
  %ENV:
    PERL5LIB="/home/squeek/.cpan/build/Cache-Cache-1.06-x6joAP/blib/arch:/home/squeek/.cpan/build/Cache-Cache-1.06-x6joAP/blib/lib:/home/squeek/.cpan/build/Error-0.17016-89oMxG/blib/arch:/home/squeek/.cpan/build/Error-0.17016-89oMxG/blib/lib:/home/squeek/.cpan/build/Digest-SHA1-2.12-9EFajy/blib/arch:/home/squeek/.cpan/build/Digest-SHA1-2.12-9EFajy/blib/lib:/home/squeek/.cpan/build/Class-Factory-1.06-YMCSsX/blib/arch:/home/squeek/.cpan/build/Class-Factory-1.06-YMCSsX/blib/lib"
    PERL5OPT=""
    PERL5_CPANPLUS_IS_RUNNING="53668"
    PERL5_CPAN_IS_RUNNING="53668"
    PERL5_CPAN_IS_RUNNING_IN_RECURSION="89667,53668"
    PERL_CR_SMOKER_CURRENT="Cache-CacheFactory-1.10"
    PERL_EXTUTILS_AUTOINSTALL="--defaultdeps"
    PERL_MM_USE_DEFAULT="1"
  @INC:
    /home/squeek/.cpan/build/Cache-Cache-1.06-x6joAP/blib/arch
    /home/squeek/.cpan/build/Cache-Cache-1.06-x6joAP/blib/lib
    /home/squeek/.cpan/build/Error-0.17016-89oMxG/blib/arch
    /home/squeek/.cpan/build/Error-0.17016-89oMxG/blib/lib
    /home/squeek/.cpan/build/Digest-SHA1-2.12-9EFajy/blib/arch
    /home/squeek/.cpan/build/Digest-SHA1-2.12-9EFajy/blib/lib
    /home/squeek/.cpan/build/Class-Factory-1.06-YMCSsX/blib/arch
    /home/squeek/.cpan/build/Class-Factory-1.06-YMCSsX/blib/lib
    /home/squeek/perl5/perlbrew/perls/perl-5.12.0/lib/site_perl/5.12.0/i386-freebsd
    /home/squeek/perl5/perlbrew/perls/perl-5.12.0/lib/site_perl/5.12.0
    /home/squeek/perl5/perlbrew/perls/perl-5.12.0/lib/5.12.0/i386-freebsd
    /home/squeek/perl5/perlbrew/perls/perl-5.12.0/lib/5.12.0
    .