Test-Moose-More v0.050 Perl 5 v5.8.9 x86_64-linux
- Status
- Pass
- From
- Chris Williams (BINGOS)
- Dist
-
Test-Moose-More v0.050
- Platform
- Perl 5 v5.8.9 x86_64-linux
- Date
- 2022-09-07 00:57:47
- ID
- 16efd3ac-2e48-11ed-8f4e-c962458f5e5b
This distribution has been tested as part of the CPAN Testers
project, supporting the Perl programming language. See
http://wiki.cpantesters.org/ for more information or email
questions to cpan-testers-discuss@perl.org
--
Dear Chris Weyl,
This is a computer-generated error report created automatically by
CPANPLUS, version 0.9914. Testers personal comments may appear
at the end of this report.
Thank you for uploading your work to CPAN. Congratulations!
All tests were successful.
TEST RESULTS:
Below is the error stack from stage 'make test':
PERL_DL_NONLAZY=1 "/home/cpan/pit/bare/perl-5.8.9/bin/perl" "-MExtUtils::Command::MM" "-MTest::Harness" "-e" "undef *Test::Harness::Switches; test_harness(0, 'blib/lib', 'blib/arch')" t/*.t t/attribute_options_ok/*.t t/is_class_ok/*.t t/validate_attribute/*.t t/validate_class/*.t t/validate_role/*.t t/validate_thing/*.t t/wrapped/*.t
t/00-check-deps.t ...................................... ok
Warning: Use of "shift" without parentheses is ambiguous at /home/cpan/pit/bare/conf/perl-5.8.9/.cpanplus/5.8.9/build/ScZK2e6PGB/Test-Moose-More-0.050/blib/lib/Test/Moose/More.pm line 110.
Warning: Use of "shift" without parentheses is ambiguous at /home/cpan/pit/bare/conf/perl-5.8.9/.cpanplus/5.8.9/build/ScZK2e6PGB/Test-Moose-More-0.050/blib/lib/Test/Moose/More.pm line 111.
t/00-compile.t ......................................... ok
#
# Versions for all modules listed in MYMETA.json (including optional ones):
#
# === Configure Requires ===
#
# Module Want Have
# ------------------- ---- ----
# ExtUtils::MakeMaker any 7.64
#
# === Build Requires ===
#
# Module Want Have
# ------------------- ---- ----
# ExtUtils::MakeMaker any 7.64
#
# === Test Requires ===
#
# Module Want Have
# ---------------------- ----- --------
# ExtUtils::MakeMaker any 7.64
# File::Spec any 3.75
# IO::Handle any 1.27
# IPC::Open3 any 1.03
# List::Util 1.45 1.63
# Moose any 2.2201
# Moose::Meta::Attribute any 2.2201
# Moose::Role any 2.2201
# Moose::Util::MetaRole any 2.2201
# TAP::SimpleOutput 0.009 0.009
# Test::Builder::Tester any 1.302190
# Test::CheckDeps 0.010 0.010
# Test::More 0.94 1.302190
# namespace::autoclean any 0.29
#
# === Test Recommends ===
#
# Module Want Have
# ---------- -------- --------
# CPAN::Meta 2.120900 2.150010
#
# === Runtime Requires ===
#
# Module Want Have
# ---------------------------- ---- --------
# Carp any 1.50
# Data::OptList any 0.112
# List::MoreUtils any 0.430
# List::Util 1.45 1.63
# Moose::Util any 2.2201
# Moose::Util::TypeConstraints any 2.2201
# Scalar::Util any 1.63
# Sub::Exporter::Progressive any 0.001013
# Syntax::Keyword::Junction any 0.003008
# Test::Builder any 1.302190
# Test::Moose any 2.2201
# Test::More 0.94 1.302190
# strict any 1.03
# warnings any 1.05_01
#
t/00-report-prereqs.t .................................. ok
Warning: Use of "shift" without parentheses is ambiguous at /home/cpan/pit/bare/conf/perl-5.8.9/.cpanplus/5.8.9/build/ScZK2e6PGB/Test-Moose-More-0.050/blib/lib/Test/Moose/More.pm line 110.
Warning: Use of "shift" without parentheses is ambiguous at /home/cpan/pit/bare/conf/perl-5.8.9/.cpanplus/5.8.9/build/ScZK2e6PGB/Test-Moose-More-0.050/blib/lib/Test/Moose/More.pm line 111.
t/attribute_options_ok/basic.t ......................... ok
Warning: Use of "shift" without parentheses is ambiguous at /home/cpan/pit/bare/conf/perl-5.8.9/.cpanplus/5.8.9/build/ScZK2e6PGB/Test-Moose-More-0.050/blib/lib/Test/Moose/More.pm line 110.
Warning: Use of "shift" without parentheses is ambiguous at /home/cpan/pit/bare/conf/perl-5.8.9/.cpanplus/5.8.9/build/ScZK2e6PGB/Test-Moose-More-0.050/blib/lib/Test/Moose/More.pm line 111.
t/attribute_options_ok/subtest-wrapper.t ............... ok
Warning: Use of "shift" without parentheses is ambiguous at /home/cpan/pit/bare/conf/perl-5.8.9/.cpanplus/5.8.9/build/ScZK2e6PGB/Test-Moose-More-0.050/blib/lib/Test/Moose/More.pm line 110.
Warning: Use of "shift" without parentheses is ambiguous at /home/cpan/pit/bare/conf/perl-5.8.9/.cpanplus/5.8.9/build/ScZK2e6PGB/Test-Moose-More-0.050/blib/lib/Test/Moose/More.pm line 111.
t/check_sugar.t ........................................ ok
Warning: Use of "shift" without parentheses is ambiguous at /home/cpan/pit/bare/conf/perl-5.8.9/.cpanplus/5.8.9/build/ScZK2e6PGB/Test-Moose-More-0.050/blib/lib/Test/Moose/More.pm line 110.
Warning: Use of "shift" without parentheses is ambiguous at /home/cpan/pit/bare/conf/perl-5.8.9/.cpanplus/5.8.9/build/ScZK2e6PGB/Test-Moose-More-0.050/blib/lib/Test/Moose/More.pm line 111.
t/definition_context.t ................................. ok
Warning: Use of "shift" without parentheses is ambiguous at /home/cpan/pit/bare/conf/perl-5.8.9/.cpanplus/5.8.9/build/ScZK2e6PGB/Test-Moose-More-0.050/blib/lib/Test/Moose/More.pm line 110.
Warning: Use of "shift" without parentheses is ambiguous at /home/cpan/pit/bare/conf/perl-5.8.9/.cpanplus/5.8.9/build/ScZK2e6PGB/Test-Moose-More-0.050/blib/lib/Test/Moose/More.pm line 111.
t/does_metaroles_ok.t .................................. ok
Warning: Use of "shift" without parentheses is ambiguous at /home/cpan/pit/bare/conf/perl-5.8.9/.cpanplus/5.8.9/build/ScZK2e6PGB/Test-Moose-More-0.050/blib/lib/Test/Moose/More.pm line 110.
Warning: Use of "shift" without parentheses is ambiguous at /home/cpan/pit/bare/conf/perl-5.8.9/.cpanplus/5.8.9/build/ScZK2e6PGB/Test-Moose-More-0.050/blib/lib/Test/Moose/More.pm line 111.
t/does_not_metaroles_ok.t .............................. ok
Warning: Use of "shift" without parentheses is ambiguous at /home/cpan/pit/bare/conf/perl-5.8.9/.cpanplus/5.8.9/build/ScZK2e6PGB/Test-Moose-More-0.050/blib/lib/Test/Moose/More.pm line 110.
Warning: Use of "shift" without parentheses is ambiguous at /home/cpan/pit/bare/conf/perl-5.8.9/.cpanplus/5.8.9/build/ScZK2e6PGB/Test-Moose-More-0.050/blib/lib/Test/Moose/More.pm line 111.
t/does_not_ok.t ........................................ ok
Warning: Use of "shift" without parentheses is ambiguous at /home/cpan/pit/bare/conf/perl-5.8.9/.cpanplus/5.8.9/build/ScZK2e6PGB/Test-Moose-More-0.050/blib/lib/Test/Moose/More.pm line 110.
Warning: Use of "shift" without parentheses is ambiguous at /home/cpan/pit/bare/conf/perl-5.8.9/.cpanplus/5.8.9/build/ScZK2e6PGB/Test-Moose-More-0.050/blib/lib/Test/Moose/More.pm line 111.
t/does_ok.t ............................................ ok
Warning: Use of "shift" without parentheses is ambiguous at /home/cpan/pit/bare/conf/perl-5.8.9/.cpanplus/5.8.9/build/ScZK2e6PGB/Test-Moose-More-0.050/blib/lib/Test/Moose/More.pm line 110.
Warning: Use of "shift" without parentheses is ambiguous at /home/cpan/pit/bare/conf/perl-5.8.9/.cpanplus/5.8.9/build/ScZK2e6PGB/Test-Moose-More-0.050/blib/lib/Test/Moose/More.pm line 111.
t/has_attribute_ok.t ................................... ok
Warning: Use of "shift" without parentheses is ambiguous at /home/cpan/pit/bare/conf/perl-5.8.9/.cpanplus/5.8.9/build/ScZK2e6PGB/Test-Moose-More-0.050/blib/lib/Test/Moose/More.pm line 110.
Warning: Use of "shift" without parentheses is ambiguous at /home/cpan/pit/bare/conf/perl-5.8.9/.cpanplus/5.8.9/build/ScZK2e6PGB/Test-Moose-More-0.050/blib/lib/Test/Moose/More.pm line 111.
t/is_anon_ok.t ......................................... ok
Warning: Use of "shift" without parentheses is ambiguous at /home/cpan/pit/bare/conf/perl-5.8.9/.cpanplus/5.8.9/build/ScZK2e6PGB/Test-Moose-More-0.050/blib/lib/Test/Moose/More.pm line 110.
Warning: Use of "shift" without parentheses is ambiguous at /home/cpan/pit/bare/conf/perl-5.8.9/.cpanplus/5.8.9/build/ScZK2e6PGB/Test-Moose-More-0.050/blib/lib/Test/Moose/More.pm line 111.
t/is_class_ok/basic.t .................................. ok
Warning: Use of "shift" without parentheses is ambiguous at /home/cpan/pit/bare/conf/perl-5.8.9/.cpanplus/5.8.9/build/ScZK2e6PGB/Test-Moose-More-0.050/blib/lib/Test/Moose/More.pm line 110.
Warning: Use of "shift" without parentheses is ambiguous at /home/cpan/pit/bare/conf/perl-5.8.9/.cpanplus/5.8.9/build/ScZK2e6PGB/Test-Moose-More-0.050/blib/lib/Test/Moose/More.pm line 111.
t/is_class_ok/moose-meta-attribute-should-be-moosey.t .. ok
Warning: Use of "shift" without parentheses is ambiguous at /home/cpan/pit/bare/conf/perl-5.8.9/.cpanplus/5.8.9/build/ScZK2e6PGB/Test-Moose-More-0.050/blib/lib/Test/Moose/More.pm line 110.
Warning: Use of "shift" without parentheses is ambiguous at /home/cpan/pit/bare/conf/perl-5.8.9/.cpanplus/5.8.9/build/ScZK2e6PGB/Test-Moose-More-0.050/blib/lib/Test/Moose/More.pm line 111.
t/is_immutable_ok.t .................................... ok
Warning: Use of "shift" without parentheses is ambiguous at /home/cpan/pit/bare/conf/perl-5.8.9/.cpanplus/5.8.9/build/ScZK2e6PGB/Test-Moose-More-0.050/blib/lib/Test/Moose/More.pm line 110.
Warning: Use of "shift" without parentheses is ambiguous at /home/cpan/pit/bare/conf/perl-5.8.9/.cpanplus/5.8.9/build/ScZK2e6PGB/Test-Moose-More-0.050/blib/lib/Test/Moose/More.pm line 111.
t/is_not_anon_ok.t ..................................... ok
Warning: Use of "shift" without parentheses is ambiguous at /home/cpan/pit/bare/conf/perl-5.8.9/.cpanplus/5.8.9/build/ScZK2e6PGB/Test-Moose-More-0.050/blib/lib/Test/Moose/More.pm line 110.
Warning: Use of "shift" without parentheses is ambiguous at /home/cpan/pit/bare/conf/perl-5.8.9/.cpanplus/5.8.9/build/ScZK2e6PGB/Test-Moose-More-0.050/blib/lib/Test/Moose/More.pm line 111.
t/is_role_ok.t ......................................... ok
Warning: Use of "shift" without parentheses is ambiguous at /home/cpan/pit/bare/conf/perl-5.8.9/.cpanplus/5.8.9/build/ScZK2e6PGB/Test-Moose-More-0.050/blib/lib/Test/Moose/More.pm line 110.
Warning: Use of "shift" without parentheses is ambiguous at /home/cpan/pit/bare/conf/perl-5.8.9/.cpanplus/5.8.9/build/ScZK2e6PGB/Test-Moose-More-0.050/blib/lib/Test/Moose/More.pm line 111.
t/meta_ok.t ............................................ ok
Warning: Use of "shift" without parentheses is ambiguous at /home/cpan/pit/bare/conf/perl-5.8.9/.cpanplus/5.8.9/build/ScZK2e6PGB/Test-Moose-More-0.050/blib/lib/Test/Moose/More.pm line 110.
Warning: Use of "shift" without parentheses is ambiguous at /home/cpan/pit/bare/conf/perl-5.8.9/.cpanplus/5.8.9/build/ScZK2e6PGB/Test-Moose-More-0.050/blib/lib/Test/Moose/More.pm line 111.
t/method_from_pkg_ok.t ................................. ok
Warning: Use of "shift" without parentheses is ambiguous at /home/cpan/pit/bare/conf/perl-5.8.9/.cpanplus/5.8.9/build/ScZK2e6PGB/Test-Moose-More-0.050/blib/lib/Test/Moose/More.pm line 110.
Warning: Use of "shift" without parentheses is ambiguous at /home/cpan/pit/bare/conf/perl-5.8.9/.cpanplus/5.8.9/build/ScZK2e6PGB/Test-Moose-More-0.050/blib/lib/Test/Moose/More.pm line 111.
t/method_is_accessor_ok.t .............................. ok
Warning: Use of "shift" without parentheses is ambiguous at /home/cpan/pit/bare/conf/perl-5.8.9/.cpanplus/5.8.9/build/ScZK2e6PGB/Test-Moose-More-0.050/blib/lib/Test/Moose/More.pm line 110.
Warning: Use of "shift" without parentheses is ambiguous at /home/cpan/pit/bare/conf/perl-5.8.9/.cpanplus/5.8.9/build/ScZK2e6PGB/Test-Moose-More-0.050/blib/lib/Test/Moose/More.pm line 111.
t/method_is_not_accessor_ok.t .......................... ok
Warning: Use of "shift" without parentheses is ambiguous at /home/cpan/pit/bare/conf/perl-5.8.9/.cpanplus/5.8.9/build/ScZK2e6PGB/Test-Moose-More-0.050/blib/lib/Test/Moose/More.pm line 110.
Warning: Use of "shift" without parentheses is ambiguous at /home/cpan/pit/bare/conf/perl-5.8.9/.cpanplus/5.8.9/build/ScZK2e6PGB/Test-Moose-More-0.050/blib/lib/Test/Moose/More.pm line 111.
t/method_not_from_pkg_ok.t ............................. ok
Warning: Use of "shift" without parentheses is ambiguous at /home/cpan/pit/bare/conf/perl-5.8.9/.cpanplus/5.8.9/build/ScZK2e6PGB/Test-Moose-More-0.050/blib/lib/Test/Moose/More.pm line 110.
Warning: Use of "shift" without parentheses is ambiguous at /home/cpan/pit/bare/conf/perl-5.8.9/.cpanplus/5.8.9/build/ScZK2e6PGB/Test-Moose-More-0.050/blib/lib/Test/Moose/More.pm line 111.
t/method_ok.t .......................................... ok
Warning: Use of "shift" without parentheses is ambiguous at /home/cpan/pit/bare/conf/perl-5.8.9/.cpanplus/5.8.9/build/ScZK2e6PGB/Test-Moose-More-0.050/blib/lib/Test/Moose/More.pm line 110.
Warning: Use of "shift" without parentheses is ambiguous at /home/cpan/pit/bare/conf/perl-5.8.9/.cpanplus/5.8.9/build/ScZK2e6PGB/Test-Moose-More-0.050/blib/lib/Test/Moose/More.pm line 111.
t/no_meta_ok.t ......................................... ok
Warning: Use of "shift" without parentheses is ambiguous at /home/cpan/pit/bare/conf/perl-5.8.9/.cpanplus/5.8.9/build/ScZK2e6PGB/Test-Moose-More-0.050/blib/lib/Test/Moose/More.pm line 110.
Warning: Use of "shift" without parentheses is ambiguous at /home/cpan/pit/bare/conf/perl-5.8.9/.cpanplus/5.8.9/build/ScZK2e6PGB/Test-Moose-More-0.050/blib/lib/Test/Moose/More.pm line 111.
t/pristine_ok.t ........................................ ok
Warning: Use of "shift" without parentheses is ambiguous at /home/cpan/pit/bare/conf/perl-5.8.9/.cpanplus/5.8.9/build/ScZK2e6PGB/Test-Moose-More-0.050/blib/lib/Test/Moose/More.pm line 110.
Warning: Use of "shift" without parentheses is ambiguous at /home/cpan/pit/bare/conf/perl-5.8.9/.cpanplus/5.8.9/build/ScZK2e6PGB/Test-Moose-More-0.050/blib/lib/Test/Moose/More.pm line 111.
t/requires_method_ok.t ................................. ok
Warning: Use of "shift" without parentheses is ambiguous at /home/cpan/pit/bare/conf/perl-5.8.9/.cpanplus/5.8.9/build/ScZK2e6PGB/Test-Moose-More-0.050/blib/lib/Test/Moose/More.pm line 110.
Warning: Use of "shift" without parentheses is ambiguous at /home/cpan/pit/bare/conf/perl-5.8.9/.cpanplus/5.8.9/build/ScZK2e6PGB/Test-Moose-More-0.050/blib/lib/Test/Moose/More.pm line 111.
t/subtest-1.t .......................................... ok
Warning: Use of "shift" without parentheses is ambiguous at /home/cpan/pit/bare/conf/perl-5.8.9/.cpanplus/5.8.9/build/ScZK2e6PGB/Test-Moose-More-0.050/blib/lib/Test/Moose/More.pm line 110.
Warning: Use of "shift" without parentheses is ambiguous at /home/cpan/pit/bare/conf/perl-5.8.9/.cpanplus/5.8.9/build/ScZK2e6PGB/Test-Moose-More-0.050/blib/lib/Test/Moose/More.pm line 111.
t/validate_attribute/basic.t ........................... ok
Warning: Use of "shift" without parentheses is ambiguous at /home/cpan/pit/bare/conf/perl-5.8.9/.cpanplus/5.8.9/build/ScZK2e6PGB/Test-Moose-More-0.050/blib/lib/Test/Moose/More.pm line 110.
Warning: Use of "shift" without parentheses is ambiguous at /home/cpan/pit/bare/conf/perl-5.8.9/.cpanplus/5.8.9/build/ScZK2e6PGB/Test-Moose-More-0.050/blib/lib/Test/Moose/More.pm line 111.
t/validate_attribute/coerce.t .......................... ok
Warning: Use of "shift" without parentheses is ambiguous at /home/cpan/pit/bare/conf/perl-5.8.9/.cpanplus/5.8.9/build/ScZK2e6PGB/Test-Moose-More-0.050/blib/lib/Test/Moose/More.pm line 110.
Warning: Use of "shift" without parentheses is ambiguous at /home/cpan/pit/bare/conf/perl-5.8.9/.cpanplus/5.8.9/build/ScZK2e6PGB/Test-Moose-More-0.050/blib/lib/Test/Moose/More.pm line 111.
t/validate_attribute/in_roles.t ........................ ok
Warning: Use of "shift" without parentheses is ambiguous at /home/cpan/pit/bare/conf/perl-5.8.9/.cpanplus/5.8.9/build/ScZK2e6PGB/Test-Moose-More-0.050/blib/lib/Test/Moose/More.pm line 110.
Warning: Use of "shift" without parentheses is ambiguous at /home/cpan/pit/bare/conf/perl-5.8.9/.cpanplus/5.8.9/build/ScZK2e6PGB/Test-Moose-More-0.050/blib/lib/Test/Moose/More.pm line 111.
t/validate_attribute/lazy.t ............................ ok
Warning: Use of "shift" without parentheses is ambiguous at /home/cpan/pit/bare/conf/perl-5.8.9/.cpanplus/5.8.9/build/ScZK2e6PGB/Test-Moose-More-0.050/blib/lib/Test/Moose/More.pm line 110.
Warning: Use of "shift" without parentheses is ambiguous at /home/cpan/pit/bare/conf/perl-5.8.9/.cpanplus/5.8.9/build/ScZK2e6PGB/Test-Moose-More-0.050/blib/lib/Test/Moose/More.pm line 111.
t/validate_attribute/required.t ........................ ok
Warning: Use of "shift" without parentheses is ambiguous at /home/cpan/pit/bare/conf/perl-5.8.9/.cpanplus/5.8.9/build/ScZK2e6PGB/Test-Moose-More-0.050/blib/lib/Test/Moose/More.pm line 110.
Warning: Use of "shift" without parentheses is ambiguous at /home/cpan/pit/bare/conf/perl-5.8.9/.cpanplus/5.8.9/build/ScZK2e6PGB/Test-Moose-More-0.050/blib/lib/Test/Moose/More.pm line 111.
t/validate_class/basic.t ............................... ok
Warning: Use of "shift" without parentheses is ambiguous at /home/cpan/pit/bare/conf/perl-5.8.9/.cpanplus/5.8.9/build/ScZK2e6PGB/Test-Moose-More-0.050/blib/lib/Test/Moose/More.pm line 110.
Warning: Use of "shift" without parentheses is ambiguous at /home/cpan/pit/bare/conf/perl-5.8.9/.cpanplus/5.8.9/build/ScZK2e6PGB/Test-Moose-More-0.050/blib/lib/Test/Moose/More.pm line 111.
t/validate_class/metaclasses.t ......................... ok
Warning: Use of "shift" without parentheses is ambiguous at /home/cpan/pit/bare/conf/perl-5.8.9/.cpanplus/5.8.9/build/ScZK2e6PGB/Test-Moose-More-0.050/blib/lib/Test/Moose/More.pm line 110.
Warning: Use of "shift" without parentheses is ambiguous at /home/cpan/pit/bare/conf/perl-5.8.9/.cpanplus/5.8.9/build/ScZK2e6PGB/Test-Moose-More-0.050/blib/lib/Test/Moose/More.pm line 111.
t/validate_class/metaroles.t ........................... ok
Warning: Use of "shift" without parentheses is ambiguous at /home/cpan/pit/bare/conf/perl-5.8.9/.cpanplus/5.8.9/build/ScZK2e6PGB/Test-Moose-More-0.050/blib/lib/Test/Moose/More.pm line 110.
Warning: Use of "shift" without parentheses is ambiguous at /home/cpan/pit/bare/conf/perl-5.8.9/.cpanplus/5.8.9/build/ScZK2e6PGB/Test-Moose-More-0.050/blib/lib/Test/Moose/More.pm line 111.
t/validate_class/methods.t ............................. ok
Warning: Use of "shift" without parentheses is ambiguous at /home/cpan/pit/bare/conf/perl-5.8.9/.cpanplus/5.8.9/build/ScZK2e6PGB/Test-Moose-More-0.050/blib/lib/Test/Moose/More.pm line 110.
Warning: Use of "shift" without parentheses is ambiguous at /home/cpan/pit/bare/conf/perl-5.8.9/.cpanplus/5.8.9/build/ScZK2e6PGB/Test-Moose-More-0.050/blib/lib/Test/Moose/More.pm line 111.
t/validate_role/basic.t ................................ ok
Warning: Use of "shift" without parentheses is ambiguous at /home/cpan/pit/bare/conf/perl-5.8.9/.cpanplus/5.8.9/build/ScZK2e6PGB/Test-Moose-More-0.050/blib/lib/Test/Moose/More.pm line 110.
Warning: Use of "shift" without parentheses is ambiguous at /home/cpan/pit/bare/conf/perl-5.8.9/.cpanplus/5.8.9/build/ScZK2e6PGB/Test-Moose-More-0.050/blib/lib/Test/Moose/More.pm line 111.
t/validate_role/compose.t .............................. ok
Warning: Use of "shift" without parentheses is ambiguous at /home/cpan/pit/bare/conf/perl-5.8.9/.cpanplus/5.8.9/build/ScZK2e6PGB/Test-Moose-More-0.050/blib/lib/Test/Moose/More.pm line 110.
Warning: Use of "shift" without parentheses is ambiguous at /home/cpan/pit/bare/conf/perl-5.8.9/.cpanplus/5.8.9/build/ScZK2e6PGB/Test-Moose-More-0.050/blib/lib/Test/Moose/More.pm line 111.
t/validate_role/metaclasses.t .......................... ok
Warning: Use of "shift" without parentheses is ambiguous at /home/cpan/pit/bare/conf/perl-5.8.9/.cpanplus/5.8.9/build/ScZK2e6PGB/Test-Moose-More-0.050/blib/lib/Test/Moose/More.pm line 110.
Warning: Use of "shift" without parentheses is ambiguous at /home/cpan/pit/bare/conf/perl-5.8.9/.cpanplus/5.8.9/build/ScZK2e6PGB/Test-Moose-More-0.050/blib/lib/Test/Moose/More.pm line 111.
t/validate_role/metaroles.t ............................ ok
Warning: Use of "shift" without parentheses is ambiguous at /home/cpan/pit/bare/conf/perl-5.8.9/.cpanplus/5.8.9/build/ScZK2e6PGB/Test-Moose-More-0.050/blib/lib/Test/Moose/More.pm line 110.
Warning: Use of "shift" without parentheses is ambiguous at /home/cpan/pit/bare/conf/perl-5.8.9/.cpanplus/5.8.9/build/ScZK2e6PGB/Test-Moose-More-0.050/blib/lib/Test/Moose/More.pm line 111.
t/validate_thing/metaclasses.t ......................... ok
Warning: Use of "shift" without parentheses is ambiguous at /home/cpan/pit/bare/conf/perl-5.8.9/.cpanplus/5.8.9/build/ScZK2e6PGB/Test-Moose-More-0.050/blib/lib/Test/Moose/More.pm line 110.
Warning: Use of "shift" without parentheses is ambiguous at /home/cpan/pit/bare/conf/perl-5.8.9/.cpanplus/5.8.9/build/ScZK2e6PGB/Test-Moose-More-0.050/blib/lib/Test/Moose/More.pm line 111.
t/validate_thing/methods.t ............................. ok
Warning: Use of "shift" without parentheses is ambiguous at /home/cpan/pit/bare/conf/perl-5.8.9/.cpanplus/5.8.9/build/ScZK2e6PGB/Test-Moose-More-0.050/blib/lib/Test/Moose/More.pm line 110.
Warning: Use of "shift" without parentheses is ambiguous at /home/cpan/pit/bare/conf/perl-5.8.9/.cpanplus/5.8.9/build/ScZK2e6PGB/Test-Moose-More-0.050/blib/lib/Test/Moose/More.pm line 111.
t/validate_thing/sugar.t ............................... ok
Warning: Use of "shift" without parentheses is ambiguous at /home/cpan/pit/bare/conf/perl-5.8.9/.cpanplus/5.8.9/build/ScZK2e6PGB/Test-Moose-More-0.050/blib/lib/Test/Moose/More.pm line 110.
Warning: Use of "shift" without parentheses is ambiguous at /home/cpan/pit/bare/conf/perl-5.8.9/.cpanplus/5.8.9/build/ScZK2e6PGB/Test-Moose-More-0.050/blib/lib/Test/Moose/More.pm line 111.
t/wrapped/in_roles.t ................................... ok
All tests successful.
Test Summary Report
-------------------
t/00-check-deps.t (Wstat: 0 Tests: 32 Failed: 0)
TODO passed: 32
Files=45, Tests=235, 12 wallclock secs ( 0.14 usr 0.07 sys + 10.98 cusr 0.94 csys = 12.13 CPU)
Result: PASS
PREREQUISITES:
Here is a list of prerequisites you specified and versions we
managed to load:
Module Name Have Want
Carp 1.50 0
Data::OptList 0.112 0
ExtUtils::MakeMaker 7.64 0
File::Spec 3.75 0
IO::Handle 1.27 0
IPC::Open3 1.03 0
List::MoreUtils 0.430 0
List::Util 1.63 1.45
Moose 2.2201 0
Moose::Meta::Attribute 2.2201 0
Moose::Role 2.2201 0
Moose::Util 2.2201 0
Moose::Util::MetaRole 2.2201 0
Moose::Util::TypeConstraints 2.2201 0
Scalar::Util 1.63 0
Sub::Exporter::Progressive 0.001013 0
Syntax::Keyword::Junction 0.003008 0
TAP::SimpleOutput 0.009 0.009
Test::Builder 1.302190 0
Test::Builder::Tester 1.302190 0
Test::CheckDeps 0.010 0.010
Test::Moose 2.2201 0
Test::More 1.302190 0.94
namespace::autoclean 0.29 0
strict 1.03 0
warnings 1.05_01 0
Perl module toolchain versions installed:
Module Name Have
CPANPLUS 0.9914
CPANPLUS::Dist::Build 0.90
Cwd 3.75
ExtUtils::CBuilder 0.280236
ExtUtils::Command 7.64
ExtUtils::Install 2.20
ExtUtils::MakeMaker 7.64
ExtUtils::Manifest 1.73
ExtUtils::ParseXS 3.44
File::Spec 3.75
Module::Build 0.4231
Pod::Parser 1.35
Pod::Simple 3.42
Test2 1.302190
Test::Harness 3.44
Test::More 1.302190
version 0.9929
******************************** NOTE ********************************
The comments above are created mechanically, possibly without manual
checking by the sender. As there are many people performing automatic
tests on each upload to CPAN, it is likely that you will receive
identical messages about the same problem.
If you believe that the message is mistaken, please reply to the first
one with correction and/or additional informations, and do not take
it personally. We appreciate your patience. :)
**********************************************************************
Additional comments:
This report was machine-generated by CPANPLUS::Dist::YACSmoke 1.08.
Powered by minismokebox version 0.68
CPANPLUS is prefering Build.PL
------------------------------
ENVIRONMENT AND OTHER CONTEXT
------------------------------
Environment variables:
AUTOMATED_TESTING = 1
LANG = C.UTF-8
LC_COLLATE = C
NONINTERACTIVE_TESTING = 1
PATH = /usr/local/sbin:/usr/local/bin:/usr/sbin:/usr/bin:/sbin:/bin
PERL5LIB = /home/cpan/pit/jail/qaEFitDZrX/lib/perl5:/home/cpan/pit/bare/conf/perl-5.8.9/.cpanplus/5.8.9/build/ScZK2e6PGB/Test-Moose-More-0.050/blib/lib:/home/cpan/pit/bare/conf/perl-5.8.9/.cpanplus/5.8.9/build/ScZK2e6PGB/Test-Moose-More-0.050/blib/arch
PERL5_CPANPLUS_IS_RUNNING = 25541
PERL5_CPANPLUS_IS_VERSION = 0.9914
PERL5_MINISMOKEBOX = 0.68
PERL5_YACSMOKE_BASE = /home/cpan/pit/bare/conf/perl-5.8.9
PERL_EXTUTILS_AUTOINSTALL = --defaultdeps
PERL_LOCAL_LIB_ROOT = /home/cpan/pit/jail/qaEFitDZrX
PERL_MB_OPT = --install_base "/home/cpan/pit/jail/qaEFitDZrX"
PERL_MM_OPT = INSTALL_BASE=/home/cpan/pit/jail/qaEFitDZrX
PERL_MM_USE_DEFAULT = 1
PERL_USE_UNSAFE_INC = 1
SHELL = /bin/bash
TERM = screen
Perl special variables (and OS-specific diagnostics, for MSWin32):
Perl: $^X = /home/cpan/pit/bare/perl-5.8.9/bin/perl
UID: $< = 1001
EUID: $> = 1001
GID: $( = 1001 1001
EGID: $) = 1001 1001
-------------------------------
--
Summary of my perl5 (revision 5 version 8 subversion 9) configuration:
Platform:
osname=linux, osvers=5.10.16-0-lts, archname=x86_64-linux
uname='linux agaric 5.10.16-0-lts #1-alpine smp wed, 17 feb 2021 08:17:06 utc x86_64 linux '
config_args='-des -Dprefix=/home/cpan/pit/bare/perl-5.8.9'
hint=recommended, useposix=true, d_sigaction=define
usethreads=undef use5005threads=undef useithreads=undef usemultiplicity=undef
useperlio=define d_sfio=undef uselargefiles=define usesocks=undef
use64bitint=define use64bitall=define uselongdouble=undef
usemymalloc=n, bincompat5005=undef
Compiler:
cc='cc', ccflags ='-D_GNU_SOURCE -fwrapv -fno-strict-aliasing -pipe -D_LARGEFILE_SOURCE -D_FILE_OFFSET_BITS=64',
optimize='-O2',
cppflags='-D_GNU_SOURCE -fwrapv -fno-strict-aliasing -pipe'
ccversion='', gccversion='10.2.1 20201203', gccosandvers=''
intsize=4, longsize=8, ptrsize=8, doublesize=8, byteorder=12345678
d_longlong=define, longlongsize=8, d_longdbl=define, longdblsize=16
ivtype='long', ivsize=8, nvtype='double', nvsize=8, Off_t='off_t', lseeksize=8
alignbytes=8, prototype=define
Linker and Libraries:
ld='cc', ldflags =' -L/usr/local/lib'
libpth=/usr/local/lib /lib/../lib /usr/lib/../lib /lib /usr/lib
libs=-lgdbm -ldl -lm -lcrypt -lutil -lc -lgdbm_compat
perllibs=-ldl -lm -lcrypt -lutil -lc -lgdbm_compat
libc=/usr/lib/libc.a, so=so, useshrplib=false, libperl=libperl.a
gnulibc_version=''
Dynamic Linking:
dlsrc=dl_dlopen.xs, dlext=so, d_dlsymun=undef, ccdlflags='-Wl,-E'
cccdlflags='-fPIC', lddlflags='-shared -O2 -L/usr/local/lib'
Characteristics of this binary (from libperl):
Compile-time options: PERL_MALLOC_WRAP USE_64_BIT_ALL USE_64_BIT_INT
USE_FAST_STDIO USE_LARGE_FILES USE_PERLIO
Locally applied patches:
Devel::PatchPerl 2.08
Built under linux
Compiled at Mar 11 2021 17:55:46
%ENV:
PERL5LIB="/home/cpan/pit/jail/qaEFitDZrX/lib/perl5:/home/cpan/pit/bare/conf/perl-5.8.9/.cpanplus/5.8.9/build/ScZK2e6PGB/Test-Moose-More-0.050/blib/lib:/home/cpan/pit/bare/conf/perl-5.8.9/.cpanplus/5.8.9/build/ScZK2e6PGB/Test-Moose-More-0.050/blib/arch"
PERL5_CPANPLUS_IS_RUNNING="25541"
PERL5_CPANPLUS_IS_VERSION="0.9914"
PERL5_MINISMOKEBOX="0.68"
PERL5_YACSMOKE_BASE="/home/cpan/pit/bare/conf/perl-5.8.9"
PERL_EXTUTILS_AUTOINSTALL="--defaultdeps"
PERL_LOCAL_LIB_ROOT="/home/cpan/pit/jail/qaEFitDZrX"
PERL_MB_OPT="--install_base "/home/cpan/pit/jail/qaEFitDZrX""
PERL_MM_OPT="INSTALL_BASE=/home/cpan/pit/jail/qaEFitDZrX"
PERL_MM_USE_DEFAULT="1"
PERL_USE_UNSAFE_INC="1"
@INC:
/home/cpan/pit/jail/qaEFitDZrX/lib/perl5/5.8.9/x86_64-linux
/home/cpan/pit/jail/qaEFitDZrX/lib/perl5/5.8.9
/home/cpan/pit/jail/qaEFitDZrX/lib/perl5/x86_64-linux
/home/cpan/pit/jail/qaEFitDZrX/lib/perl5
/home/cpan/pit/bare/conf/perl-5.8.9/.cpanplus/5.8.9/build/ScZK2e6PGB/Test-Moose-More-0.050/blib/lib
/home/cpan/pit/bare/conf/perl-5.8.9/.cpanplus/5.8.9/build/ScZK2e6PGB/Test-Moose-More-0.050/blib/arch
/home/cpan/pit/bare/perl-5.8.9/lib/5.8.9/x86_64-linux
/home/cpan/pit/bare/perl-5.8.9/lib/5.8.9
/home/cpan/pit/bare/perl-5.8.9/lib/site_perl/5.8.9/x86_64-linux
/home/cpan/pit/bare/perl-5.8.9/lib/site_perl/5.8.9
.