Test-Simple v1.302211 Perl 5 v5.14.4 MSWin32-x64-multi-thread

Status
Pass
From
LNATION
Dist
Test-Simple v1.302211
Platform
Perl 5 v5.14.4 MSWin32-x64-multi-thread
Date
2025-05-16 18:32:07
ID
16df25c3-6cc5-1014-884b-ac68e2c542c7
This distribution has been tested as part of the CPAN Testers
project, supporting the Perl programming language.  See
http://wiki.cpantesters.org/ for more information or email
questions to cpan-testers-discuss@perl.org


--
Dear Chad Granum,

This is a computer-generated report for Test-Simple-1.302211
on perl 5.14.4, created by CPAN-Reporter-1.2020.

Thank you for uploading your work to CPAN.  Congratulations!
All tests were successful.

Sections of this report:

    * Tester comments
    * Program output
    * Prerequisites
    * Environment and other context

------------------------------
TESTER COMMENTS
------------------------------

Additional comments from tester:

this report is from an automated smoke testing program
and was not reviewed by a human for accuracy

------------------------------
PROGRAM OUTPUT
------------------------------

Output from 'C:\strawberry\c\bin\dmake.exe test':

"C:\strawberry\perl\bin\perl.exe" "-MExtUtils::Command::MM" "-MTest::Harness" "-e" "undef *Test::Harness::Switches; test_harness(0, 'blib\lib', 'blib\arch')" t/*.t t/Legacy/*.t t/Legacy/Bugs/*.t t/Legacy/Builder/*.t t/Legacy/Regression/*.t t/Legacy/Simple/*.t t/Legacy/Test2/*.t t/Legacy/Tester/*.t t/Legacy/subtest/*.t t/Legacy_And_Test2/*.t t/Test2/acceptance/*.t t/Test2/behavior/*.t t/Test2/legacy/*.t t/Test2/modules/*.t t/Test2/modules/API/*.t t/Test2/modules/API/InterceptResult/*.t t/Test2/modules/Event/*.t t/Test2/modules/Event/TAP/*.t t/Test2/modules/EventFacet/*.t t/Test2/modules/Formatter/*.t t/Test2/modules/Hub/*.t t/Test2/modules/Hub/Interceptor/*.t t/Test2/modules/IPC/*.t t/Test2/modules/IPC/Driver/*.t t/Test2/modules/Tools/*.t t/Test2/modules/Util/*.t t/Test2/regression/*.t t/acceptance/*.t t/behavior/*.t t/modules/*.t t/modules/AsyncSubtest/*.t t/modules/AsyncSubtest/Event/*.t t/modules/Bundle/*.t t/modules/Compare/*.t t/modules/Plugin/*.t t/modules/Require/*.t t/modules/Tools/*.t t/modules/Tools/Test-Refcount/*.t t/modules/Util/*.t t/modules/Util/Table/*.t t/modules/Workflow/*.t t/modules/Workflow/Task/*.t t/regression/*.t
# 
# DIAGNOSTICS INFO IN CASE OF FAILURE:
# +------+----------+
# | perl | 5.014004 |
# +------+----------+
# +-----------------+-----------+
# | CAPABILITY      | SUPPORTED |
# +-----------------+-----------+
# | CAN_FORK        | Yes       |
# | CAN_REALLY_FORK | No        |
# | CAN_THREAD      | Yes       |
# +-----------------+-----------+
# +--------------+----------+
# | DEPENDENCY   | VERSION  |
# +--------------+----------+
# | B            | 1.29     |
# | Carp         | 1.26     |
# | Exporter     | 5.78     |
# | File::Spec   | 3.40     |
# | File::Temp   | 0.2311   |
# | PerlIO       | 1.07     |
# | Scalar::Util | 1.69     |
# | Storable     | 2.39     |
# | Term::Table  | 0.024    |
# | Test2        | 1.302211 |
# | Time::HiRes  | 1.9725   |
# | overload     | 1.13     |
# | threads      | 1.86     |
# | utf8         | 1.09     |
# +--------------+----------+
# +--------------------+----------+
# | OPTIONAL           | VERSION  |
# +--------------------+----------+
# | Module::Pluggable  | 6.3      |
# | Sub::Name          | 0.05     |
# | Term::ReadKey      | 2.30.02  |
# | Term::Size::Any    | N/A      |
# | Unicode::GCString  | 2013.10  |
# | Unicode::LineBreak | 2019.001 |
# +--------------------+----------+
t/00-report.t .................................... ok
t/00compile.t .................................... ok
t/acceptance/OO.t ................................ ok
t/acceptance/skip.t .............................. skipped: These tests require forking or threading
t/acceptance/spec.t .............................. ok
t/acceptance/Tools.t ............................. ok
t/acceptance/Workflow-Acceptance.t ............... skipped: Author test, set the $AUTHOR_TESTING environment variable to run it
t/acceptance/Workflow-Acceptance2.t .............. ok
t/acceptance/Workflow-Acceptance3.t .............. ok
t/acceptance/Workflow-Acceptance4.t .............. ok
t/acceptance/Workflow-Acceptance5.t .............. ok
t/behavior/async_trace.t ......................... ok
t/behavior/filtering.t ........................... ok
t/behavior/Mocking.t ............................. ok
t/behavior/no_done_testing.t ..................... ok
t/behavior/no_leaks_any.t ........................ ok
t/behavior/no_leaks_no_fork.t .................... ok
t/behavior/no_leaks_no_iso.t ..................... ok
t/behavior/no_leaks_no_threads.t ................. ok
t/behavior/simple.t .............................. ok
t/HashBase.t ..................................... ok
t/Legacy/00test_harness_check.t .................. ok
t/Legacy/01-basic.t .............................. ok
t/Legacy/478-cmp_ok_hash.t ....................... ok
t/Legacy/auto.t .................................. ok
t/Legacy/bad_plan.t .............................. ok
t/Legacy/bail_out.t .............................. ok
t/Legacy/BEGIN_require_ok.t ...................... ok
t/Legacy/BEGIN_use_ok.t .......................... ok
t/Legacy/buffer.t ................................ ok
t/Legacy/Bugs/600.t .............................. ok
t/Legacy/Bugs/629.t .............................. ok
t/Legacy/Builder/Builder.t ....................... ok
t/Legacy/Builder/carp.t .......................... ok
t/Legacy/Builder/create.t ........................ ok
t/Legacy/Builder/current_test.t .................. ok
t/Legacy/Builder/current_test_without_plan.t ..... ok
t/Legacy/Builder/details.t ....................... ok
t/Legacy/Builder/done_testing.t .................. ok
t/Legacy/Builder/done_testing_double.t ........... ok
t/Legacy/Builder/done_testing_plan_mismatch.t .... ok
t/Legacy/Builder/done_testing_with_no_plan.t ..... ok
t/Legacy/Builder/done_testing_with_number.t ...... ok
t/Legacy/Builder/done_testing_with_plan.t ........ ok
t/Legacy/Builder/fork_with_new_stdout.t .......... ok
t/Legacy/Builder/has_plan.t ...................... ok
t/Legacy/Builder/has_plan2.t ..................... ok
t/Legacy/Builder/is_fh.t ......................... ok
t/Legacy/Builder/is_passing.t .................... ok
t/Legacy/Builder/maybe_regex.t ................... ok
t/Legacy/Builder/no_diag.t ....................... ok
t/Legacy/Builder/no_ending.t ..................... ok
t/Legacy/Builder/no_header.t ..................... ok
t/Legacy/Builder/no_plan_at_all.t ................ ok
t/Legacy/Builder/ok_obj.t ........................ ok
t/Legacy/Builder/output.t ........................ ok
t/Legacy/Builder/reset.t ......................... ok
t/Legacy/Builder/reset_outputs.t ................. ok
t/Legacy/Builder/try.t ........................... ok
t/Legacy/c_flag.t ................................ ok
t/Legacy/capture.t ............................... ok
t/Legacy/check_tests.t ........................... ok
t/Legacy/circular_data.t ......................... ok
t/Legacy/cmp_ok.t ................................ ok
t/Legacy/depth.t ................................. ok
t/Legacy/diag.t .................................. ok
t/Legacy/died.t .................................. ok
t/Legacy/dont_overwrite_die_handler.t ............ ok
t/Legacy/eq_set.t ................................ ok
t/Legacy/exit.t .................................. ok
t/Legacy/explain.t ............................... ok
t/Legacy/explain_err_vars.t ...................... ok
t/Legacy/extra.t ................................. ok
t/Legacy/extra_one.t ............................. ok
t/Legacy/fail-like.t ............................. ok
t/Legacy/fail-more.t ............................. ok
t/Legacy/fail.t .................................. ok
t/Legacy/fail_one.t .............................. ok
t/Legacy/filehandles.t ........................... ok
t/Legacy/fork.t .................................. ok
t/Legacy/harness_active.t ........................ ok
t/Legacy/import.t ................................ ok
t/Legacy/is_deeply_dne_bug.t ..................... ok
t/Legacy/is_deeply_fail.t ........................ ok
t/Legacy/is_deeply_with_threads.t ................ skipped: many perls have broken threads.  Enable with AUTHOR_TESTING.
t/Legacy/missing.t ............................... ok
t/Legacy/More.t .................................. ok
t/Legacy/new_ok.t ................................ ok
t/Legacy/no_log_results.t ........................ ok
t/Legacy/no_plan.t ............................... ok
t/Legacy/no_tests.t .............................. ok
t/Legacy/note.t .................................. ok
t/Legacy/overload.t .............................. ok
t/Legacy/overload_threads.t ...................... ok
t/Legacy/plan.t .................................. ok
t/Legacy/plan_bad.t .............................. ok
t/Legacy/plan_is_noplan.t ........................ ok
t/Legacy/plan_no_plan.t .......................... ok
t/Legacy/plan_shouldnt_import.t .................. ok
t/Legacy/plan_skip_all.t ......................... skipped: Just testing plan & skip_all
t/Legacy/Regression/637.t ........................ skipped: many perls have broken threads.  Enable with AUTHOR_TESTING.
t/Legacy/Regression/683_thread_todo.t ............ ok
t/Legacy/Regression/6_cmp_ok.t ................... ok
t/Legacy/Regression/736_use_ok.t ................. ok
t/Legacy/Regression/789-read-only.t .............. skipped: AUTHOR_TESTING not enabled
t/Legacy/Regression/870-experimental-warnings.t .. skipped: Not testing before 5.18 or after 5.37.10
t/Legacy/Regression/is_capture.t ................. ok
t/Legacy/require_ok.t ............................ ok
t/Legacy/run_test.t .............................. ok
t/Legacy/simple.t ................................ ok
t/Legacy/Simple/load.t ........................... ok
t/Legacy/skip.t .................................. ok
t/Legacy/skipall.t ............................... ok
t/Legacy/strays.t ................................ skipped: not completed
t/Legacy/subtest/args.t .......................... ok
t/Legacy/subtest/bail_out.t ...................... ok
t/Legacy/subtest/basic.t ......................... ok
t/Legacy/subtest/callback.t ...................... ok
t/Legacy/subtest/die.t ........................... ok
t/Legacy/subtest/do.t ............................ ok
t/Legacy/subtest/events.t ........................ ok
t/Legacy/subtest/fork.t .......................... ok
t/Legacy/subtest/implicit_done.t ................. ok
t/Legacy/subtest/line_numbers.t .................. ok
t/Legacy/subtest/predicate.t ..................... ok
t/Legacy/subtest/singleton.t ..................... ok
t/Legacy/subtest/threads.t ....................... ok
t/Legacy/subtest/todo.t .......................... ok
t/Legacy/subtest/wstat.t ......................... ok
t/Legacy/tbm_doesnt_set_exported_to.t ............ ok
t/Legacy/Test2/Subtest.t ......................... ok
t/Legacy/Tester/tbt_01basic.t .................... ok
t/Legacy/Tester/tbt_02fhrestore.t ................ ok
t/Legacy/Tester/tbt_03die.t ...................... ok
t/Legacy/Tester/tbt_04line_num.t ................. ok
t/Legacy/Tester/tbt_05faildiag.t ................. ok
t/Legacy/Tester/tbt_06errormess.t ................ ok
t/Legacy/Tester/tbt_07args.t ..................... ok
t/Legacy/Tester/tbt_08subtest.t .................. ok
t/Legacy/Tester/tbt_09do.t ....................... ok
t/Legacy/thread_taint.t .......................... ok
t/Legacy/threads.t ............................... ok
t/Legacy/todo.t .................................. ok
t/Legacy/undef.t ................................. ok
t/Legacy/use_ok.t ................................ ok
t/Legacy/useing.t ................................ ok
t/Legacy/utf8.t .................................. ok
t/Legacy/versions.t .............................. ok
t/Legacy_And_Test2/builder_loaded_late.t ......... ok
t/Legacy_And_Test2/diag_event_on_ok.t ............ ok
t/Legacy_And_Test2/hidden_warnings.t ............. ok
t/Legacy_And_Test2/preload_diag_note.t ........... ok
t/Legacy_And_Test2/thread_init_warning.t ......... ok
t/load_manual.t .................................. ok
t/modules/AsyncSubtest.t ......................... ok
t/modules/AsyncSubtest/Event/Attach.t ............ ok
t/modules/AsyncSubtest/Event/Detach.t ............ ok
t/modules/AsyncSubtest/Hub.t ..................... ok
t/modules/Bundle.t ............................... ok
t/modules/Bundle/Extended.t ...................... ok
t/modules/Bundle/More.t .......................... ok
t/modules/Bundle/Simple.t ........................ ok
t/modules/Compare.t .............................. ok
t/modules/Compare/Array.t ........................ ok
t/modules/Compare/Bag.t .......................... ok
t/modules/Compare/Base.t ......................... ok
t/modules/Compare/Bool.t ......................... ok
t/modules/Compare/Custom.t ....................... ok
t/modules/Compare/Delta.t ........................ ok
t/modules/Compare/Event.t ........................ ok
t/modules/Compare/EventMeta.t .................... ok
t/modules/Compare/Float.t ........................ ok
t/modules/Compare/Hash.t ......................... ok
t/modules/Compare/Isa.t .......................... ok
t/modules/Compare/Meta.t ......................... ok
t/modules/Compare/Number.t ....................... ok
t/modules/Compare/Object.t ....................... ok
t/modules/Compare/OrderedSubset.t ................ ok
t/modules/Compare/Pattern.t ...................... ok
t/modules/Compare/Ref.t .......................... ok
t/modules/Compare/Regex.t ........................ ok
t/modules/Compare/Scalar.t ....................... ok
t/modules/Compare/Set.t .......................... ok
t/modules/Compare/String.t ....................... ok
t/modules/Compare/Undef.t ........................ ok
t/modules/Compare/Wildcard.t ..................... ok
t/modules/Mock.t ................................. ok
t/modules/Plugin.t ............................... ok
t/modules/Plugin/BailOnFail.t .................... ok
t/modules/Plugin/DieOnFail.t ..................... ok
t/modules/Plugin/ExitSummary.t ................... ok
t/modules/Plugin/SRand.t ......................... ok
t/modules/Plugin/Times.t ......................... ok
t/modules/Plugin/UTF8.t .......................... ok
t/modules/Require.t .............................. ok
t/modules/Require/AuthorTesting.t ................ ok
t/modules/Require/AutomatedTesting.t ............. ok
t/modules/Require/EnvVar.t ....................... ok
t/modules/Require/ExtendedTesting.t .............. ok
t/modules/Require/Fork.t ......................... ok
t/modules/Require/Module.t ....................... ok
t/modules/Require/NonInteractiveTesting.t ........ ok
t/modules/Require/Perl.t ......................... ok
t/modules/Require/RealFork.t ..................... ok
t/modules/Require/ReleaseTesting.t ............... ok
t/modules/Require/Threads.t ...................... ok
t/modules/Suite.t ................................ ok
t/modules/Todo.t ................................. ok
t/modules/Tools.t ................................ ok
t/modules/Tools/AsyncSubtest.t ................... ok
t/modules/Tools/Basic.t .......................... ok
t/modules/Tools/Class.t .......................... ok
t/modules/Tools/ClassicCompare.t ................. ok
t/modules/Tools/ClassicCompare2.t ................ ok
t/modules/Tools/Compare.t ........................ ok
t/modules/Tools/Defer.t .......................... ok
Could not remove temp file C:\Users\ADMINI~1\AppData\Local\Temp\2\H8upQetvrV: Permission denied
t/modules/Tools/Encoding.t ....................... ok
t/modules/Tools/Event.t .......................... ok
t/modules/Tools/Exception.t ...................... ok
t/modules/Tools/Exports.t ........................ ok
t/modules/Tools/GenTemp.t ........................ ok
t/modules/Tools/Grab.t ........................... ok
t/modules/Tools/Mock.t ........................... ok
t/modules/Tools/Ref.t ............................ ok
t/modules/Tools/Spec.t ........................... skipped: Tests not yet written
t/modules/Tools/Subtest.t ........................ ok
t/modules/Tools/Target.t ......................... ok
t/modules/Tools/Test-Refcount/01count.t .......... ok
t/modules/Tools/Test-Refcount/02one.t ............ ok
t/modules/Tools/Test-Refcount/03weak.t ........... ok
t/modules/Tools/Test-Refcount/04reftypes.t ....... ok
t/modules/Tools/Tester.t ......................... ok
t/modules/Tools/Warnings.t ....................... ok
t/modules/Util/Grabber.t ......................... ok
t/modules/Util/Ref.t ............................. ok
t/modules/Util/Stash.t ........................... ok
t/modules/Util/Sub.t ............................. ok
t/modules/Util/Table.t ........................... ok
t/modules/Util/Table/Cell.t ...................... ok
t/modules/Util/Table/LineBreak.t ................. ok
t/modules/Util/Times.t ........................... ok
t/modules/V0.t ................................... ok
t/modules/Workflow.t ............................. skipped: Tests not yet written
t/modules/Workflow/BlockBase.t ................... skipped: Tests not yet written
t/modules/Workflow/Build.t ....................... skipped: Tests not yet written
t/modules/Workflow/Runner.t ...................... skipped: Tests not yet written
t/modules/Workflow/Task.t ........................ skipped: Tests not yet written
t/modules/Workflow/Task/Action.t ................. ok
t/modules/Workflow/Task/Group.t .................. skipped: Tests not yet written
t/regression/10-set_and_dne.t .................... ok
t/regression/132-bool.t .......................... skipped: Author test, set the $AUTHOR_TESTING environment variable to run it
t/regression/247_check_ref_bool.t ................ ok
t/regression/27-1-Test2-Bundle-More.t ............ ok
t/regression/27-2-Test2-Tools-Compare.t .......... ok
t/regression/27-3-Test2-Tools-ClassicCompare.t ... ok
t/regression/285-wrap-nonexisting.t .............. ok
t/regression/289-compare-array-bounds.t .......... ok
t/regression/291-async-subtest-done-testing.t .... skipped: This test requires a perl capable of true forking.
t/regression/43-bag-on-empty.t ................... ok
t/regression/642_persistent_end.t ................ ok
t/regression/662-tbt-no-plan.t ................... ok
t/regression/684-nested_todo_diag.t .............. ok
t/regression/694_note_diag_return_values.t ....... ok
t/regression/696-intercept_skip_all.t ............ ok
t/regression/721-nested-streamed-subtest.t ....... ok
t/regression/757-reset_in_subtest.t .............. ok
t/regression/812-todo.t .......................... ok
t/regression/817-subtest-todo.t .................. ok
t/regression/862-intercept_tb_todo.t ............. ok
t/regression/async_subtest_missing_parent.t ...... ok
t/regression/builder_does_not_init.t ............. ok
t/regression/errors_facet.t ...................... ok
t/regression/fork_first.t ........................ ok
t/regression/inherit_trace.t ..................... ok
t/regression/no_name_in_subtest.t ................ ok
t/regression/skip_reason_object_ipc.t ............ skipped: No IPC
t/regression/Test2-Mock.t ........................ ok
t/regression/Test2-Tools-Class.t ................. ok
t/regression/todo_and_facets.t ................... ok
t/regression/utf8-mock.t ......................... ok
t/Test2/acceptance/try_it_done_testing.t ......... ok
t/Test2/acceptance/try_it_fork.t ................. skipped: System cannot fork
t/Test2/acceptance/try_it_no_plan.t .............. ok
t/Test2/acceptance/try_it_plan.t ................. ok
t/Test2/acceptance/try_it_skip.t ................. skipped: testing skip all
t/Test2/acceptance/try_it_threads.t .............. ok
t/Test2/acceptance/try_it_todo.t ................. ok
t/Test2/behavior/disable_ipc_a.t ................. ok
t/Test2/behavior/disable_ipc_b.t ................. ok
t/Test2/behavior/disable_ipc_c.t ................. ok
t/Test2/behavior/disable_ipc_d.t ................. ok
t/Test2/behavior/err_var.t ....................... ok
t/Test2/behavior/Formatter.t ..................... ok
t/Test2/behavior/init_croak.t .................... ok
t/Test2/behavior/intercept.t ..................... ok
t/Test2/behavior/ipc_wait_timeout.t .............. ok
t/Test2/behavior/nested_context_exception.t ...... ok
t/Test2/behavior/no_load_api.t ................... ok
t/Test2/behavior/run_subtest_inherit.t ........... ok
t/Test2/behavior/special_names.t ................. ok
t/Test2/behavior/subtest_bailout.t ............... ok
t/Test2/behavior/Subtest_buffer_formatter.t ...... ok
t/Test2/behavior/Subtest_callback.t .............. ok
t/Test2/behavior/Subtest_events.t ................ ok
t/Test2/behavior/Subtest_todo.t .................. ok
t/Test2/behavior/Taint.t ......................... ok
t/Test2/behavior/trace_signature.t ............... ok
t/Test2/behavior/trace_stamps.t .................. ok
t/Test2/behavior/uuid.t .......................... ok
t/Test2/legacy/TAP.t ............................. ok
t/Test2/modules/API.t ............................ ok
t/Test2/modules/API/Breakage.t ................... ok
t/Test2/modules/API/Context.t .................... ok
t/Test2/modules/API/Instance.t ................... ok
t/Test2/modules/API/InterceptResult.t ............ ok
t/Test2/modules/API/InterceptResult/Event.t ...... ok
t/Test2/modules/API/InterceptResult/Squasher.t ... ok
t/Test2/modules/API/Stack.t ...................... ok
t/Test2/modules/Event.t .......................... ok
t/Test2/modules/Event/Bail.t ..................... ok
t/Test2/modules/Event/Diag.t ..................... ok
t/Test2/modules/Event/Encoding.t ................. ok
t/Test2/modules/Event/Exception.t ................ ok
t/Test2/modules/Event/Fail.t ..................... ok
t/Test2/modules/Event/Generic.t .................. ok
t/Test2/modules/Event/Note.t ..................... ok
t/Test2/modules/Event/Ok.t ....................... ok
t/Test2/modules/Event/Pass.t ..................... ok
t/Test2/modules/Event/Plan.t ..................... ok
t/Test2/modules/Event/Skip.t ..................... ok
t/Test2/modules/Event/Subtest.t .................. ok
t/Test2/modules/Event/TAP/Version.t .............. ok
t/Test2/modules/Event/V2.t ....................... ok
t/Test2/modules/Event/Waiting.t .................. ok
t/Test2/modules/EventFacet.t ..................... ok
t/Test2/modules/EventFacet/About.t ............... ok
t/Test2/modules/EventFacet/Amnesty.t ............. ok
t/Test2/modules/EventFacet/Assert.t .............. ok
t/Test2/modules/EventFacet/Control.t ............. ok
t/Test2/modules/EventFacet/Error.t ............... ok
t/Test2/modules/EventFacet/Info.t ................ ok
t/Test2/modules/EventFacet/Meta.t ................ ok
t/Test2/modules/EventFacet/Parent.t .............. ok
t/Test2/modules/EventFacet/Plan.t ................ ok
t/Test2/modules/EventFacet/Trace.t ............... ok
t/Test2/modules/Formatter/TAP.t .................. ok
t/Test2/modules/Hub.t ............................ ok
t/Test2/modules/Hub/Interceptor.t ................ ok
t/Test2/modules/Hub/Interceptor/Terminator.t ..... ok
t/Test2/modules/Hub/Subtest.t .................... ok
t/Test2/modules/IPC.t ............................ ok
t/Test2/modules/IPC/Driver.t ..................... ok
t/Test2/modules/IPC/Driver/Files.t ............... ok
t/Test2/modules/Tools/Tiny.t ..................... ok
t/Test2/modules/Util.t ........................... ok
t/Test2/modules/Util/ExternalMeta.t .............. ok
t/Test2/modules/Util/Facets2Legacy.t ............. ok
t/Test2/modules/Util/Trace.t ..................... ok
t/Test2/regression/693_ipc_ordering.t ............ ok
t/Test2/regression/746-forking-subtest.t ......... ok
t/Test2/regression/gh_16.t ....................... skipped: Crazy test, only run on 5.20+, or when AUTHOR_TESTING is set
t/Test2/regression/ipc_files_abort_exit.t ........ skipped: Set AUTHOR_TESTING to run this test
# You have the following modules installed, which are not compatible with the latest Test::More:
# Installed version (2.0604) of Test::Moose is in range '<= 2.1209'
# 
# You should now update these modules!
# You should also see Test2::Transition!
t/zzz-check-breaks.t ............................. ok
All tests successful.
Files=363, Tests=3446, 109 wallclock secs ( 1.66 usr +  0.81 sys =  2.47 CPU)
Result: PASS

------------------------------
PREREQUISITES
------------------------------

Prerequisite modules loaded:

requires:

    Module              Need     Have    
    ------------------- -------- --------
    B                   0        1.29    
    Data::Dumper        0        2.143   
    Exporter            0        5.78    
    File::Spec          0        3.40    
    File::Temp          0        0.2311  
    overload            0        1.13    
    perl                5.006002 5.014004
    Scalar::Util        1.13     1.69    
    Storable            0        2.39    
    Term::Table         0.013    0.024   
    Time::HiRes         0        1.9725  
    utf8                0        1.09    

build_requires:

    Module              Need     Have    
    ------------------- -------- --------
    ExtUtils::MakeMaker 0        7.74    

configure_requires:

    Module              Need     Have    
    ------------------- -------- --------
    ExtUtils::MakeMaker 0        7.74    


------------------------------
ENVIRONMENT AND OTHER CONTEXT
------------------------------

Environment variables:

    AUTOMATED_TESTING = 1
    COMSPEC = C:\Windows\system32\cmd.exe
    NUMBER_OF_PROCESSORS = 2
    PATH = C:\Windows\system32;C:\Windows;C:\Windows\System32\Wbem;C:\Windows\System32\WindowsPowerShell\v1.0\;C:\Windows\System32\OpenSSH\;C:\Program Files\Amazon\cfn-bootstrap\;C:\strawberry\c\bin;C:\strawberry\perl\site\bin;C:\strawberry\perl\bin;C:\Users\Administrator\AppData\Local\Microsoft\WindowsApps;C:\Users\Administrator\AppData\Local\Microsoft\WinGet\Links;
    PERL5LIB = 
    PERL5OPT = 
    PERL5_CPANPLUS_IS_RUNNING = 9356
    PERL5_CPAN_IS_RUNNING = 9356
    PERL5_CPAN_IS_RUNNING_IN_RECURSION = 13088,9356
    PERL_CR_SMOKER_CURRENT = Test-Simple-1.302211
    PERL_EXTUTILS_AUTOINSTALL = --defaultdeps
    PERL_MM_USE_DEFAULT = 1
    PROCESSOR_IDENTIFIER = Intel64 Family 6 Model 85 Stepping 7, GenuineIntel
    TEMP = C:\Users\ADMINI~1\AppData\Local\Temp\2
    TERM = dumb

Perl special variables (and OS-specific diagnostics, for MSWin32):

    $^X = C:\strawberry\perl\bin\perl.exe
    $UID/$EUID = 0 / 0
    $GID = 0
    $EGID = 0
    Win32::GetOSName = Win2012
    Win32::GetOSVersion = , 6, 2, 9200, 2, 0, 0, 400, 3
    Win32::FsType = NTFS
    Win32::IsAdminUser = 1

Perl module toolchain versions installed:

    Module              Have    
    ------------------- --------
    CPAN                1.9800  
    CPAN::Meta          2.143240
    Cwd                 3.40    
    ExtUtils::CBuilder  0.280205
    ExtUtils::Command   7.74    
    ExtUtils::Install   2.06    
    ExtUtils::MakeMaker 7.74    
    ExtUtils::Manifest  1.75    
    ExtUtils::ParseXS   3.57    
    File::Spec          3.40    
    JSON                2.53    
    JSON::PP            4.16    
    Module::Build       0.4234  
    Module::Signature   n/a     
    Parse::CPAN::Meta   1.4414  
    Test2               1.302211
    Test::Harness       3.52    
    Test::More          1.302211
    YAML                0.84    
    YAML::Syck          1.23    
    version             0.9902  


--

Summary of my perl5 (revision 5 version 14 subversion 4) configuration:
   
  Platform:
    osname=MSWin32, osvers=4.0, archname=MSWin32-x64-multi-thread
    uname='Win32 strawberry-perl 5.14.4.1 #1 Mon Mar 11 18:06:54 2013 x64'
    config_args='undef'
    hint=recommended, useposix=true, d_sigaction=undef
    useithreads=define, usemultiplicity=define
    useperlio=define, d_sfio=undef, uselargefiles=define, usesocks=undef
    use64bitint=define, use64bitall=undef, uselongdouble=undef
    usemymalloc=n, bincompat5005=undef
  Compiler:
    cc='gcc', ccflags =' -s -O2 -DWIN32 -DWIN64 -DCONSERVATIVE  -DPERL_TEXTMODE_SCRIPTS -DPERL_IMPLICIT_CONTEXT -DPERL_IMPLICIT_SYS -fno-strict-aliasing -mms-bitfields',
    optimize='-s -O2',
    cppflags='-DWIN32'
    ccversion='', gccversion='4.6.3', gccosandvers=''
    intsize=4, longsize=4, ptrsize=8, doublesize=8, byteorder=12345678
    d_longlong=define, longlongsize=8, d_longdbl=define, longdblsize=12
    ivtype='long long', ivsize=8, nvtype='double', nvsize=8, Off_t='long long', lseeksize=8
    alignbytes=8, prototype=define
  Linker and Libraries:
    ld='g++', ldflags ='-s -L"C:\strawberry\perl\lib\CORE" -L"C:\strawberry\c\lib"'
    libpth=C:\strawberry\c\lib C:\strawberry\c\x86_64-w64-mingw32\lib
    libs=-lmoldname -lkernel32 -luser32 -lgdi32 -lwinspool -lcomdlg32 -ladvapi32 -lshell32 -lole32 -loleaut32 -lnetapi32 -luuid -lws2_32 -lmpr -lwinmm -lversion -lodbc32 -lodbccp32 -lcomctl32
    perllibs=-lmoldname -lkernel32 -luser32 -lgdi32 -lwinspool -lcomdlg32 -ladvapi32 -lshell32 -lole32 -loleaut32 -lnetapi32 -luuid -lws2_32 -lmpr -lwinmm -lversion -lodbc32 -lodbccp32 -lcomctl32
    libc=, so=dll, useshrplib=true, libperl=libperl514.a
    gnulibc_version=''
  Dynamic Linking:
    dlsrc=dl_win32.xs, dlext=dll, d_dlsymun=undef, ccdlflags=' '
    cccdlflags=' ', lddlflags='-mdll -s -L"C:\strawberry\perl\lib\CORE" -L"C:\strawberry\c\lib"'


Characteristics of this binary (from libperl): 
  Compile-time options: MULTIPLICITY PERL_DONT_CREATE_GVSV
                        PERL_IMPLICIT_CONTEXT PERL_IMPLICIT_SYS
                        PERL_MALLOC_WRAP PERL_PRESERVE_IVUV PL_OP_SLAB_ALLOC
                        USE_64_BIT_INT USE_ITHREADS USE_LARGE_FILES
                        USE_PERLIO USE_PERL_ATOF
  Built under MSWin32
  Compiled at Mar 11 2013 18:11:21
  %ENV:
    PERL5_CPANPLUS_IS_RUNNING="9356"
    PERL5_CPAN_IS_RUNNING="9356"
    PERL5_CPAN_IS_RUNNING_IN_RECURSION="13088,9356"
    PERL_CR_SMOKER_CURRENT="Test-Simple-1.302211"
    PERL_EXTUTILS_AUTOINSTALL="--defaultdeps"
    PERL_MM_USE_DEFAULT="1"
  @INC:
    C:/strawberry/perl/site/lib
    C:/strawberry/perl/vendor/lib
    C:/strawberry/perl/lib
    .