Google-Ads-AdWords-Client v5.6.0 Perl 5 v5.18.4 x86_64-linux-thread-multi

Status
Pass
From
Nigel Horne
Dist
Google-Ads-AdWords-Client v5.6.0
Platform
Perl 5 v5.18.4 x86_64-linux-thread-multi
Date
2018-09-22 08:47:07
ID
1644831c-be44-11e8-b1f0-ccb36b6a1a04
This distribution has been tested as part of the CPAN Testers
project, supporting the Perl programming language.  See
http://wiki.cpantesters.org/ for more information or email
questions to cpan-testers-discuss@perl.org


--
Dear Nadine Sundquist,

This is a computer-generated report for Google-Ads-AdWords-Client-5.6.0
on perl 5.18.4, created by CPAN-Reporter-1.2018.

Thank you for uploading your work to CPAN.  Congratulations!
All tests were successful.

Sections of this report:

    * Tester comments
    * Program output
    * Prerequisites
    * Environment and other context

------------------------------
TESTER COMMENTS
------------------------------

Additional comments from tester:

this report is from an automated smoke testing program
and was not reviewed by a human for accuracy

------------------------------
PROGRAM OUTPUT
------------------------------

Output from './Build test':

t/001_require.t ....................... ok
t/011_Client.t ........................ ok
t/012_Serializer.t .................... ok
 clientCustomerId=INSERT_CLIENT_CUSTOMER_ID_HERE server=https://adwords.google.com service=CampaignService method=get responseTime=2429 requestId=07a93c67b1dd3ff5242c98d436ba7043 operations=1 isFault=yes faultMessage=[PolicyViolationError.POLICY_ERROR @ operations[0].operand.criterion.text; trigger:'MED'] at /home/njh/.cpan/build/Google-Ads-AdWords-Client-5.6.0-13/blib/lib/Google/Ads/AdWords/Deserializer.pm line 83
t/013_Deserializer.t .................. ok
t/014_XPathSAXParser.t ................ ok
 clientCustomerId=INSERT_CLIENT_CUSTOMER_ID_HERE server=https://adwords.google.com service=CampaignService method=get responseTime=2429 requestId=07a93c67b1dd3ff5242c98d436ba7043 operations=1 isFault=yes faultMessage=[RequiredError.REQUIRED @ operations[0].operand.advertisingChannelType] at lib/Google/Ads/AdWords/Deserializer.pm line 83
t/015_RequestStats.t .................. ok
t/017_OAuth2ApplicationsHandler.t ..... ok
t/018_MapUtils.t ...................... ok
t/019_OAuth2ServiceAccountsHandler.t .. ok
t/020_GenerateOfflineCredentials.t .... ok
t/021_ReportingConfiguration.t ........ ok
t/022_ReportUtils.t ................... ok
t/023_AdsUtilityRegistry.t ............ ok
t/024_BatchJobHandler.t ............... ok
t/025_ReportQueryBuilder.t ............ ok
t/026_ServiceQueryBuilder.t ........... ok
All tests successful.
Files=16, Tests=4846, 10 wallclock secs ( 0.36 usr  0.07 sys +  6.82 cusr  0.95 csys =  8.20 CPU)
Result: PASS

------------------------------
PREREQUISITES
------------------------------

Prerequisite modules loaded:

requires:

    Module                    Need    Have      
    ------------------------- ------- ----------
    Class::Load               0       0.23      
    Class::Std::Fast          0       0.0.8     
    Crypt::OpenSSL::RSA       0       0.30      
    Cwd                       0       3.74      
    Data::Uniqid              0       0.12      
    Date::Format              0       2.24      
    Date::Parse               0       2.30      
    Digest::SHA               0       5.84_02   
    File::Basename            0       2.84      
    File::HomeDir             0       1.004     
    File::Path                0       2.09      
    File::Spec                0       3.74      
    File::Temp                0       0.23      
    Getopt::Long              0       2.5       
    HTTP::Server::Simple::CGI 0       0         
    IO::Socket::SSL           0       2.006     
    JSON::Parse               0       0.49      
    List::Util                0       1.47      
    Log::Log4perl             0       1.49      
    LWP::Protocol::https      0       6.06      
    LWP::UserAgent            0       6.35      
    Math::Random::MT          0       1.17      
    perl                      v5.14.0 5.018004  
    POSIX                     0       1.32      
    SOAP::WSDL                v2.0.10 3.003     
    Template                  0       2.27      
    URI::Escape               0       3.31      
    XML::LibXML               0       2.0129    
    XML::Simple               0       2.20      
    XML::XPath                0       1.42      

build_requires:

    Module                    Need    Have      
    ------------------------- ------- ----------
    Class::Std::Fast          v0.0.5  0.0.8     
    Config::Properties        0       1.80      
    Module::Build             0       0.4210    
    Test::Deep                0       1.124     
    Test::Exception           0       0.43      
    Test::MockObject          0       1.20180705
    Test::MockObject::Extends 0       1.20180705
    Test::More                0       1.302136  

configure_requires:

    Module                    Need    Have      
    ------------------------- ------- ----------
    Module::Build             0.42    0.4210    


------------------------------
ENVIRONMENT AND OTHER CONTEXT
------------------------------

Environment variables:

    AUTOMATED_TESTING = 1
    LANG = en_GB.UTF-8
    LANGUAGE = en_GB:en
    PATH = /home/njh/perl5/perlbrew/bin:/home/njh/perl5/perlbrew/perls/perl-5.18.4/bin:/home/njh/perl5/perlbrew/bin:/usr/bin:/bin
    PERL5LIB = /home/njh/.cpan/build/XML-XPath-1.42-1/blib/arch:/home/njh/.cpan/build/XML-XPath-1.42-1/blib/lib:/home/njh/.cpan/build/SOAP-WSDL-3.003-13/blib/arch:/home/njh/.cpan/build/SOAP-WSDL-3.003-13/blib/lib:/home/njh/.cpan/build/Template-Toolkit-2.27-12/blib/arch:/home/njh/.cpan/build/Template-Toolkit-2.27-12/blib/lib:/home/njh/.cpan/build/Math-Random-MT-1.17-13/blib/arch:/home/njh/.cpan/build/Math-Random-MT-1.17-13/blib/lib:/home/njh/.cpan/build/HTTP-Server-Simple-0.52-12/blib/arch:/home/njh/.cpan/build/HTTP-Server-Simple-0.52-12/blib/lib:/home/njh/.cpan/build/Data-Uniqid-0.12-13/blib/arch:/home/njh/.cpan/build/Data-Uniqid-0.12-13/blib/lib:/home/njh/.cpan/build/Crypt-OpenSSL-RSA-0.30-13/blib/arch:/home/njh/.cpan/build/Crypt-OpenSSL-RSA-0.30-13/blib/lib:/home/njh/.cpan/build/Crypt-OpenSSL-Random-0.15-11/blib/arch:/home/njh/.cpan/build/Crypt-OpenSSL-Random-0.15-11/blib/lib:/home/njh/.cpan/build/Crypt-OpenSSL-Guess-0.11-11/blib/arch:/home/njh/.cpan/build/Crypt-OpenSSL-Guess-0.11-11/blib/lib:/home/njh/.cpan/build/Config-Properties-1.80-13/blib/arch:/home/njh/.cpan/build/Config-Properties-1.80-13/blib/lib:/home/njh/.cpan/build/Class-Std-Fast-v0.0.8-13/blib/arch:/home/njh/.cpan/build/Class-Std-Fast-v0.0.8-13/blib/lib
    PERL5OPT = 
    PERL5_CPANPLUS_IS_RUNNING = 28058
    PERL5_CPAN_IS_RUNNING = 28058
    PERL5_MINISMOKEBOX = 0.68
    PERLBREW_LIB = 
    PERLBREW_MANPATH = /home/njh/perl5/perlbrew/perls/perl-5.18.4/man
    PERLBREW_PATH = /home/njh/perl5/perlbrew/bin:/home/njh/perl5/perlbrew/perls/perl-5.18.4/bin
    PERLBREW_PERL = perl-5.18.4
    PERLBREW_ROOT = /home/njh/perl5/perlbrew
    PERLBREW_SHELLRC_VERSION = 0.82
    PERLBREW_VERSION = 0.82
    PERL_EXTUTILS_AUTOINSTALL = --defaultdeps
    PERL_LOCAL_LIB_ROOT = 
    PERL_MM_USE_DEFAULT = 1
    SHELL = /bin/sh
    TEMP = /tmp/user/1000
    TMPDIR = /tmp/user/1000

Perl special variables (and OS-specific diagnostics, for MSWin32):

    $^X = /home/njh/perl5/perlbrew/perls/perl-5.18.4/bin/perl5.18.4
    $UID/$EUID = 1000 / 1000
    $GID = 1000 4 24 25 29 30 44 46 108 112 1000
    $EGID = 1000 4 24 25 29 30 44 46 108 112 1000

Perl module toolchain versions installed:

    Module              Have    
    ------------------- --------
    CPAN                2.16    
    CPAN::Meta          2.150005
    Cwd                 3.74    
    ExtUtils::CBuilder  0.280210
    ExtUtils::Command   7.34    
    ExtUtils::Install   2.06    
    ExtUtils::MakeMaker 7.34    
    ExtUtils::Manifest  1.70    
    ExtUtils::ParseXS   3.30    
    File::Spec          3.74    
    JSON                2.97001 
    JSON::PP            2.27400 
    Module::Build       0.4210  
    Module::Signature   n/a     
    Parse::CPAN::Meta   1.4422  
    Test::Harness       3.36    
    Test::More          1.302136
    YAML                1.26    
    YAML::Syck          1.30    
    version             0.9902  


--

Summary of my perl5 (revision 5 version 18 subversion 4) configuration:
   
  Platform:
    osname=linux, osvers=3.16-3-amd64, archname=x86_64-linux-thread-multi
    uname='linux nigelhorne.force9.co.uk 3.16-3-amd64 #1 smp debian 3.16.5-1 (2014-10-10) x86_64 gnulinux '
    config_args='-de -Dprefix=/home/njh/perl5/perlbrew/perls/perl-5.18.4 -Duseithreads -Dusemultiplicity -Dusedevel -Accflags=-O2 -W -Wformat=2 -Wswitch -Wshadow -Wwrite-strings -Wuninitialized -Wall -pipe -mtune=native -march=native -fomit-frame-pointer -msse2 -msse -mmmx -mfpmath=sse -pedantic -D_FORTIFY_SOURCE=2 -Wpointer-arith -Wstrict-prototypes -fstack-protector -Wstack-protector -Wextra -Wbad-function-cast -Wcast-align -Wcast-qual -Wdisabled-optimization -Wendif-labels -Wfloat-equal -Wformat-nonliteral -Winline -Wmissing-declarations -Wmissing-prototypes -Wnested-externs -Wpointer-arith -Wundef -Wformat-security -ftree-vectorize -fdiagnostics-color=auto -Aeval:scriptdir=/home/njh/perl5/perlbrew/perls/perl-5.18.4/bin'
    hint=recommended, useposix=true, d_sigaction=define
    useithreads=define, usemultiplicity=define
    useperlio=define, d_sfio=undef, uselargefiles=define, usesocks=undef
    use64bitint=define, use64bitall=define, uselongdouble=undef
    usemymalloc=n, bincompat5005=undef
  Compiler:
    cc='cc', ccflags ='-D_REENTRANT -D_GNU_SOURCE -O2 -W -Wformat=2 -Wswitch -Wshadow -Wwrite-strings -Wuninitialized -Wall -pipe -mtune=native -march=native -fomit-frame-pointer -msse2 -msse -mmmx -mfpmath=sse -pedantic -D_FORTIFY_SOURCE=2 -Wpointer-arith -Wstrict-prototypes -fstack-protector -Wstack-protector -Wextra -Wbad-function-cast -Wcast-align -Wcast-qual -Wdisabled-optimization -Wendif-labels -Wfloat-equal -Wformat-nonliteral -Winline -Wmissing-declarations -Wmissing-prototypes -Wnested-externs -Wpointer-arith -Wundef -Wformat-security -ftree-vectorize -fdiagnostics-color=auto -fno-strict-aliasing -I/usr/local/include -D_LARGEFILE_SOURCE -D_FILE_OFFSET_BITS=64',
    optimize='-O2',
    cppflags='-D_REENTRANT -D_GNU_SOURCE -O2 -W -Wformat=2 -Wswitch -Wshadow -Wwrite-strings -Wuninitialized -Wall -pipe -mtune=native -march=native -fomit-frame-pointer -msse2 -msse -mmmx -mfpmath=sse -pedantic -D_FORTIFY_SOURCE=2 -Wpointer-arith -Wstrict-prototypes -fstack-protector -Wstack-protector -Wextra -Wbad-function-cast -Wcast-align -Wcast-qual -Wdisabled-optimization -Wendif-labels -Wfloat-equal -Wformat-nonliteral -Winline -Wmissing-declarations -Wmissing-prototypes -Wnested-externs -Wpointer-arith -Wundef -Wformat-security -ftree-vectorize -fdiagnostics-color=auto -fno-strict-aliasing -I/usr/local/include'
    ccversion='', gccversion='4.9.2', gccosandvers=''
    intsize=4, longsize=8, ptrsize=8, doublesize=8, byteorder=12345678
    d_longlong=define, longlongsize=8, d_longdbl=define, longdblsize=16
    ivtype='long', ivsize=8, nvtype='double', nvsize=8, Off_t='off_t', lseeksize=8
    alignbytes=8, prototype=define
  Linker and Libraries:
    ld='cc', ldflags =' -fstack-protector -L/usr/local/lib'
    libpth=/usr/local/lib /lib/x86_64-linux-gnu /lib/../lib /usr/lib/x86_64-linux-gnu /usr/lib/../lib /lib /usr/lib
    libs=-lnsl -lgdbm -ldb -ldl -lm -lcrypt -lutil -lpthread -lc -lgdbm_compat
    perllibs=-lnsl -ldl -lm -lcrypt -lutil -lpthread -lc
    libc=libc-2.19.so, so=so, useshrplib=false, libperl=libperl.a
    gnulibc_version='2.19'
  Dynamic Linking:
    dlsrc=dl_dlopen.xs, dlext=so, d_dlsymun=undef, ccdlflags='-Wl,-E'
    cccdlflags='-fPIC', lddlflags='-shared -O2 -L/usr/local/lib -fstack-protector'


Characteristics of this binary (from libperl): 
  Compile-time options: HAS_TIMES MULTIPLICITY PERLIO_LAYERS
                        PERL_DONT_CREATE_GVSV
                        PERL_HASH_FUNC_ONE_AT_A_TIME_HARD
                        PERL_IMPLICIT_CONTEXT PERL_MALLOC_WRAP
                        PERL_PRESERVE_IVUV PERL_SAWAMPERSAND PERL_USE_DEVEL
                        USE_64_BIT_ALL USE_64_BIT_INT USE_ITHREADS
                        USE_LARGE_FILES USE_LOCALE USE_LOCALE_COLLATE
                        USE_LOCALE_CTYPE USE_LOCALE_NUMERIC USE_PERLIO
                        USE_PERL_ATOF USE_REENTRANT_API
  Built under linux
  Compiled at Nov 12 2014 14:20:50
  %ENV:
    PERL5LIB="/home/njh/.cpan/build/XML-XPath-1.42-1/blib/arch:/home/njh/.cpan/build/XML-XPath-1.42-1/blib/lib:/home/njh/.cpan/build/SOAP-WSDL-3.003-13/blib/arch:/home/njh/.cpan/build/SOAP-WSDL-3.003-13/blib/lib:/home/njh/.cpan/build/Template-Toolkit-2.27-12/blib/arch:/home/njh/.cpan/build/Template-Toolkit-2.27-12/blib/lib:/home/njh/.cpan/build/Math-Random-MT-1.17-13/blib/arch:/home/njh/.cpan/build/Math-Random-MT-1.17-13/blib/lib:/home/njh/.cpan/build/HTTP-Server-Simple-0.52-12/blib/arch:/home/njh/.cpan/build/HTTP-Server-Simple-0.52-12/blib/lib:/home/njh/.cpan/build/Data-Uniqid-0.12-13/blib/arch:/home/njh/.cpan/build/Data-Uniqid-0.12-13/blib/lib:/home/njh/.cpan/build/Crypt-OpenSSL-RSA-0.30-13/blib/arch:/home/njh/.cpan/build/Crypt-OpenSSL-RSA-0.30-13/blib/lib:/home/njh/.cpan/build/Crypt-OpenSSL-Random-0.15-11/blib/arch:/home/njh/.cpan/build/Crypt-OpenSSL-Random-0.15-11/blib/lib:/home/njh/.cpan/build/Crypt-OpenSSL-Guess-0.11-11/blib/arch:/home/njh/.cpan/build/Crypt-OpenSSL-Guess-0.11-11/blib/lib:/home/njh/.cpan/build/Config-Properties-1.80-13/blib/arch:/home/njh/.cpan/build/Config-Properties-1.80-13/blib/lib:/home/njh/.cpan/build/Class-Std-Fast-v0.0.8-13/blib/arch:/home/njh/.cpan/build/Class-Std-Fast-v0.0.8-13/blib/lib"
    PERL5OPT=""
    PERL5_CPANPLUS_IS_RUNNING="28058"
    PERL5_CPAN_IS_RUNNING="28058"
    PERL5_MINISMOKEBOX="0.68"
    PERLBREW_LIB=""
    PERLBREW_MANPATH="/home/njh/perl5/perlbrew/perls/perl-5.18.4/man"
    PERLBREW_PATH="/home/njh/perl5/perlbrew/bin:/home/njh/perl5/perlbrew/perls/perl-5.18.4/bin"
    PERLBREW_PERL="perl-5.18.4"
    PERLBREW_ROOT="/home/njh/perl5/perlbrew"
    PERLBREW_SHELLRC_VERSION="0.82"
    PERLBREW_VERSION="0.82"
    PERL_EXTUTILS_AUTOINSTALL="--defaultdeps"
    PERL_LOCAL_LIB_ROOT=""
    PERL_MM_USE_DEFAULT="1"
  @INC:
    /home/njh/.cpan/build/XML-XPath-1.42-1/blib/arch
    /home/njh/.cpan/build/XML-XPath-1.42-1/blib/lib
    /home/njh/.cpan/build/SOAP-WSDL-3.003-13/blib/arch
    /home/njh/.cpan/build/SOAP-WSDL-3.003-13/blib/lib
    /home/njh/.cpan/build/Template-Toolkit-2.27-12/blib/arch
    /home/njh/.cpan/build/Template-Toolkit-2.27-12/blib/lib
    /home/njh/.cpan/build/Math-Random-MT-1.17-13/blib/arch
    /home/njh/.cpan/build/Math-Random-MT-1.17-13/blib/lib
    /home/njh/.cpan/build/HTTP-Server-Simple-0.52-12/blib/arch
    /home/njh/.cpan/build/HTTP-Server-Simple-0.52-12/blib/lib
    /home/njh/.cpan/build/Data-Uniqid-0.12-13/blib/arch
    /home/njh/.cpan/build/Data-Uniqid-0.12-13/blib/lib
    /home/njh/.cpan/build/Crypt-OpenSSL-RSA-0.30-13/blib/arch
    /home/njh/.cpan/build/Crypt-OpenSSL-RSA-0.30-13/blib/lib
    /home/njh/.cpan/build/Crypt-OpenSSL-Random-0.15-11/blib/arch
    /home/njh/.cpan/build/Crypt-OpenSSL-Random-0.15-11/blib/lib
    /home/njh/.cpan/build/Crypt-OpenSSL-Guess-0.11-11/blib/arch
    /home/njh/.cpan/build/Crypt-OpenSSL-Guess-0.11-11/blib/lib
    /home/njh/.cpan/build/Config-Properties-1.80-13/blib/arch
    /home/njh/.cpan/build/Config-Properties-1.80-13/blib/lib
    /home/njh/.cpan/build/Class-Std-Fast-v0.0.8-13/blib/arch
    /home/njh/.cpan/build/Class-Std-Fast-v0.0.8-13/blib/lib
    /home/njh/perl5/perlbrew/perls/perl-5.18.4/lib/site_perl/5.18.4/x86_64-linux-thread-multi
    /home/njh/perl5/perlbrew/perls/perl-5.18.4/lib/site_perl/5.18.4
    /home/njh/perl5/perlbrew/perls/perl-5.18.4/lib/5.18.4/x86_64-linux-thread-multi
    /home/njh/perl5/perlbrew/perls/perl-5.18.4/lib/5.18.4
    .