Report for OX-View-TT-0.01

Back
From: metabase:user:e83797c6-6da0-1014-84df-33ea7e0f01d3
Subject: PASS OX-View-TT-0.01 v5.16.3 GNU/Linux
Date: 2013-09-08T16:59:54Z

This distribution has been tested as part of the CPAN Testers
project, supporting the Perl programming language.  See
http://wiki.cpantesters.org/ for more information or email
questions to cpan-testers-discuss@perl.org


--
Dear Jesse Luehrs,

This is a computer-generated report for OX-View-TT-0.01
on perl 5.16.3, created by CPAN-Reporter-1.2010.

Thank you for uploading your work to CPAN.  Congratulations!
All tests were successful.

Sections of this report:

    * Tester comments
    * Program output
    * Prerequisites
    * Environment and other context

------------------------------
TESTER COMMENTS
------------------------------

Additional comments from tester:

this report is from an automated smoke testing program
and was not reviewed by a human for accuracy

------------------------------
PROGRAM OUTPUT
------------------------------

Output from '/usr/bin/make test':

PERL_DL_NONLAZY=1 /root/perl5/perlbrew/perls/perl-5.16.3/bin/perl "-MExtUtils::Command::MM" "-e" "test_harness(0, 'blib/lib', 'blib/arch')" t/*.t
Class::MOP::load_class is deprecated at /root/perl5/perlbrew/perls/perl-5.16.3/lib/site_perl/5.16.3/i686-linux/Class/MOP.pm line 76.
	Class::MOP::load_class("MooseX::Role::Parameterized::Meta::Role::Parameterized") called at /root/perl5/perlbrew/perls/perl-5.16.3/lib/site_perl/5.16.3/MooseX/Role/Parameterized/Meta/Role/Parameterizable.pm line 60
	MooseX::Role::Parameterized::Meta::Role::Parameterizable::generate_role(MooseX::Role::Parameterized::Meta::Role::Parameterizable=HASH(0xa232b10), "consumer", Moose::Meta::Role=HASH(0xa1acec8), "parameters", HASH(0xa1f7cf8)) called at /root/perl5/perlbrew/perls/perl-5.16.3/lib/site_perl/5.16.3/MooseX/Role/Parameterized/Meta/Role/Parameterizable.pm line 104
	MooseX::Role::Parameterized::Meta::Role::Parameterizable::apply(MooseX::Role::Parameterized::Meta::Role::Parameterizable=HASH(0xa232b10), Moose::Meta::Role=HASH(0xa1acec8)) called at /root/perl5/perlbrew/perls/perl-5.16.3/lib/site_perl/5.16.3/i686-linux/Moose/Util.pm line 160
	Moose::Util::_apply_all_roles(Moose::Meta::Role=HASH(0xa1acec8), undef, "MooseX::Getopt::GLD") called at /root/perl5/perlbrew/perls/perl-5.16.3/lib/site_perl/5.16.3/i686-linux/Moose/Util.pm line 99
	Moose::Util::apply_all_roles(Moose::Meta::Role=HASH(0xa1acec8), "MooseX::Getopt::GLD") called at /root/perl5/perlbrew/perls/perl-5.16.3/lib/site_perl/5.16.3/i686-linux/Moose/Role.pm line 30
	Moose::Role::with(Moose::Meta::Role=HASH(0xa1acec8), "MooseX::Getopt::GLD") called at /root/perl5/perlbrew/perls/perl-5.16.3/lib/site_perl/5.16.3/i686-linux/Moose/Exporter.pm line 409
	Moose::Role::with("MooseX::Getopt::GLD") called at /root/perl5/perlbrew/perls/perl-5.16.3/lib/site_perl/5.16.3/MooseX/Getopt.pm line 14
	require MooseX/Getopt.pm called at /root/perl5/perlbrew/perls/perl-5.16.3/lib/site_perl/5.16.3/MooseX/Types/Path/Class.pm line 35
	eval {...} called at /root/perl5/perlbrew/perls/perl-5.16.3/lib/site_perl/5.16.3/MooseX/Types/Path/Class.pm line 35
	require MooseX/Types/Path/Class.pm called at lib/OX/View/TT.pm line 11
	OX::View::TT::BEGIN() called at /root/perl5/perlbrew/perls/perl-5.16.3/lib/site_perl/5.16.3/MooseX/Getopt.pm line 0
	eval {...} called at /root/perl5/perlbrew/perls/perl-5.16.3/lib/site_perl/5.16.3/MooseX/Getopt.pm line 0
	require OX/View/TT.pm called at -e line 1
t/00-compile.t .. ok
Passing a list of values to enum is deprecated. Enum values should be wrapped in an arrayref. at /root/perl5/perlbrew/perls/perl-5.16.3/lib/site_perl/5.16.3/i686-linux/Moose/Util/TypeConstraints.pm line 452.
	Moose::Util::TypeConstraints::enum("Bread::Board::Service::LifeCycles", "Null", "Singleton") called at /root/perl5/perlbrew/perls/perl-5.16.3/lib/site_perl/5.16.3/Bread/Board/Types.pm line 15
	require Bread/Board/Types.pm called at /root/perl5/perlbrew/perls/perl-5.16.3/lib/site_perl/5.16.3/Bread/Board.pm line 14
	Bread::Board::BEGIN() called at /root/perl5/perlbrew/perls/perl-5.16.3/lib/site_perl/5.16.3/Bread/Board/Types.pm line 0
	eval {...} called at /root/perl5/perlbrew/perls/perl-5.16.3/lib/site_perl/5.16.3/Bread/Board/Types.pm line 0
	require Bread/Board.pm called at /root/perl5/perlbrew/perls/perl-5.16.3/lib/site_perl/5.16.3/Bread/Board/Declare.pm line 11
	Bread::Board::Declare::BEGIN() called at /root/perl5/perlbrew/perls/perl-5.16.3/lib/site_perl/5.16.3/Bread/Board/Types.pm line 0
	eval {...} called at /root/perl5/perlbrew/perls/perl-5.16.3/lib/site_perl/5.16.3/Bread/Board/Types.pm line 0
	require Bread/Board/Declare.pm called at /root/perl5/perlbrew/perls/perl-5.16.3/lib/site_perl/5.16.3/OX.pm line 12
	OX::BEGIN() called at /root/perl5/perlbrew/perls/perl-5.16.3/lib/site_perl/5.16.3/Bread/Board/Types.pm line 0
	eval {...} called at /root/perl5/perlbrew/perls/perl-5.16.3/lib/site_perl/5.16.3/Bread/Board/Types.pm line 0
	require OX.pm called at t/basic.t line 35
	Foo::BEGIN() called at /root/perl5/perlbrew/perls/perl-5.16.3/lib/site_perl/5.16.3/Bread/Board/Types.pm line 0
	eval {...} called at /root/perl5/perlbrew/perls/perl-5.16.3/lib/site_perl/5.16.3/Bread/Board/Types.pm line 0
Class::MOP::load_class is deprecated at /root/perl5/perlbrew/perls/perl-5.16.3/lib/site_perl/5.16.3/i686-linux/Class/MOP.pm line 76.
	Class::MOP::load_class("MooseX::Role::Parameterized::Meta::Role::Parameterized") called at /root/perl5/perlbrew/perls/perl-5.16.3/lib/site_perl/5.16.3/MooseX/Role/Parameterized/Meta/Role/Parameterizable.pm line 60
	MooseX::Role::Parameterized::Meta::Role::Parameterizable::generate_role(MooseX::Role::Parameterized::Meta::Role::Parameterizable=HASH(0x9921000), "consumer", Moose::Meta::Role=HASH(0x98cc600), "parameters", HASH(0x98fcbd8)) called at /root/perl5/perlbrew/perls/perl-5.16.3/lib/site_perl/5.16.3/MooseX/Role/Parameterized/Meta/Role/Parameterizable.pm line 104
	MooseX::Role::Parameterized::Meta::Role::Parameterizable::apply(MooseX::Role::Parameterized::Meta::Role::Parameterizable=HASH(0x9921000), Moose::Meta::Role=HASH(0x98cc600)) called at /root/perl5/perlbrew/perls/perl-5.16.3/lib/site_perl/5.16.3/i686-linux/Moose/Util.pm line 160
	Moose::Util::_apply_all_roles(Moose::Meta::Role=HASH(0x98cc600), undef, "MooseX::Getopt::GLD") called at /root/perl5/perlbrew/perls/perl-5.16.3/lib/site_perl/5.16.3/i686-linux/Moose/Util.pm line 99
	Moose::Util::apply_all_roles(Moose::Meta::Role=HASH(0x98cc600), "MooseX::Getopt::GLD") called at /root/perl5/perlbrew/perls/perl-5.16.3/lib/site_perl/5.16.3/i686-linux/Moose/Role.pm line 30
	Moose::Role::with(Moose::Meta::Role=HASH(0x98cc600), "MooseX::Getopt::GLD") called at /root/perl5/perlbrew/perls/perl-5.16.3/lib/site_perl/5.16.3/i686-linux/Moose/Exporter.pm line 409
	Moose::Role::with("MooseX::Getopt::GLD") called at /root/perl5/perlbrew/perls/perl-5.16.3/lib/site_perl/5.16.3/MooseX/Getopt.pm line 14
	require MooseX/Getopt.pm called at /root/perl5/perlbrew/perls/perl-5.16.3/lib/site_perl/5.16.3/MooseX/Types/Path/Class.pm line 35
	eval {...} called at /root/perl5/perlbrew/perls/perl-5.16.3/lib/site_perl/5.16.3/MooseX/Types/Path/Class.pm line 35
	require MooseX/Types/Path/Class.pm called at /root/.cpan/build/OX-View-TT-0.01-5pucio/blib/lib/OX/View/TT.pm line 11
	OX::View::TT::BEGIN() called at /root/perl5/perlbrew/perls/perl-5.16.3/lib/site_perl/5.16.3/MooseX/Getopt.pm line 0
	eval {...} called at /root/perl5/perlbrew/perls/perl-5.16.3/lib/site_perl/5.16.3/MooseX/Getopt.pm line 0
	require OX/View/TT.pm called at /root/perl5/perlbrew/perls/perl-5.16.3/lib/site_perl/5.16.3/Module/Runtime.pm line 317
	Module::Runtime::require_module("OX::View::TT") called at /root/perl5/perlbrew/perls/perl-5.16.3/lib/site_perl/5.16.3/Class/Load.pm line 177
	Class::Load::try {...} () called at /root/perl5/perlbrew/perls/perl-5.16.3/lib/site_perl/5.16.3/Try/Tiny.pm line 78
	eval {...} called at /root/perl5/perlbrew/perls/perl-5.16.3/lib/site_perl/5.16.3/Try/Tiny.pm line 74
	Try::Tiny::try(CODE(0x986f560), Try::Tiny::Catch=REF(0x986fa30)) called at /root/perl5/perlbrew/perls/perl-5.16.3/lib/site_perl/5.16.3/Class/Load.pm line 183
	Class::Load::try_load_class("OX::View::TT", undef) called at /root/perl5/perlbrew/perls/perl-5.16.3/lib/site_perl/5.16.3/Class/Load.pm line 38
	Class::Load::load_class("OX::View::TT") called at /root/perl5/perlbrew/perls/perl-5.16.3/lib/site_perl/5.16.3/Bread/Board/Declare/Meta/Role/Attribute/Service.pm line 119
	Class::MOP::Class:::after(Moose::Meta::Class::__ANON__::SERIAL::24=HASH(0x9877060), Moose::Meta::Class::__ANON__::SERIAL::13=HASH(0x97c5078)) called at /root/perl5/perlbrew/perls/perl-5.16.3/lib/site_perl/5.16.3/i686-linux/Class/MOP/Method/Wrapped.pm line 63
	Class::MOP::Method::Wrapped::__ANON__(Moose::Meta::Class::__ANON__::SERIAL::24=HASH(0x9877060), Moose::Meta::Class::__ANON__::SERIAL::13=HASH(0x97c5078)) called at /root/perl5/perlbrew/perls/perl-5.16.3/lib/site_perl/5.16.3/i686-linux/Class/MOP/Method/Wrapped.pm line 91
	Moose::Meta::Class::__ANON__::SERIAL::24::attach_to_class(Moose::Meta::Class::__ANON__::SERIAL::24=HASH(0x9877060), Moose::Meta::Class::__ANON__::SERIAL::13=HASH(0x97c5078)) called at /root/perl5/perlbrew/perls/perl-5.16.3/lib/site_perl/5.16.3/i686-linux/Class/MOP/Class.pm line 880
	Class::MOP::Class::_attach_attribute(Moose::Meta::Class::__ANON__::SERIAL::13=HASH(0x97c5078), Moose::Meta::Class::__ANON__::SERIAL::24=HASH(0x9877060)) called at /root/perl5/perlbrew/perls/perl-5.16.3/lib/site_perl/5.16.3/i686-linux/Class/MOP/Mixin/HasAttributes.pm line 27
	Class::MOP::Mixin::HasAttributes::add_attribute(Moose::Meta::Class::__ANON__::SERIAL::13=HASH(0x97c5078), Moose::Meta::Class::__ANON__::SERIAL::24=HASH(0x9877060)) called at /root/perl5/perlbrew/perls/perl-5.16.3/lib/site_perl/5.16.3/i686-linux/Moose/Meta/Class.pm line 579
	Moose::Meta::Class::add_attribute(Moose::Meta::Class::__ANON__::SERIAL::13=HASH(0x97c5078), "view", "definition_context", HASH(0x88fdd58), "is", "ro", "isa", "OX::View::TT", "dependencies", ...) called at /root/perl5/perlbrew/perls/perl-5.16.3/lib/site_perl/5.16.3/i686-linux/Moose.pm line 79
	Moose::has(Moose::Meta::Class::__ANON__::SERIAL::13=HASH(0x97c5078), "view", "is", "ro", "isa", "OX::View::TT", "dependencies", ARRAY(0x88fdc58)) called at /root/perl5/perlbrew/perls/perl-5.16.3/lib/site_perl/5.16.3/i686-linux/Moose/Exporter.pm line 409
	Moose::has("view", "is", "ro", "isa", "OX::View::TT", "dependencies", ARRAY(0x88fdc58)) called at t/basic.t line 45
Class::MOP::load_class is deprecated at /root/perl5/perlbrew/perls/perl-5.16.3/lib/site_perl/5.16.3/i686-linux/Class/MOP.pm line 76.
	Class::MOP::load_class("OX::View::TT") called at /root/perl5/perlbrew/perls/perl-5.16.3/lib/site_perl/5.16.3/Bread/Board/Service/WithClass.pm line 22
	Class::MOP::Class:::before(Bread::Board::Declare::ConstructorInjection=HASH(0x9a95d88)) called at /root/perl5/perlbrew/perls/perl-5.16.3/lib/site_perl/5.16.3/i686-linux/Class/MOP/Method/Wrapped.pm line 33
	Class::MOP::Method::Wrapped::__ANON__(Bread::Board::Declare::ConstructorInjection=HASH(0x9a95d88)) called at /root/perl5/perlbrew/perls/perl-5.16.3/lib/site_perl/5.16.3/i686-linux/Class/MOP/Method/Wrapped.pm line 91
	Bread::Board::ConstructorInjection::get(Bread::Board::Declare::ConstructorInjection=HASH(0x9a95d88)) called at /root/perl5/perlbrew/perls/perl-5.16.3/lib/site_perl/5.16.3/Bread/Board/Declare/Role/Service.pm line 31
	Class::MOP::Class:::around(CODE(0x93a99a0), Bread::Board::Declare::ConstructorInjection=HASH(0x9a95d88)) called at /root/perl5/perlbrew/perls/perl-5.16.3/lib/site_perl/5.16.3/i686-linux/Class/MOP/Method/Wrapped.pm line 162
	Class::MOP::Method::Wrapped::__ANON__(Bread::Board::Declare::ConstructorInjection=HASH(0x9a95d88)) called at /root/perl5/perlbrew/perls/perl-5.16.3/lib/site_perl/5.16.3/i686-linux/Class/MOP/Method/Wrapped.pm line 91
	Bread::Board::Declare::ConstructorInjection::get(Bread::Board::Declare::ConstructorInjection=HASH(0x9a95d88)) called at reader Foo::view (defined at t/basic.t line 45) line 11
	Foo::view(Foo=HASH(0x9a8dd48)) called at t/basic.t line 66
t/basic.t ....... ok
Passing a list of values to enum is deprecated. Enum values should be wrapped in an arrayref. at /root/perl5/perlbrew/perls/perl-5.16.3/lib/site_perl/5.16.3/i686-linux/Moose/Util/TypeConstraints.pm line 452.
	Moose::Util::TypeConstraints::enum("Bread::Board::Service::LifeCycles", "Null", "Singleton") called at /root/perl5/perlbrew/perls/perl-5.16.3/lib/site_perl/5.16.3/Bread/Board/Types.pm line 15
	require Bread/Board/Types.pm called at /root/perl5/perlbrew/perls/perl-5.16.3/lib/site_perl/5.16.3/Bread/Board.pm line 14
	Bread::Board::BEGIN() called at /root/perl5/perlbrew/perls/perl-5.16.3/lib/site_perl/5.16.3/Bread/Board/Types.pm line 0
	eval {...} called at /root/perl5/perlbrew/perls/perl-5.16.3/lib/site_perl/5.16.3/Bread/Board/Types.pm line 0
	require Bread/Board.pm called at /root/perl5/perlbrew/perls/perl-5.16.3/lib/site_perl/5.16.3/Bread/Board/Declare.pm line 11
	Bread::Board::Declare::BEGIN() called at /root/perl5/perlbrew/perls/perl-5.16.3/lib/site_perl/5.16.3/Bread/Board/Types.pm line 0
	eval {...} called at /root/perl5/perlbrew/perls/perl-5.16.3/lib/site_perl/5.16.3/Bread/Board/Types.pm line 0
	require Bread/Board/Declare.pm called at /root/perl5/perlbrew/perls/perl-5.16.3/lib/site_perl/5.16.3/OX.pm line 12
	OX::BEGIN() called at /root/perl5/perlbrew/perls/perl-5.16.3/lib/site_perl/5.16.3/Bread/Board/Types.pm line 0
	eval {...} called at /root/perl5/perlbrew/perls/perl-5.16.3/lib/site_perl/5.16.3/Bread/Board/Types.pm line 0
	require OX.pm called at t/mapping.t line 31
	Foo::BEGIN() called at /root/perl5/perlbrew/perls/perl-5.16.3/lib/site_perl/5.16.3/Bread/Board/Types.pm line 0
	eval {...} called at /root/perl5/perlbrew/perls/perl-5.16.3/lib/site_perl/5.16.3/Bread/Board/Types.pm line 0
Class::MOP::load_class is deprecated at /root/perl5/perlbrew/perls/perl-5.16.3/lib/site_perl/5.16.3/i686-linux/Class/MOP.pm line 76.
	Class::MOP::load_class("MooseX::Role::Parameterized::Meta::Role::Parameterized") called at /root/perl5/perlbrew/perls/perl-5.16.3/lib/site_perl/5.16.3/MooseX/Role/Parameterized/Meta/Role/Parameterizable.pm line 60
	MooseX::Role::Parameterized::Meta::Role::Parameterizable::generate_role(MooseX::Role::Parameterized::Meta::Role::Parameterizable=HASH(0xa93d3b0), "consumer", Moose::Meta::Role=HASH(0xa8d3f38), "parameters", HASH(0xa9099f0)) called at /root/perl5/perlbrew/perls/perl-5.16.3/lib/site_perl/5.16.3/MooseX/Role/Parameterized/Meta/Role/Parameterizable.pm line 104
	MooseX::Role::Parameterized::Meta::Role::Parameterizable::apply(MooseX::Role::Parameterized::Meta::Role::Parameterizable=HASH(0xa93d3b0), Moose::Meta::Role=HASH(0xa8d3f38)) called at /root/perl5/perlbrew/perls/perl-5.16.3/lib/site_perl/5.16.3/i686-linux/Moose/Util.pm line 160
	Moose::Util::_apply_all_roles(Moose::Meta::Role=HASH(0xa8d3f38), undef, "MooseX::Getopt::GLD") called at /root/perl5/perlbrew/perls/perl-5.16.3/lib/site_perl/5.16.3/i686-linux/Moose/Util.pm line 99
	Moose::Util::apply_all_roles(Moose::Meta::Role=HASH(0xa8d3f38), "MooseX::Getopt::GLD") called at /root/perl5/perlbrew/perls/perl-5.16.3/lib/site_perl/5.16.3/i686-linux/Moose/Role.pm line 30
	Moose::Role::with(Moose::Meta::Role=HASH(0xa8d3f38), "MooseX::Getopt::GLD") called at /root/perl5/perlbrew/perls/perl-5.16.3/lib/site_perl/5.16.3/i686-linux/Moose/Exporter.pm line 409
	Moose::Role::with("MooseX::Getopt::GLD") called at /root/perl5/perlbrew/perls/perl-5.16.3/lib/site_perl/5.16.3/MooseX/Getopt.pm line 14
	require MooseX/Getopt.pm called at /root/perl5/perlbrew/perls/perl-5.16.3/lib/site_perl/5.16.3/MooseX/Types/Path/Class.pm line 35
	eval {...} called at /root/perl5/perlbrew/perls/perl-5.16.3/lib/site_perl/5.16.3/MooseX/Types/Path/Class.pm line 35
	require MooseX/Types/Path/Class.pm called at /root/.cpan/build/OX-View-TT-0.01-5pucio/blib/lib/OX/View/TT.pm line 11
	OX::View::TT::BEGIN() called at /root/perl5/perlbrew/perls/perl-5.16.3/lib/site_perl/5.16.3/MooseX/Getopt.pm line 0
	eval {...} called at /root/perl5/perlbrew/perls/perl-5.16.3/lib/site_perl/5.16.3/MooseX/Getopt.pm line 0
	require OX/View/TT.pm called at /root/perl5/perlbrew/perls/perl-5.16.3/lib/site_perl/5.16.3/Module/Runtime.pm line 317
	Module::Runtime::require_module("OX::View::TT") called at /root/perl5/perlbrew/perls/perl-5.16.3/lib/site_perl/5.16.3/Class/Load.pm line 177
	Class::Load::try {...} () called at /root/perl5/perlbrew/perls/perl-5.16.3/lib/site_perl/5.16.3/Try/Tiny.pm line 78
	eval {...} called at /root/perl5/perlbrew/perls/perl-5.16.3/lib/site_perl/5.16.3/Try/Tiny.pm line 74
	Try::Tiny::try(CODE(0xa87cac8), Try::Tiny::Catch=REF(0xa87cf98)) called at /root/perl5/perlbrew/perls/perl-5.16.3/lib/site_perl/5.16.3/Class/Load.pm line 183
	Class::Load::try_load_class("OX::View::TT", undef) called at /root/perl5/perlbrew/perls/perl-5.16.3/lib/site_perl/5.16.3/Class/Load.pm line 38
	Class::Load::load_class("OX::View::TT") called at /root/perl5/perlbrew/perls/perl-5.16.3/lib/site_perl/5.16.3/Bread/Board/Declare/Meta/Role/Attribute/Service.pm line 119
	Class::MOP::Class:::after(Moose::Meta::Class::__ANON__::SERIAL::24=HASH(0xa87d6c8), Moose::Meta::Class::__ANON__::SERIAL::13=HASH(0xa7d26c8)) called at /root/perl5/perlbrew/perls/perl-5.16.3/lib/site_perl/5.16.3/i686-linux/Class/MOP/Method/Wrapped.pm line 63
	Class::MOP::Method::Wrapped::__ANON__(Moose::Meta::Class::__ANON__::SERIAL::24=HASH(0xa87d6c8), Moose::Meta::Class::__ANON__::SERIAL::13=HASH(0xa7d26c8)) called at /root/perl5/perlbrew/perls/perl-5.16.3/lib/site_perl/5.16.3/i686-linux/Class/MOP/Method/Wrapped.pm line 91
	Moose::Meta::Class::__ANON__::SERIAL::24::attach_to_class(Moose::Meta::Class::__ANON__::SERIAL::24=HASH(0xa87d6c8), Moose::Meta::Class::__ANON__::SERIAL::13=HASH(0xa7d26c8)) called at /root/perl5/perlbrew/perls/perl-5.16.3/lib/site_perl/5.16.3/i686-linux/Class/MOP/Class.pm line 880
	Class::MOP::Class::_attach_attribute(Moose::Meta::Class::__ANON__::SERIAL::13=HASH(0xa7d26c8), Moose::Meta::Class::__ANON__::SERIAL::24=HASH(0xa87d6c8)) called at /root/perl5/perlbrew/perls/perl-5.16.3/lib/site_perl/5.16.3/i686-linux/Class/MOP/Mixin/HasAttributes.pm line 27
	Class::MOP::Mixin::HasAttributes::add_attribute(Moose::Meta::Class::__ANON__::SERIAL::13=HASH(0xa7d26c8), Moose::Meta::Class::__ANON__::SERIAL::24=HASH(0xa87d6c8)) called at /root/perl5/perlbrew/perls/perl-5.16.3/lib/site_perl/5.16.3/i686-linux/Moose/Meta/Class.pm line 579
	Moose::Meta::Class::add_attribute(Moose::Meta::Class::__ANON__::SERIAL::13=HASH(0xa7d26c8), "view", "definition_context", HASH(0x990bd58), "is", "ro", "isa", "OX::View::TT", "dependencies", ...) called at /root/perl5/perlbrew/perls/perl-5.16.3/lib/site_perl/5.16.3/i686-linux/Moose.pm line 79
	Moose::has(Moose::Meta::Class::__ANON__::SERIAL::13=HASH(0xa7d26c8), "view", "is", "ro", "isa", "OX::View::TT", "dependencies", ARRAY(0x990bc58)) called at /root/perl5/perlbrew/perls/perl-5.16.3/lib/site_perl/5.16.3/i686-linux/Moose/Exporter.pm line 409
	Moose::has("view", "is", "ro", "isa", "OX::View::TT", "dependencies", ARRAY(0x990bc58)) called at t/mapping.t line 41
Class::MOP::load_class is deprecated at /root/perl5/perlbrew/perls/perl-5.16.3/lib/site_perl/5.16.3/i686-linux/Class/MOP.pm line 76.
	Class::MOP::load_class("Path::Router") called at /root/perl5/perlbrew/perls/perl-5.16.3/lib/site_perl/5.16.3/Bread/Board/Service/WithClass.pm line 22
	Class::MOP::Class:::before(Bread::Board::BlockInjection=HASH(0xaab7398)) called at /root/perl5/perlbrew/perls/perl-5.16.3/lib/site_perl/5.16.3/i686-linux/Class/MOP/Method/Wrapped.pm line 33
	Class::MOP::Method::Wrapped::__ANON__(Bread::Board::BlockInjection=HASH(0xaab7398)) called at /root/perl5/perlbrew/perls/perl-5.16.3/lib/site_perl/5.16.3/i686-linux/Class/MOP/Method/Wrapped.pm line 91
	Bread::Board::BlockInjection::get(Bread::Board::BlockInjection=HASH(0xaab7398)) called at /root/perl5/perlbrew/perls/perl-5.16.3/lib/site_perl/5.16.3/Bread/Board/Service/WithDependencies.pm line 93
	Bread::Board::Service::WithDependencies::try {...} () called at /root/perl5/perlbrew/perls/perl-5.16.3/lib/site_perl/5.16.3/Try/Tiny.pm line 83
	eval {...} called at /root/perl5/perlbrew/perls/perl-5.16.3/lib/site_perl/5.16.3/Try/Tiny.pm line 74
	Try::Tiny::try(CODE(0xac47ce0), Try::Tiny::Finally=REF(0xac473b0), Try::Tiny::Catch=REF(0xac473a0)) called at /root/perl5/perlbrew/perls/perl-5.16.3/lib/site_perl/5.16.3/Bread/Board/Service/WithDependencies.pm line 99
	Bread::Board::Service::WithDependencies::resolve_dependencies(Bread::Board::BlockInjection=HASH(0xaab75e8)) called at /root/perl5/perlbrew/perls/perl-5.16.3/lib/site_perl/5.16.3/Bread/Board/Service/WithDependencies.pm line 41
	Class::MOP::Class:::around(CODE(0xa186708), Bread::Board::BlockInjection=HASH(0xaab75e8)) called at /root/perl5/perlbrew/perls/perl-5.16.3/lib/site_perl/5.16.3/i686-linux/Class/MOP/Method/Wrapped.pm line 162
	Class::MOP::Method::Wrapped::__ANON__(Bread::Board::BlockInjection=HASH(0xaab75e8)) called at /root/perl5/perlbrew/perls/perl-5.16.3/lib/site_perl/5.16.3/i686-linux/Class/MOP/Method/Wrapped.pm line 91
	Bread::Board::BlockInjection::init_params(Bread::Board::BlockInjection=HASH(0xaab75e8)) called at accessor Bread::Board::BlockInjection::params (defined at /root/perl5/perlbrew/perls/perl-5.16.3/lib/site_perl/5.16.3/Bread/Board/Service.pm line 20) line 10
	Bread::Board::BlockInjection::params(Bread::Board::BlockInjection=HASH(0xaab75e8)) called at /root/perl5/perlbrew/perls/perl-5.16.3/lib/site_perl/5.16.3/Bread/Board/Service/WithParameters.pm line 38
	Class::MOP::Class:::before(Bread::Board::BlockInjection=HASH(0xaab75e8)) called at /root/perl5/perlbrew/perls/perl-5.16.3/lib/site_perl/5.16.3/i686-linux/Class/MOP/Method/Wrapped.pm line 33
	Class::MOP::Method::Wrapped::__ANON__(Bread::Board::BlockInjection=HASH(0xaab75e8)) called at /root/perl5/perlbrew/perls/perl-5.16.3/lib/site_perl/5.16.3/i686-linux/Class/MOP/Method/Wrapped.pm line 91
	Bread::Board::BlockInjection::get(Bread::Board::BlockInjection=HASH(0xaab75e8)) called at /root/perl5/perlbrew/perls/perl-5.16.3/lib/site_perl/5.16.3/Bread/Board/Service/WithDependencies.pm line 93
	Bread::Board::Service::WithDependencies::try {...} () called at /root/perl5/perlbrew/perls/perl-5.16.3/lib/site_perl/5.16.3/Try/Tiny.pm line 83
	eval {...} called at /root/perl5/perlbrew/perls/perl-5.16.3/lib/site_perl/5.16.3/Try/Tiny.pm line 74
	Try::Tiny::try(CODE(0xac47230), Try::Tiny::Finally=REF(0x9c62818), Try::Tiny::Catch=REF(0xac3c060)) called at /root/perl5/perlbrew/perls/perl-5.16.3/lib/site_perl/5.16.3/Bread/Board/Service/WithDependencies.pm line 99
	Bread::Board::Service::WithDependencies::resolve_dependencies(Bread::Board::BlockInjection=HASH(0xabc5238)) called at /root/perl5/perlbrew/perls/perl-5.16.3/lib/site_perl/5.16.3/Bread/Board/Service/WithDependencies.pm line 41
	Class::MOP::Class:::around(CODE(0xa186708), Bread::Board::BlockInjection=HASH(0xabc5238)) called at /root/perl5/perlbrew/perls/perl-5.16.3/lib/site_perl/5.16.3/i686-linux/Class/MOP/Method/Wrapped.pm line 162
	Class::MOP::Method::Wrapped::__ANON__(Bread::Board::BlockInjection=HASH(0xabc5238)) called at /root/perl5/perlbrew/perls/perl-5.16.3/lib/site_perl/5.16.3/i686-linux/Class/MOP/Method/Wrapped.pm line 91
	Bread::Board::BlockInjection::init_params(Bread::Board::BlockInjection=HASH(0xabc5238)) called at accessor Bread::Board::BlockInjection::params (defined at /root/perl5/perlbrew/perls/perl-5.16.3/lib/site_perl/5.16.3/Bread/Board/Service.pm line 20) line 10
	Bread::Board::BlockInjection::params(Bread::Board::BlockInjection=HASH(0xabc5238)) called at /root/perl5/perlbrew/perls/perl-5.16.3/lib/site_perl/5.16.3/Bread/Board/Service/WithParameters.pm line 38
	Class::MOP::Class:::before(Bread::Board::BlockInjection=HASH(0xabc5238)) called at /root/perl5/perlbrew/perls/perl-5.16.3/lib/site_perl/5.16.3/i686-linux/Class/MOP/Method/Wrapped.pm line 33
	Class::MOP::Method::Wrapped::__ANON__(Bread::Board::BlockInjection=HASH(0xabc5238)) called at /root/perl5/perlbrew/perls/perl-5.16.3/lib/site_perl/5.16.3/i686-linux/Class/MOP/Method/Wrapped.pm line 91
	Bread::Board::BlockInjection::get(Bread::Board::BlockInjection=HASH(0xabc5238)) called at /root/perl5/perlbrew/perls/perl-5.16.3/lib/site_perl/5.16.3/Bread/Board/Container.pm line 161
	Bread::Board::Container::resolve(undef, "service", "App") called at /root/perl5/perlbrew/perls/perl-5.16.3/lib/site_perl/5.16.3/OX/Application.pm line 114
	OX::Application::to_app(Foo=HASH(0xa885bf0)) called at /root/perl5/perlbrew/perls/perl-5.16.3/lib/site_perl/5.16.3/OX/Application/Role/Sugar.pm line 98
	Class::MOP::Class:::around(CODE(0xa6401b8), Foo=HASH(0xa885bf0)) called at /root/perl5/perlbrew/perls/perl-5.16.3/lib/site_perl/5.16.3/i686-linux/Class/MOP/Method/Wrapped.pm line 162
	Class::MOP::Method::Wrapped::__ANON__(Foo=HASH(0xa885bf0)) called at /root/perl5/perlbrew/perls/perl-5.16.3/lib/site_perl/5.16.3/i686-linux/Class/MOP/Method/Wrapped.pm line 91
	Moose::Meta::Class::__ANON__::SERIAL::21::to_app(Foo=HASH(0xa885bf0)) called at t/mapping.t line 70
t/mapping.t ..... ok
Passing a list of values to enum is deprecated. Enum values should be wrapped in an arrayref. at /root/perl5/perlbrew/perls/perl-5.16.3/lib/site_perl/5.16.3/i686-linux/Moose/Util/TypeConstraints.pm line 452.
	Moose::Util::TypeConstraints::enum("Bread::Board::Service::LifeCycles", "Null", "Singleton") called at /root/perl5/perlbrew/perls/perl-5.16.3/lib/site_perl/5.16.3/Bread/Board/Types.pm line 15
	require Bread/Board/Types.pm called at /root/perl5/perlbrew/perls/perl-5.16.3/lib/site_perl/5.16.3/Bread/Board.pm line 14
	Bread::Board::BEGIN() called at /root/perl5/perlbrew/perls/perl-5.16.3/lib/site_perl/5.16.3/Bread/Board/Types.pm line 0
	eval {...} called at /root/perl5/perlbrew/perls/perl-5.16.3/lib/site_perl/5.16.3/Bread/Board/Types.pm line 0
	require Bread/Board.pm called at /root/perl5/perlbrew/perls/perl-5.16.3/lib/site_perl/5.16.3/Bread/Board/Declare.pm line 11
	Bread::Board::Declare::BEGIN() called at /root/perl5/perlbrew/perls/perl-5.16.3/lib/site_perl/5.16.3/Bread/Board/Types.pm line 0
	eval {...} called at /root/perl5/perlbrew/perls/perl-5.16.3/lib/site_perl/5.16.3/Bread/Board/Types.pm line 0
	require Bread/Board/Declare.pm called at /root/perl5/perlbrew/perls/perl-5.16.3/lib/site_perl/5.16.3/OX.pm line 12
	OX::BEGIN() called at /root/perl5/perlbrew/perls/perl-5.16.3/lib/site_perl/5.16.3/Bread/Board/Types.pm line 0
	eval {...} called at /root/perl5/perlbrew/perls/perl-5.16.3/lib/site_perl/5.16.3/Bread/Board/Types.pm line 0
	require OX.pm called at t/route.t line 13
	Foo::BEGIN() called at /root/perl5/perlbrew/perls/perl-5.16.3/lib/site_perl/5.16.3/Bread/Board/Types.pm line 0
	eval {...} called at /root/perl5/perlbrew/perls/perl-5.16.3/lib/site_perl/5.16.3/Bread/Board/Types.pm line 0
Class::MOP::load_class is deprecated at /root/perl5/perlbrew/perls/perl-5.16.3/lib/site_perl/5.16.3/i686-linux/Class/MOP.pm line 76.
	Class::MOP::load_class("MooseX::Role::Parameterized::Meta::Role::Parameterized") called at /root/perl5/perlbrew/perls/perl-5.16.3/lib/site_perl/5.16.3/MooseX/Role/Parameterized/Meta/Role/Parameterizable.pm line 60
	MooseX::Role::Parameterized::Meta::Role::Parameterizable::generate_role(MooseX::Role::Parameterized::Meta::Role::Parameterizable=HASH(0xa2c6030), "consumer", Moose::Meta::Role=HASH(0xa26da20), "parameters", HASH(0xa2a2ca0)) called at /root/perl5/perlbrew/perls/perl-5.16.3/lib/site_perl/5.16.3/MooseX/Role/Parameterized/Meta/Role/Parameterizable.pm line 104
	MooseX::Role::Parameterized::Meta::Role::Parameterizable::apply(MooseX::Role::Parameterized::Meta::Role::Parameterizable=HASH(0xa2c6030), Moose::Meta::Role=HASH(0xa26da20)) called at /root/perl5/perlbrew/perls/perl-5.16.3/lib/site_perl/5.16.3/i686-linux/Moose/Util.pm line 160
	Moose::Util::_apply_all_roles(Moose::Meta::Role=HASH(0xa26da20), undef, "MooseX::Getopt::GLD") called at /root/perl5/perlbrew/perls/perl-5.16.3/lib/site_perl/5.16.3/i686-linux/Moose/Util.pm line 99
	Moose::Util::apply_all_roles(Moose::Meta::Role=HASH(0xa26da20), "MooseX::Getopt::GLD") called at /root/perl5/perlbrew/perls/perl-5.16.3/lib/site_perl/5.16.3/i686-linux/Moose/Role.pm line 30
	Moose::Role::with(Moose::Meta::Role=HASH(0xa26da20), "MooseX::Getopt::GLD") called at /root/perl5/perlbrew/perls/perl-5.16.3/lib/site_perl/5.16.3/i686-linux/Moose/Exporter.pm line 409
	Moose::Role::with("MooseX::Getopt::GLD") called at /root/perl5/perlbrew/perls/perl-5.16.3/lib/site_perl/5.16.3/MooseX/Getopt.pm line 14
	require MooseX/Getopt.pm called at /root/perl5/perlbrew/perls/perl-5.16.3/lib/site_perl/5.16.3/MooseX/Types/Path/Class.pm line 35
	eval {...} called at /root/perl5/perlbrew/perls/perl-5.16.3/lib/site_perl/5.16.3/MooseX/Types/Path/Class.pm line 35
	require MooseX/Types/Path/Class.pm called at /root/.cpan/build/OX-View-TT-0.01-5pucio/blib/lib/OX/View/TT.pm line 11
	OX::View::TT::BEGIN() called at /root/perl5/perlbrew/perls/perl-5.16.3/lib/site_perl/5.16.3/MooseX/Getopt.pm line 0
	eval {...} called at /root/perl5/perlbrew/perls/perl-5.16.3/lib/site_perl/5.16.3/MooseX/Getopt.pm line 0
	require OX/View/TT.pm called at /root/perl5/perlbrew/perls/perl-5.16.3/lib/site_perl/5.16.3/Module/Runtime.pm line 317
	Module::Runtime::require_module("OX::View::TT") called at /root/perl5/perlbrew/perls/perl-5.16.3/lib/site_perl/5.16.3/Class/Load.pm line 177
	Class::Load::try {...} () called at /root/perl5/perlbrew/perls/perl-5.16.3/lib/site_perl/5.16.3/Try/Tiny.pm line 78
	eval {...} called at /root/perl5/perlbrew/perls/perl-5.16.3/lib/site_perl/5.16.3/Try/Tiny.pm line 74
	Try::Tiny::try(CODE(0xa213a70), Try::Tiny::Catch=REF(0xa213f40)) called at /root/perl5/perlbrew/perls/perl-5.16.3/lib/site_perl/5.16.3/Class/Load.pm line 183
	Class::Load::try_load_class("OX::View::TT", undef) called at /root/perl5/perlbrew/perls/perl-5.16.3/lib/site_perl/5.16.3/Class/Load.pm line 38
	Class::Load::load_class("OX::View::TT") called at /root/perl5/perlbrew/perls/perl-5.16.3/lib/site_perl/5.16.3/Bread/Board/Declare/Meta/Role/Attribute/Service.pm line 119
	Class::MOP::Class:::after(Moose::Meta::Class::__ANON__::SERIAL::24=HASH(0xa219f28), Moose::Meta::Class::__ANON__::SERIAL::13=HASH(0xa15a460)) called at /root/perl5/perlbrew/perls/perl-5.16.3/lib/site_perl/5.16.3/i686-linux/Class/MOP/Method/Wrapped.pm line 63
	Class::MOP::Method::Wrapped::__ANON__(Moose::Meta::Class::__ANON__::SERIAL::24=HASH(0xa219f28), Moose::Meta::Class::__ANON__::SERIAL::13=HASH(0xa15a460)) called at /root/perl5/perlbrew/perls/perl-5.16.3/lib/site_perl/5.16.3/i686-linux/Class/MOP/Method/Wrapped.pm line 91
	Moose::Meta::Class::__ANON__::SERIAL::24::attach_to_class(Moose::Meta::Class::__ANON__::SERIAL::24=HASH(0xa219f28), Moose::Meta::Class::__ANON__::SERIAL::13=HASH(0xa15a460)) called at /root/perl5/perlbrew/perls/perl-5.16.3/lib/site_perl/5.16.3/i686-linux/Class/MOP/Class.pm line 880
	Class::MOP::Class::_attach_attribute(Moose::Meta::Class::__ANON__::SERIAL::13=HASH(0xa15a460), Moose::Meta::Class::__ANON__::SERIAL::24=HASH(0xa219f28)) called at /root/perl5/perlbrew/perls/perl-5.16.3/lib/site_perl/5.16.3/i686-linux/Class/MOP/Mixin/HasAttributes.pm line 27
	Class::MOP::Mixin::HasAttributes::add_attribute(Moose::Meta::Class::__ANON__::SERIAL::13=HASH(0xa15a460), Moose::Meta::Class::__ANON__::SERIAL::24=HASH(0xa219f28)) called at /root/perl5/perlbrew/perls/perl-5.16.3/lib/site_perl/5.16.3/i686-linux/Moose/Meta/Class.pm line 579
	Moose::Meta::Class::add_attribute(Moose::Meta::Class::__ANON__::SERIAL::13=HASH(0xa15a460), "view", "definition_context", HASH(0x9294c88), "is", "ro", "isa", "OX::View::TT", "dependencies", ...) called at /root/perl5/perlbrew/perls/perl-5.16.3/lib/site_perl/5.16.3/i686-linux/Moose.pm line 79
	Moose::has(Moose::Meta::Class::__ANON__::SERIAL::13=HASH(0xa15a460), "view", "is", "ro", "isa", "OX::View::TT", "dependencies", ARRAY(0x9294068)) called at /root/perl5/perlbrew/perls/perl-5.16.3/lib/site_perl/5.16.3/i686-linux/Moose/Exporter.pm line 409
	Moose::has("view", "is", "ro", "isa", "OX::View::TT", "dependencies", ARRAY(0x9294068)) called at t/route.t line 23
Class::MOP::load_class is deprecated at /root/perl5/perlbrew/perls/perl-5.16.3/lib/site_perl/5.16.3/i686-linux/Class/MOP.pm line 76.
	Class::MOP::load_class("Path::Router") called at /root/perl5/perlbrew/perls/perl-5.16.3/lib/site_perl/5.16.3/Bread/Board/Service/WithClass.pm line 22
	Class::MOP::Class:::before(Bread::Board::BlockInjection=HASH(0xa44cd80)) called at /root/perl5/perlbrew/perls/perl-5.16.3/lib/site_perl/5.16.3/i686-linux/Class/MOP/Method/Wrapped.pm line 33
	Class::MOP::Method::Wrapped::__ANON__(Bread::Board::BlockInjection=HASH(0xa44cd80)) called at /root/perl5/perlbrew/perls/perl-5.16.3/lib/site_perl/5.16.3/i686-linux/Class/MOP/Method/Wrapped.pm line 91
	Bread::Board::BlockInjection::get(Bread::Board::BlockInjection=HASH(0xa44cd80)) called at /root/perl5/perlbrew/perls/perl-5.16.3/lib/site_perl/5.16.3/Bread/Board/Service/WithDependencies.pm line 93
	Bread::Board::Service::WithDependencies::try {...} () called at /root/perl5/perlbrew/perls/perl-5.16.3/lib/site_perl/5.16.3/Try/Tiny.pm line 83
	eval {...} called at /root/perl5/perlbrew/perls/perl-5.16.3/lib/site_perl/5.16.3/Try/Tiny.pm line 74
	Try::Tiny::try(CODE(0xa56c5e0), Try::Tiny::Finally=REF(0xa56bcb0), Try::Tiny::Catch=REF(0xa56bca0)) called at /root/perl5/perlbrew/perls/perl-5.16.3/lib/site_perl/5.16.3/Bread/Board/Service/WithDependencies.pm line 99
	Bread::Board::Service::WithDependencies::resolve_dependencies(Bread::Board::BlockInjection=HASH(0xa44cfd0)) called at /root/perl5/perlbrew/perls/perl-5.16.3/lib/site_perl/5.16.3/Bread/Board/Service/WithDependencies.pm line 41
	Class::MOP::Class:::around(CODE(0x9b0b8c8), Bread::Board::BlockInjection=HASH(0xa44cfd0)) called at /root/perl5/perlbrew/perls/perl-5.16.3/lib/site_perl/5.16.3/i686-linux/Class/MOP/Method/Wrapped.pm line 162
	Class::MOP::Method::Wrapped::__ANON__(Bread::Board::BlockInjection=HASH(0xa44cfd0)) called at /root/perl5/perlbrew/perls/perl-5.16.3/lib/site_perl/5.16.3/i686-linux/Class/MOP/Method/Wrapped.pm line 91
	Bread::Board::BlockInjection::init_params(Bread::Board::BlockInjection=HASH(0xa44cfd0)) called at accessor Bread::Board::BlockInjection::params (defined at /root/perl5/perlbrew/perls/perl-5.16.3/lib/site_perl/5.16.3/Bread/Board/Service.pm line 20) line 10
	Bread::Board::BlockInjection::params(Bread::Board::BlockInjection=HASH(0xa44cfd0)) called at /root/perl5/perlbrew/perls/perl-5.16.3/lib/site_perl/5.16.3/Bread/Board/Service/WithParameters.pm line 38
	Class::MOP::Class:::before(Bread::Board::BlockInjection=HASH(0xa44cfd0)) called at /root/perl5/perlbrew/perls/perl-5.16.3/lib/site_perl/5.16.3/i686-linux/Class/MOP/Method/Wrapped.pm line 33
	Class::MOP::Method::Wrapped::__ANON__(Bread::Board::BlockInjection=HASH(0xa44cfd0)) called at /root/perl5/perlbrew/perls/perl-5.16.3/lib/site_perl/5.16.3/i686-linux/Class/MOP/Method/Wrapped.pm line 91
	Bread::Board::BlockInjection::get(Bread::Board::BlockInjection=HASH(0xa44cfd0)) called at /root/perl5/perlbrew/perls/perl-5.16.3/lib/site_perl/5.16.3/Bread/Board/Service/WithDependencies.pm line 93
	Bread::Board::Service::WithDependencies::try {...} () called at /root/perl5/perlbrew/perls/perl-5.16.3/lib/site_perl/5.16.3/Try/Tiny.pm line 83
	eval {...} called at /root/perl5/perlbrew/perls/perl-5.16.3/lib/site_perl/5.16.3/Try/Tiny.pm line 74
	Try::Tiny::try(CODE(0xa56bb30), Try::Tiny::Finally=REF(0x95ff120), Try::Tiny::Catch=REF(0xa5cd2a8)) called at /root/perl5/perlbrew/perls/perl-5.16.3/lib/site_perl/5.16.3/Bread/Board/Service/WithDependencies.pm line 99
	Bread::Board::Service::WithDependencies::resolve_dependencies(Bread::Board::BlockInjection=HASH(0xa55aad0)) called at /root/perl5/perlbrew/perls/perl-5.16.3/lib/site_perl/5.16.3/Bread/Board/Service/WithDependencies.pm line 41
	Class::MOP::Class:::around(CODE(0x9b0b8c8), Bread::Board::BlockInjection=HASH(0xa55aad0)) called at /root/perl5/perlbrew/perls/perl-5.16.3/lib/site_perl/5.16.3/i686-linux/Class/MOP/Method/Wrapped.pm line 162
	Class::MOP::Method::Wrapped::__ANON__(Bread::Board::BlockInjection=HASH(0xa55aad0)) called at /root/perl5/perlbrew/perls/perl-5.16.3/lib/site_perl/5.16.3/i686-linux/Class/MOP/Method/Wrapped.pm line 91
	Bread::Board::BlockInjection::init_params(Bread::Board::BlockInjection=HASH(0xa55aad0)) called at accessor Bread::Board::BlockInjection::params (defined at /root/perl5/perlbrew/perls/perl-5.16.3/lib/site_perl/5.16.3/Bread/Board/Service.pm line 20) line 10
	Bread::Board::BlockInjection::params(Bread::Board::BlockInjection=HASH(0xa55aad0)) called at /root/perl5/perlbrew/perls/perl-5.16.3/lib/site_perl/5.16.3/Bread/Board/Service/WithParameters.pm line 38
	Class::MOP::Class:::before(Bread::Board::BlockInjection=HASH(0xa55aad0)) called at /root/perl5/perlbrew/perls/perl-5.16.3/lib/site_perl/5.16.3/i686-linux/Class/MOP/Method/Wrapped.pm line 33
	Class::MOP::Method::Wrapped::__ANON__(Bread::Board::BlockInjection=HASH(0xa55aad0)) called at /root/perl5/perlbrew/perls/perl-5.16.3/lib/site_perl/5.16.3/i686-linux/Class/MOP/Method/Wrapped.pm line 91
	Bread::Board::BlockInjection::get(Bread::Board::BlockInjection=HASH(0xa55aad0)) called at /root/perl5/perlbrew/perls/perl-5.16.3/lib/site_perl/5.16.3/Bread/Board/Container.pm line 161
	Bread::Board::Container::resolve(undef, "service", "App") called at /root/perl5/perlbrew/perls/perl-5.16.3/lib/site_perl/5.16.3/OX/Application.pm line 114
	OX::Application::to_app(Foo=HASH(0xa42aef0)) called at /root/perl5/perlbrew/perls/perl-5.16.3/lib/site_perl/5.16.3/OX/Application/Role/Sugar.pm line 98
	Class::MOP::Class:::around(CODE(0x9f86810), Foo=HASH(0xa42aef0)) called at /root/perl5/perlbrew/perls/perl-5.16.3/lib/site_perl/5.16.3/i686-linux/Class/MOP/Method/Wrapped.pm line 162
	Class::MOP::Method::Wrapped::__ANON__(Foo=HASH(0xa42aef0)) called at /root/perl5/perlbrew/perls/perl-5.16.3/lib/site_perl/5.16.3/i686-linux/Class/MOP/Method/Wrapped.pm line 91
	Moose::Meta::Class::__ANON__::SERIAL::21::to_app(Foo=HASH(0xa42aef0)) called at t/route.t line 54
t/route.t ....... ok
All tests successful.
Files=4, Tests=20,  4 wallclock secs ( 0.69 usr  0.13 sys +  2.94 cusr  0.86 csys =  4.62 CPU)
Result: PASS

------------------------------
PREREQUISITES
------------------------------

Prerequisite modules loaded:

requires:

    Module                     Need Have   
    -------------------------- ---- -------
    Moose                      0    2.1100 
    MooseX::Types::Path::Class 0    0.06   
    Template                   0    2.25   

build_requires:

    Module                     Need Have   
    -------------------------- ---- -------
    File::Find                 0    1.20   
    File::Temp                 0    0.2301 
    FindBin                    0    1.51   
    HTTP::Request::Common      0    6.04   
    OX                         0    0.13   
    Path::Class                0    0.32   
    Plack::Test                0    0      
    strict                     0    1.07   
    Test::More                 0.88 0.98_05
    warnings                   0    1.13   

configure_requires:

    Module                     Need Have   
    -------------------------- ---- -------
    ExtUtils::MakeMaker        6.30 6.76   


------------------------------
ENVIRONMENT AND OTHER CONTEXT
------------------------------

Environment variables:

    AUTOMATED_TESTING = 1
    LANG = en_US.UTF-8
    PATH = /root/perl5/perlbrew/bin:/root/perl5/perlbrew/perls/perl-5.16.3/bin:/usr/local/sbin:/usr/local/bin:/sbin:/bin:/usr/sbin:/usr/bin:/root/bin
    PERL5LIB = 
    PERL5OPT = 
    PERL5_CPANPLUS_IS_RUNNING = 6619
    PERL5_CPAN_IS_RUNNING = 6619
    PERL5_CPAN_IS_RUNNING_IN_RECURSION = 14248,6619
    PERLBREW_BASHRC_VERSION = 0.66
    PERLBREW_HOME = /root/.perlbrew
    PERLBREW_MANPATH = /root/perl5/perlbrew/perls/perl-5.16.3/man
    PERLBREW_PATH = /root/perl5/perlbrew/bin:/root/perl5/perlbrew/perls/perl-5.16.3/bin
    PERLBREW_PERL = perl-5.16.3
    PERLBREW_ROOT = /root/perl5/perlbrew
    PERLBREW_VERSION = 0.66
    PERL_CR_SMOKER_CURRENT = OX-View-TT-0.01
    PERL_EXTUTILS_AUTOINSTALL = --defaultdeps
    PERL_MM_USE_DEFAULT = 1
    SHELL = /bin/bash
    TERM = linux

Perl special variables (and OS-specific diagnostics, for MSWin32):

    $^X = /root/perl5/perlbrew/perls/perl-5.16.3/bin/perl
    $UID/$EUID = 0 / 0
    $GID = 0 0
    $EGID = 0 0

Perl module toolchain versions installed:

    Module              Have    
    ------------------- --------
    CPAN                2.02    
    CPAN::Meta          2.132140
    Cwd                 3.40    
    ExtUtils::CBuilder  0.280210
    ExtUtils::Command   1.17    
    ExtUtils::Install   1.58    
    ExtUtils::MakeMaker 6.76    
    ExtUtils::Manifest  1.61    
    ExtUtils::ParseXS   3.22    
    File::Spec          3.40    
    JSON                2.59    
    JSON::PP            2.27202 
    Module::Build       0.4007  
    Module::Signature   n/a     
    Parse::CPAN::Meta   1.4405  
    Test::Harness       3.28    
    Test::More          0.98_05 
    YAML                0.84    
    YAML::Syck          1.27    
    version             0.9904  


--

Summary of my perl5 (revision 5 version 16 subversion 3) configuration:
   
  Platform:
    osname=linux, osvers=2.6.32-358.el6.i686, archname=i686-linux
    uname='linux centos64-32bit 2.6.32-358.el6.i686 #1 smp thu feb 21 21:50:49 utc 2013 i686 i686 i386 gnulinux '
    config_args='-de -Dprefix=/root/perl5/perlbrew/perls/perl-5.16.3 -Aeval:scriptdir=/root/perl5/perlbrew/perls/perl-5.16.3/bin'
    hint=recommended, useposix=true, d_sigaction=define
    useithreads=undef, usemultiplicity=undef
    useperlio=define, d_sfio=undef, uselargefiles=define, usesocks=undef
    use64bitint=undef, use64bitall=undef, uselongdouble=undef
    usemymalloc=n, bincompat5005=undef
  Compiler:
    cc='cc', ccflags ='-fno-strict-aliasing -pipe -fstack-protector -I/usr/local/include -D_LARGEFILE_SOURCE -D_FILE_OFFSET_BITS=64',
    optimize='-O2',
    cppflags='-fno-strict-aliasing -pipe -fstack-protector -I/usr/local/include'
    ccversion='', gccversion='4.4.7 20120313 (Red Hat 4.4.7-3)', gccosandvers=''
    intsize=4, longsize=4, ptrsize=4, doublesize=8, byteorder=1234
    d_longlong=define, longlongsize=8, d_longdbl=define, longdblsize=12
    ivtype='long', ivsize=4, nvtype='double', nvsize=8, Off_t='off_t', lseeksize=8
    alignbytes=4, prototype=define
  Linker and Libraries:
    ld='cc', ldflags =' -fstack-protector -L/usr/local/lib'
    libpth=/usr/local/lib /lib /usr/lib
    libs=-lnsl -ldl -lm -lcrypt -lutil -lc
    perllibs=-lnsl -ldl -lm -lcrypt -lutil -lc
    libc=/lib/libc-2.12.so, so=so, useshrplib=false, libperl=libperl.a
    gnulibc_version='2.12'
  Dynamic Linking:
    dlsrc=dl_dlopen.xs, dlext=so, d_dlsymun=undef, ccdlflags='-Wl,-E'
    cccdlflags='-fPIC', lddlflags='-shared -O2 -L/usr/local/lib -fstack-protector'


Characteristics of this binary (from libperl): 
  Compile-time options: HAS_TIMES PERLIO_LAYERS PERL_DONT_CREATE_GVSV
                        PERL_MALLOC_WRAP PERL_PRESERVE_IVUV USE_LARGE_FILES
                        USE_LOCALE USE_LOCALE_COLLATE USE_LOCALE_CTYPE
                        USE_LOCALE_NUMERIC USE_PERLIO USE_PERL_ATOF
  Built under linux
  Compiled at Sep  2 2013 20:40:46
  %ENV:
    PERL5LIB=""
    PERL5OPT=""
    PERL5_CPANPLUS_IS_RUNNING="6619"
    PERL5_CPAN_IS_RUNNING="6619"
    PERL5_CPAN_IS_RUNNING_IN_RECURSION="14248,6619"
    PERLBREW_BASHRC_VERSION="0.66"
    PERLBREW_HOME="/root/.perlbrew"
    PERLBREW_MANPATH="/root/perl5/perlbrew/perls/perl-5.16.3/man"
    PERLBREW_PATH="/root/perl5/perlbrew/bin:/root/perl5/perlbrew/perls/perl-5.16.3/bin"
    PERLBREW_PERL="perl-5.16.3"
    PERLBREW_ROOT="/root/perl5/perlbrew"
    PERLBREW_VERSION="0.66"
    PERL_CR_SMOKER_CURRENT="OX-View-TT-0.01"
    PERL_EXTUTILS_AUTOINSTALL="--defaultdeps"
    PERL_MM_USE_DEFAULT="1"
  @INC:
    /root/perl5/perlbrew/perls/perl-5.16.3/lib/site_perl/5.16.3/i686-linux
    /root/perl5/perlbrew/perls/perl-5.16.3/lib/site_perl/5.16.3
    /root/perl5/perlbrew/perls/perl-5.16.3/lib/5.16.3/i686-linux
    /root/perl5/perlbrew/perls/perl-5.16.3/lib/5.16.3
    .