PLS v0.899 Perl 5 v5.34.0 x86_64-linux-thread-multi
- Status
- Pass
- From
- Arpad Szasz
- Dist
-
PLS v0.899
- Platform
- Perl 5 v5.34.0 x86_64-linux-thread-multi
- Date
- 2022-03-03 08:51:15
- ID
- 15752c46-9acf-11ec-a7b1-a8eb2c326c2a
This distribution has been tested as part of the CPAN Testers
project, supporting the Perl programming language. See
http://wiki.cpantesters.org/ for more information or email
questions to cpan-testers-discuss@perl.org
--
Dear MREISNER,
This is a computer-generated report for PLS-0.899
on perl 5.34.0, created by App::cpanminus::reporter 0.17 (1.7044).
Thank you for uploading your work to CPAN. Congratulations!
All tests were successful.
Sections of this report:
* Tester comments
* Program output
* Prerequisites
* Environment and other context
------------------------------
TESTER COMMENTS
------------------------------
Additional comments from tester:
none provided
------------------------------
PROGRAM OUTPUT
------------------------------
Output from '':
Building and testing PLS-0.899
cp lib/PLS/Parser/Pod/Variable.pm blib/lib/PLS/Parser/Pod/Variable.pm
cp lib/PLS/Parser/Pod/Subroutine.pm blib/lib/PLS/Parser/Pod/Subroutine.pm
cp lib/PLS/Server/Method/ServerMethod.pm blib/lib/PLS/Server/Method/ServerMethod.pm
cp lib/PLS/Parser/Document.pm blib/lib/PLS/Parser/Document.pm
cp lib/PLS/Parser/Pod/Package.pm blib/lib/PLS/Parser/Pod/Package.pm
cp lib/PLS/Server/Request/Client/RegisterCapability.pm blib/lib/PLS/Server/Request/Client/RegisterCapability.pm
cp lib/PLS/Parser/Element.pm blib/lib/PLS/Parser/Element.pm
cp lib/PLS/Parser/Pod/Builtin.pm blib/lib/PLS/Parser/Pod/Builtin.pm
cp lib/PLS/Server/Request/Exit.pm blib/lib/PLS/Server/Request/Exit.pm
cp lib/PLS/Server/Request/Initialized.pm blib/lib/PLS/Server/Request/Initialized.pm
cp lib/PLS/Server/Request.pm blib/lib/PLS/Server/Request.pm
cp lib/PLS/Server/Request/TextDocument/Completion.pm blib/lib/PLS/Server/Request/TextDocument/Completion.pm
cp lib/PLS/Server/Method/CompletionItem.pm blib/lib/PLS/Server/Method/CompletionItem.pm
cp lib/PLS.pm blib/lib/PLS.pm
cp lib/PLS/Parser/Element/Package.pm blib/lib/PLS/Parser/Element/Package.pm
cp lib/PLS/Server.pm blib/lib/PLS/Server.pm
cp lib/PLS/Parser/Pod/ClassMethod.pm blib/lib/PLS/Parser/Pod/ClassMethod.pm
cp lib/PLS/Server/Request/CompletionItem/Resolve.pm blib/lib/PLS/Server/Request/CompletionItem/Resolve.pm
cp lib/PLS/Server/Request/Factory.pm blib/lib/PLS/Server/Request/Factory.pm
cp lib/PLS/Server/Method/Workspace.pm blib/lib/PLS/Server/Method/Workspace.pm
cp lib/PLS/Server/Request/Shutdown.pm blib/lib/PLS/Server/Request/Shutdown.pm
cp lib/PLS/Parser/Pod.pm blib/lib/PLS/Parser/Pod.pm
cp lib/PLS/Server/Request/Initialize.pm blib/lib/PLS/Server/Request/Initialize.pm
cp lib/PLS/Parser/Element/Constant.pm blib/lib/PLS/Parser/Element/Constant.pm
cp lib/PLS/Server/Request/CancelRequest.pm blib/lib/PLS/Server/Request/CancelRequest.pm
cp lib/PLS/Parser/PackageSymbols.pm blib/lib/PLS/Parser/PackageSymbols.pm
cp lib/PLS/Parser/Element/VariableStatement.pm blib/lib/PLS/Parser/Element/VariableStatement.pm
cp lib/PLS/Server/Method/TextDocument.pm blib/lib/PLS/Server/Method/TextDocument.pm
cp lib/PLS/Parser/Pod/Method.pm blib/lib/PLS/Parser/Pod/Method.pm
cp lib/PLS/Parser/Index.pm blib/lib/PLS/Parser/Index.pm
cp lib/PLS/Parser/Element/Variable.pm blib/lib/PLS/Parser/Element/Variable.pm
cp lib/PLS/Parser/Element/Subroutine.pm blib/lib/PLS/Parser/Element/Subroutine.pm
cp lib/PLS/Parser/DocumentSymbols.pm blib/lib/PLS/Parser/DocumentSymbols.pm
cp lib/PLS/Server/Message.pm blib/lib/PLS/Server/Message.pm
cp lib/PLS/Server/Request/TextDocument/DidSave.pm blib/lib/PLS/Server/Request/TextDocument/DidSave.pm
cp lib/PLS/Server/Request/Workspace/Configuration.pm blib/lib/PLS/Server/Request/Workspace/Configuration.pm
cp lib/PLS/Server/Request/TextDocument/Definition.pm blib/lib/PLS/Server/Request/TextDocument/Definition.pm
cp lib/PLS/Server/Request/TextDocument/DocumentSymbol.pm blib/lib/PLS/Server/Request/TextDocument/DocumentSymbol.pm
cp lib/PLS/Server/Request/TextDocument/RangeFormatting.pm blib/lib/PLS/Server/Request/TextDocument/RangeFormatting.pm
cp lib/PLS/Server/Response/InvalidRequest.pm blib/lib/PLS/Server/Response/InvalidRequest.pm
cp lib/PLS/Server/Response/DocumentSymbol.pm blib/lib/PLS/Server/Response/DocumentSymbol.pm
cp lib/PLS/Server/Request/TextDocument/DidChange.pm blib/lib/PLS/Server/Request/TextDocument/DidChange.pm
cp lib/PLS/Server/Request/TextDocument/Hover.pm blib/lib/PLS/Server/Request/TextDocument/Hover.pm
cp lib/PLS/Server/Response/Cancelled.pm blib/lib/PLS/Server/Response/Cancelled.pm
cp lib/PLS/Server/Request/Workspace/ExecuteCommand.pm blib/lib/PLS/Server/Request/Workspace/ExecuteCommand.pm
cp lib/PLS/Server/Response/Formatting.pm blib/lib/PLS/Server/Response/Formatting.pm
cp lib/PLS/Server/Response/InitializeResult.pm blib/lib/PLS/Server/Response/InitializeResult.pm
cp lib/PLS/Server/Response.pm blib/lib/PLS/Server/Response.pm
cp lib/PLS/Server/Request/TextDocument/PublishDiagnostics.pm blib/lib/PLS/Server/Request/TextDocument/PublishDiagnostics.pm
cp lib/PLS/Server/Response/Hover.pm blib/lib/PLS/Server/Response/Hover.pm
cp lib/PLS/Server/Request/Workspace/DidChangeConfiguration.pm blib/lib/PLS/Server/Request/Workspace/DidChangeConfiguration.pm
cp lib/PLS/Server/Request/TextDocument/DidClose.pm blib/lib/PLS/Server/Request/TextDocument/DidClose.pm
cp lib/PLS/Server/Request/Workspace/Symbol.pm blib/lib/PLS/Server/Request/Workspace/Symbol.pm
cp lib/PLS/Server/Request/TextDocument/SignatureHelp.pm blib/lib/PLS/Server/Request/TextDocument/SignatureHelp.pm
cp lib/PLS/Server/Request/TextDocument/DidOpen.pm blib/lib/PLS/Server/Request/TextDocument/DidOpen.pm
cp lib/PLS/Server/Response/Completion.pm blib/lib/PLS/Server/Response/Completion.pm
cp lib/PLS/Server/Request/TextDocument/Formatting.pm blib/lib/PLS/Server/Request/TextDocument/Formatting.pm
cp lib/PLS/Server/Request/Workspace/DidChangeWatchedFiles.pm blib/lib/PLS/Server/Request/Workspace/DidChangeWatchedFiles.pm
cp lib/PLS/Server/Response/Location.pm blib/lib/PLS/Server/Response/Location.pm
cp lib/PLS/Server/Request/Workspace/ApplyEdit.pm blib/lib/PLS/Server/Request/Workspace/ApplyEdit.pm
cp lib/PLS/Server/Response/Resolve.pm blib/lib/PLS/Server/Response/Resolve.pm
cp lib/PLS/Server/Response/RangeFormatting.pm blib/lib/PLS/Server/Response/RangeFormatting.pm
cp lib/PLS/Server/State.pm blib/lib/PLS/Server/State.pm
cp lib/PLS/Server/Response/WorkspaceSymbols.pm blib/lib/PLS/Server/Response/WorkspaceSymbols.pm
cp lib/PLS/Server/Response/SignatureHelp.pm blib/lib/PLS/Server/Response/SignatureHelp.pm
cp lib/PLS/Server/Response/Shutdown.pm blib/lib/PLS/Server/Response/Shutdown.pm
cp lib/PLS/Server/Response/ServerNotInitialized.pm blib/lib/PLS/Server/Response/ServerNotInitialized.pm
cp lib/PLS/Trie/Node.pm blib/lib/PLS/Trie/Node.pm
cp lib/PLS/Trie.pm blib/lib/PLS/Trie.pm
cp bin/pls blib/script/pls
"/home/arpi/opt/perl5/perls/perl-5.34.0/bin/perl" -MExtUtils::MY -e 'MY->fixin(shift)' -- blib/script/pls
Manifying 30 pod documents
Manifying 23 pod documents
Manifying 14 pod documents
PERL_DL_NONLAZY=1 "/home/arpi/opt/perl5/perls/perl-5.34.0/bin/perl" "-MExtUtils::Command::MM" "-MTest::Harness" "-e" "undef *Test::Harness::Switches; test_harness(0, 'blib/lib', 'blib/arch')" t/*.t
t/00compile.t .......................... ok
t/02document-new.t ..................... ok
t/03document-find_word_under_cursor.t .. ok
All tests successful.
Files=3, Tests=89, 5 wallclock secs ( 0.09 usr 0.00 sys + 2.98 cusr 0.34 csys = 3.41 CPU)
Result: PASS
------------------------------
PREREQUISITES
------------------------------
Prerequisite modules loaded:
No requirements found
------------------------------
ENVIRONMENT AND OTHER CONTEXT
------------------------------
Environment variables:
LANG = en_US.UTF-8
LC_ADDRESS = ro_RO.UTF-8
LC_IDENTIFICATION = ro_RO.UTF-8
LC_MEASUREMENT = ro_RO.UTF-8
LC_MONETARY = ro_RO.UTF-8
LC_NAME = ro_RO.UTF-8
LC_NUMERIC = ro_RO.UTF-8
LC_PAPER = ro_RO.UTF-8
LC_TELEPHONE = ro_RO.UTF-8
LC_TIME = ro_RO.UTF-8
PATH = /home/arpi/.cargo/bin:/home/arpi/.nvm/versions/node/v12.12.0/bin:/home/arpi/opt/perl5/bin:/home/arpi/opt/perl5/perls/perl-5.34.0/bin:/home/arpi/.cargo/bin:/home/arpi/.local/share/umake/bin:/home/arpi/opt/terraform:/home/arpi/.rakudobrew/bin:/home/arpi/.local/bin:/home/arpi/bin:/home/arpi/bin:/usr/local/sbin:/usr/local/bin:/usr/sbin:/usr/bin:/sbin:/bin:/usr/games:/usr/local/games:/snap/bin:/snap/bin:/usr/lib/jvm/java-8-oracle/bin:/usr/lib/jvm/java-8-oracle/db/bin:/usr/lib/jvm/java-8-oracle/jre/bin:/home/arpi/.yarn/bin:/home/arpi/.fzf/bin
PERLBREW_HOME = /home/arpi/.perlbrew
PERLBREW_MANPATH = /home/arpi/opt/perl5/perls/perl-5.34.0/man
PERLBREW_PATH = /home/arpi/opt/perl5/bin:/home/arpi/opt/perl5/perls/perl-5.34.0/bin
PERLBREW_PERL = perl-5.34.0
PERLBREW_ROOT = /home/arpi/opt/perl5
PERLBREW_SHELLRC_VERSION = 0.92
PERLBREW_VERSION = 0.92
SHELL = /bin/bash
TERM = xterm-256color
Perl special variables (and OS-specific diagnostics, for MSWin32):
EGID = 1000 4 20 24 27 29 30 46 108 115 131 132 145 998 1000
EUID = 1000
EXECUTABLE_NAME = /home/arpi/opt/perl5/perls/perl-5.34.0/bin/perl
GID = 1000 4 20 24 27 29 30 46 108 115 131 132 145 998 1000
UID = 1000
Perl module toolchain versions installed:
Module Have
------------------- --------
CPAN 2.29
CPAN::Meta 2.150010
Cwd 3.80
ExtUtils::CBuilder 0.280236
ExtUtils::Command 7.64
ExtUtils::Install 2.20
ExtUtils::MakeMaker 7.64
ExtUtils::Manifest 1.73
ExtUtils::ParseXS 3.44
File::Spec 3.80
JSON 4.05
JSON::PP 4.07
Module::Build 0.4231
Module::Signature n/a
Parse::CPAN::Meta 2.150010
Test::Harness 3.43
Test::More 1.302189
YAML 1.30
YAML::Syck n/a
version 0.9929
--
Summary of my perl5 (revision 5 version 34 subversion 0) configuration:
Platform:
osname=linux
osvers=5.8.0-53-generic
archname=x86_64-linux-thread-multi
uname='linux guppy 5.8.0-53-generic #60~20.04.1-ubuntu smp thu may 6 09:52:46 utc 2021 x86_64 x86_64 x86_64 gnulinux '
config_args='-de -Dprefix=/home/arpi/opt/perl5/perls/perl-5.34.0 -Dusethreads -Duselargefiles -Duse64bitall -Dusesitecustomize -Duseshrplib -Dinc_version_list=none -Dpager=/bin/less -Doptimize=-O2 -Dcf_by=Plenum.ro -Dcf_email=arpad.szasz@plenum.ro -Uuserelocatableinc -UDEBUGGING -Aeval:scriptdir=/home/arpi/opt/perl5/perls/perl-5.34.0/bin'
hint=recommended
useposix=true
d_sigaction=define
useithreads=define
usemultiplicity=define
use64bitint=define
use64bitall=define
uselongdouble=undef
usemymalloc=n
default_inc_excludes_dot=define
Compiler:
cc='cc'
ccflags ='-D_REENTRANT -D_GNU_SOURCE -fwrapv -fno-strict-aliasing -pipe -fstack-protector-strong -I/usr/local/include -D_LARGEFILE_SOURCE -D_FILE_OFFSET_BITS=64 -D_FORTIFY_SOURCE=2'
optimize='-O2'
cppflags='-D_REENTRANT -D_GNU_SOURCE -fwrapv -fno-strict-aliasing -pipe -fstack-protector-strong -I/usr/local/include'
ccversion=''
gccversion='10.2.0'
gccosandvers=''
intsize=4
longsize=8
ptrsize=8
doublesize=8
byteorder=12345678
doublekind=3
d_longlong=define
longlongsize=8
d_longdbl=define
longdblsize=16
longdblkind=3
ivtype='long'
ivsize=8
nvtype='double'
nvsize=8
Off_t='off_t'
lseeksize=8
alignbytes=8
prototype=define
Linker and Libraries:
ld='cc'
ldflags =' -fstack-protector-strong -L/usr/local/lib'
libpth=/usr/local/lib /usr/lib/x86_64-linux-gnu /usr/lib /lib/x86_64-linux-gnu /lib /lib64 /usr/lib64
libs=-lpthread -lnsl -ldl -lm -lcrypt -lutil -lc
perllibs=-lpthread -lnsl -ldl -lm -lcrypt -lutil -lc
libc=libc-2.31.so
so=so
useshrplib=true
libperl=libperl.so
gnulibc_version='2.31'
Dynamic Linking:
dlsrc=dl_dlopen.xs
dlext=so
d_dlsymun=undef
ccdlflags='-Wl,-E -Wl,-rpath,/home/arpi/opt/perl5/perls/perl-5.34.0/lib/5.34.0/x86_64-linux-thread-multi/CORE'
cccdlflags='-fPIC'
lddlflags='-shared -O2 -L/usr/local/lib -fstack-protector-strong'
Characteristics of this binary (from libperl):
Compile-time options:
HAS_TIMES
MULTIPLICITY
PERLIO_LAYERS
PERL_COPY_ON_WRITE
PERL_DONT_CREATE_GVSV
PERL_IMPLICIT_CONTEXT
PERL_MALLOC_WRAP
PERL_OP_PARENT
PERL_PRESERVE_IVUV
USE_64_BIT_ALL
USE_64_BIT_INT
USE_ITHREADS
USE_LARGE_FILES
USE_LOCALE
USE_LOCALE_COLLATE
USE_LOCALE_CTYPE
USE_LOCALE_NUMERIC
USE_LOCALE_TIME
USE_PERLIO
USE_PERL_ATOF
USE_REENTRANT_API
USE_SITECUSTOMIZE
USE_THREAD_SAFE_LOCALE
Built under linux
Compiled at May 21 2021 11:21:03
%ENV:
PERLBREW_HOME="/home/arpi/.perlbrew"
PERLBREW_MANPATH="/home/arpi/opt/perl5/perls/perl-5.34.0/man"
PERLBREW_PATH="/home/arpi/opt/perl5/bin:/home/arpi/opt/perl5/perls/perl-5.34.0/bin"
PERLBREW_PERL="perl-5.34.0"
PERLBREW_ROOT="/home/arpi/opt/perl5"
PERLBREW_SHELLRC_VERSION="0.92"
PERLBREW_VERSION="0.92"
@INC:
/home/arpi/opt/perl5/perls/perl-5.34.0/lib/site_perl/5.34.0/x86_64-linux-thread-multi
/home/arpi/opt/perl5/perls/perl-5.34.0/lib/site_perl/5.34.0
/home/arpi/opt/perl5/perls/perl-5.34.0/lib/5.34.0/x86_64-linux-thread-multi
/home/arpi/opt/perl5/perls/perl-5.34.0/lib/5.34.0