Report for MooseX-WithCache-0.01002

Back
From: metabase:user:315f03b2-2aae-11df-837a-5e0a49663a4f
Subject: PASS MooseX-WithCache-0.01002 v5.14.2 NetBSD
Date: 2013-02-27T11:44:45Z

This distribution has been tested as part of the CPAN Testers
project, supporting the Perl programming language.  See
http://wiki.cpantesters.org/ for more information or email
questions to cpan-testers-discuss@perl.org


--
Dear Daisuke Maki,

This is a computer-generated report for MooseX-WithCache-0.01002
on perl 5.14.2, created by CPAN-Reporter-1.2009.

Thank you for uploading your work to CPAN.  Congratulations!
All tests were successful.

Sections of this report:

    * Tester comments
    * Program output
    * Prerequisites
    * Environment and other context

------------------------------
TESTER COMMENTS
------------------------------

Additional comments from tester:

this report is from an automated smoke testing program
and was not reviewed by a human for accuracy

------------------------------
PROGRAM OUTPUT
------------------------------

Output from '/usr/bin/make test':

PERL_DL_NONLAZY=1 /home/smoke/perl5/perlbrew/perls/perl-5.14.2/bin/perl "-MExtUtils::Command::MM" "-e" "test_harness(0, 'inc', 'blib/lib', 'blib/arch')" t/*.t t/*/*.t
t/00_compile.t ............... ok
Use of qw(...) as parentheses is deprecated at t/02_memcached.t line 25.
t/02_memcached.t ............. skipped: no memcached server found
must specify either 'datastore' hashref or 'global' flag at /home/smoke/perl5/perlbrew/perls/perl-5.14.2/lib/site_perl/5.14.2/CHI/Driver/Memory.pm line 37.
	CHI::Driver::Memory::BUILD('Moose::Meta::Class::__ANON__::SERIAL::4=HASH(0xbafddc80)', 'HASH(0xbad38be0)') called at /home/smoke/perl5/perlbrew/perls/perl-5.14.2/lib/site_perl/5.14.2/i386-netbsd/Class/MOP/Method.pm line 125
	Class::MOP::Method::execute('Moose::Meta::Method=HASH(0xbad38940)', 'Moose::Meta::Class::__ANON__::SERIAL::4=HASH(0xbafddc80)', 'HASH(0xbad38be0)') called at /home/smoke/perl5/perlbrew/perls/perl-5.14.2/lib/site_perl/5.14.2/i386-netbsd/Moose/Object.pm line 59
	Moose::Object::BUILDALL('Moose::Meta::Class::__ANON__::SERIAL::4=HASH(0xbafddc80)', 'HASH(0xbad38be0)') called at /home/smoke/perl5/perlbrew/perls/perl-5.14.2/lib/site_perl/5.14.2/i386-netbsd/Moose/Meta/Class.pm line 278
	Moose::Meta::Class::new_object('Moose::Meta::Class=HASH(0xbad18f80)', 'HASH(0xbad38be0)') called at /home/smoke/perl5/perlbrew/perls/perl-5.14.2/lib/site_perl/5.14.2/i386-netbsd/Moose/Object.pm line 28
	Moose::Object::new('Moose::Meta::Class::__ANON__::SERIAL::4', 'chi_root_class', 'CHI', 'driver_class', 'CHI::Driver::Memory') called at constructor CHI::Driver::Memory::new (defined at /home/smoke/perl5/perlbrew/perls/perl-5.14.2/lib/site_perl/5.14.2/CHI/Driver/Memory.pm line 18) line 4
	CHI::Driver::Memory::new('Moose::Meta::Class::__ANON__::SERIAL::4', 'chi_root_class', 'CHI', 'driver_class', 'CHI::Driver::Memory') called at /home/smoke/perl5/perlbrew/perls/perl-5.14.2/lib/site_perl/5.14.2/CHI.pm line 156
	CHI::new('CHI', 'driver', 'Memory') called at t/03_chi.t line 29
t/03_chi.t ................... ok
t/04_fastmmap.t .............. ok
t/deprecated/00_compile.t .... ok
Use of qw(...) as parentheses is deprecated at t/deprecated/02_memcached.t line 20.
t/deprecated/02_memcached.t .. skipped: no memcached server found
must specify either 'datastore' hashref or 'global' flag at /home/smoke/perl5/perlbrew/perls/perl-5.14.2/lib/site_perl/5.14.2/CHI/Driver/Memory.pm line 37.
	CHI::Driver::Memory::BUILD('Moose::Meta::Class::__ANON__::SERIAL::4=HASH(0xbafdbf40)', 'HASH(0xbad3ab40)') called at /home/smoke/perl5/perlbrew/perls/perl-5.14.2/lib/site_perl/5.14.2/i386-netbsd/Class/MOP/Method.pm line 125
	Class::MOP::Method::execute('Moose::Meta::Method=HASH(0xbad3a8a0)', 'Moose::Meta::Class::__ANON__::SERIAL::4=HASH(0xbafdbf40)', 'HASH(0xbad3ab40)') called at /home/smoke/perl5/perlbrew/perls/perl-5.14.2/lib/site_perl/5.14.2/i386-netbsd/Moose/Object.pm line 59
	Moose::Object::BUILDALL('Moose::Meta::Class::__ANON__::SERIAL::4=HASH(0xbafdbf40)', 'HASH(0xbad3ab40)') called at /home/smoke/perl5/perlbrew/perls/perl-5.14.2/lib/site_perl/5.14.2/i386-netbsd/Moose/Meta/Class.pm line 278
	Moose::Meta::Class::new_object('Moose::Meta::Class=HASH(0xbad20ee0)', 'HASH(0xbad3ab40)') called at /home/smoke/perl5/perlbrew/perls/perl-5.14.2/lib/site_perl/5.14.2/i386-netbsd/Moose/Object.pm line 28
	Moose::Object::new('Moose::Meta::Class::__ANON__::SERIAL::4', 'chi_root_class', 'CHI', 'driver_class', 'CHI::Driver::Memory') called at constructor CHI::Driver::Memory::new (defined at /home/smoke/perl5/perlbrew/perls/perl-5.14.2/lib/site_perl/5.14.2/CHI/Driver/Memory.pm line 18) line 4
	CHI::Driver::Memory::new('Moose::Meta::Class::__ANON__::SERIAL::4', 'chi_root_class', 'CHI', 'driver_class', 'CHI::Driver::Memory') called at /home/smoke/perl5/perlbrew/perls/perl-5.14.2/lib/site_perl/5.14.2/CHI.pm line 156
	CHI::new('CHI', 'driver', 'Memory') called at t/deprecated/03_chi.t line 30
t/deprecated/03_chi.t ........ ok
t/deprecated/04_fastmmap.t ... ok
All tests successful.
Files=8, Tests=62,  6 wallclock secs ( 0.09 usr  0.01 sys +  4.96 cusr  0.41 csys =  5.47 CPU)
Result: PASS

------------------------------
PREREQUISITES
------------------------------

Prerequisite modules loaded:

requires:

    Module                      Need  Have    
    --------------------------- ----- --------
    Cache::Memcached            0     1.30    
    Data::Dumper                0     2.139   
    Digest::MD5                 0     2.52    
    Moose                       0.59  2.0604  
    MooseX::Role::Parameterized 0     1.00    
    perl                        5.008 5.014002

build_requires:

    Module                      Need  Have    
    --------------------------- ----- --------
    ExtUtils::MakeMaker         6.42  6.64    
    IO::Socket::INET            0     1.31    
    Test::Exception             0     0.31    
    Test::More                  0     0.98    

configure_requires:

    Module                      Need  Have    
    --------------------------- ----- --------
    ExtUtils::MakeMaker         6.42  6.64    


------------------------------
ENVIRONMENT AND OTHER CONTEXT
------------------------------

Environment variables:

    AUTOMATED_TESTING = 1
    MANPATH_WITHOUT_PERLBREW = 
    PATH = /home/smoke/perl5/perlbrew/bin:/home/smoke/perl5/perlbrew/perls/perl-5.14.2/bin:/home/smoke/bin:/bin:/sbin:/usr/bin:/usr/sbin:/usr/X11R7/bin:/usr/X11R6/bin:/usr/pkg/bin:/usr/pkg/sbin:/usr/games:/usr/local/bin:/usr/local/sbin
    PATH_WITHOUT_PERLBREW = /home/smoke/bin:/bin:/sbin:/usr/bin:/usr/sbin:/usr/X11R7/bin:/usr/X11R6/bin:/usr/pkg/bin:/usr/pkg/sbin:/usr/games:/usr/local/bin:/usr/local/sbin
    PERL5LIB = 
    PERL5OPT = 
    PERL5_CPANPLUS_IS_RUNNING = 18529
    PERL5_CPAN_IS_RUNNING = 18529
    PERL5_CPAN_IS_RUNNING_IN_RECURSION = 2346,18529
    PERLBREW_BASHRC_VERSION = 0.41
    PERLBREW_HOME = /home/smoke/.perlbrew
    PERLBREW_MANPATH = /home/smoke/perl5/perlbrew/perls/perl-5.14.2/man
    PERLBREW_PATH = /home/smoke/perl5/perlbrew/bin:/home/smoke/perl5/perlbrew/perls/perl-5.14.2/bin
    PERLBREW_PERL = perl-5.14.2
    PERLBREW_ROOT = /home/smoke/perl5/perlbrew
    PERLBREW_VERSION = 0.41
    PERL_CR_SMOKER_CURRENT = Google-Directions-0.09
    PERL_EXTUTILS_AUTOINSTALL = --defaultdeps
    PERL_MM_USE_DEFAULT = 1
    SHELL = /usr/pkg/bin/bash
    TERM = xterm-color

Perl special variables (and OS-specific diagnostics, for MSWin32):

    $^X = /home/smoke/perl5/perlbrew/perls/perl-5.14.2/bin/perl
    $UID/$EUID = 1002 / 1002
    $GID = 100 100
    $EGID = 100 100

Perl module toolchain versions installed:

    Module              Have     
    ------------------- ---------
    CPAN                1.9600_01
    CPAN::Meta          2.120921 
    Cwd                 3.40     
    ExtUtils::CBuilder  0.280205 
    ExtUtils::Command   1.17     
    ExtUtils::Install   1.56     
    ExtUtils::MakeMaker 6.64     
    ExtUtils::Manifest  1.61     
    ExtUtils::ParseXS   3.18     
    File::Spec          3.40     
    JSON                2.53     
    JSON::PP            2.27200  
    Module::Build       0.4003   
    Module::Signature   n/a      
    Parse::CPAN::Meta   1.4404   
    Test::Harness       3.26     
    Test::More          0.98     
    YAML                0.84     
    YAML::Syck          1.22     
    version             0.9901   


--

Summary of my perl5 (revision 5 version 14 subversion 2) configuration:
   
  Platform:
    osname=netbsd, osvers=6.0.1, archname=i386-netbsd
    uname='netbsd prickle.zeroclue.com 6.0.1 netbsd 6.0.1 (generic) i386 '
    config_args='-de -Dprefix=/home/smoke/perl5/perlbrew/perls/perl-5.14.2'
    hint=recommended, useposix=true, d_sigaction=define
    useithreads=undef, usemultiplicity=undef
    useperlio=define, d_sfio=undef, uselargefiles=define, usesocks=undef
    use64bitint=undef, use64bitall=undef, uselongdouble=undef
    usemymalloc=n, bincompat5005=undef
  Compiler:
    cc='cc', ccflags ='-fno-strict-aliasing -pipe -fstack-protector -I/usr/pkg/include',
    optimize='-O',
    cppflags='-fno-strict-aliasing -pipe -fstack-protector -I/usr/pkg/include'
    ccversion='', gccversion='4.5.3', gccosandvers=''
    intsize=4, longsize=4, ptrsize=4, doublesize=8, byteorder=1234
    d_longlong=define, longlongsize=8, d_longdbl=define, longdblsize=12
    ivtype='long', ivsize=4, nvtype='double', nvsize=8, Off_t='off_t', lseeksize=8
    alignbytes=4, prototype=define
  Linker and Libraries:
    ld='cc', ldflags =' -Wl,-rpath,/usr/pkg/lib -Wl,-rpath,/usr/local/lib -fstack-protector -L/usr/pkg/lib'
    libpth=/usr/pkg/lib /lib /usr/lib
    libs=-lm -lcrypt -lutil -lc -lposix
    perllibs=-lm -lcrypt -lutil -lc -lposix
    libc=/lib/libc.so, so=so, useshrplib=false, libperl=libperl.a
    gnulibc_version=''
  Dynamic Linking:
    dlsrc=dl_dlopen.xs, dlext=so, d_dlsymun=undef, ccdlflags='-Wl,-E '
    cccdlflags='-DPIC -fPIC ', lddlflags='--whole-archive -shared  -L/usr/pkg/lib -fstack-protector'


Characteristics of this binary (from libperl): 
  Compile-time options: PERL_DONT_CREATE_GVSV PERL_MALLOC_WRAP
                        PERL_PRESERVE_IVUV USE_LARGE_FILES USE_PERLIO
                        USE_PERL_ATOF
  Built under netbsd
  Compiled at Feb  1 2013 00:11:44
  %ENV:
    PERL5LIB=""
    PERL5OPT=""
    PERL5_CPANPLUS_IS_RUNNING="18529"
    PERL5_CPAN_IS_RUNNING="18529"
    PERL5_CPAN_IS_RUNNING_IN_RECURSION="2346,18529"
    PERLBREW_BASHRC_VERSION="0.41"
    PERLBREW_HOME="/home/smoke/.perlbrew"
    PERLBREW_MANPATH="/home/smoke/perl5/perlbrew/perls/perl-5.14.2/man"
    PERLBREW_PATH="/home/smoke/perl5/perlbrew/bin:/home/smoke/perl5/perlbrew/perls/perl-5.14.2/bin"
    PERLBREW_PERL="perl-5.14.2"
    PERLBREW_ROOT="/home/smoke/perl5/perlbrew"
    PERLBREW_VERSION="0.41"
    PERL_CR_SMOKER_CURRENT="Google-Directions-0.09"
    PERL_EXTUTILS_AUTOINSTALL="--defaultdeps"
    PERL_MM_USE_DEFAULT="1"
  @INC:
    /home/smoke/perl5/perlbrew/perls/perl-5.14.2/lib/site_perl/5.14.2/i386-netbsd
    /home/smoke/perl5/perlbrew/perls/perl-5.14.2/lib/site_perl/5.14.2
    /home/smoke/perl5/perlbrew/perls/perl-5.14.2/lib/5.14.2/i386-netbsd
    /home/smoke/perl5/perlbrew/perls/perl-5.14.2/lib/5.14.2
    .