HTML-Shakan v2.10 Perl 5 v5.43.2 amd64-netbsd
- Status
- Pass
- From
- Carlos Guevara
- Dist
-
HTML-Shakan v2.10
- Platform
- Perl 5 v5.43.2 amd64-netbsd
- Date
- 2025-08-15 07:54:33
- ID
- 150f34f2-79ad-11f0-a710-c9d9616ba2e3
This distribution has been tested as part of the CPAN Testers
project, supporting the Perl programming language. See
http://wiki.cpantesters.org/ for more information or email
questions to cpan-testers-discuss@perl.org
--
Dear Masayuki Matsuki,
This is a computer-generated report for HTML-Shakan-2.10
on perl 5.43.2, created by CPAN-Reporter-1.2020.
Thank you for uploading your work to CPAN. Congratulations!
All tests were successful.
Sections of this report:
* Tester comments
* Program output
* Prerequisites
* Environment and other context
------------------------------
TESTER COMMENTS
------------------------------
Additional comments from tester:
this report is from an automated smoke testing program
and was not reviewed by a human for accuracy
------------------------------
PROGRAM OUTPUT
------------------------------
Output from './Build test':
t/00_compile.t ............................. ok
t/010_core/001_render.t .................... ok
# FVL: 0.41
t/010_core/002_validator.t ................. ok
t/010_core/003_widgets.t ................... ok
t/010_core/004_filter.t .................... ok
t/010_core/005_bind_filter.t ............... skipped: Test requires module 'Lingua::JA::Regular::Unicode' but it's not found
t/010_core/006_fillin_form.t ............... ok
t/010_core/007_fillin_date.t ............... ok
t/010_core/008_declare.t ................... ok
t/010_core/009_validator_message.t ......... ok
t/010_core/010_submitted.t ................. ok
t/010_core/011_custom_validation_form.t .... ok
t/010_core/012_custom_validation_field.t ... ok
t/010_core/013_render_field.t .............. ok
t/010_core/014_multi_value.t ............... ok
t/020_inflator/001_datetime.t .............. skipped: Test requires module 'DateTime::Format::HTTP' but it's not found
t/020_inflator/002_dt_join.t ............... skipped: Test requires module 'DateTime::Format::HTTP' but it's not found
# FVL: 0.41
t/030_field/001_file.t ..................... ok
# FVL: 0.41
t/030_field/002_image.t .................... ok
t/030_field/003_duplication.t .............. ok
t/040_model/001_datamodel.t ................ skipped: Test requires module 'Data::Model' but it's not found
t/040_model/002_skinny.t ................... skipped: Test requires module 'DBIx::Skinny' but it's not found
t/040_model/003_teng.t ..................... skipped: Test requires module 'Teng' but it's not found
t/999_regression/001_destructive_widget.t .. ok
t/upload_submitted.t ....................... ok
All tests successful.
Files=25, Tests=87, 4 wallclock secs ( 0.08 usr 0.03 sys + 2.83 cusr 0.93 csys = 3.87 CPU)
Result: PASS
------------------------------
PREREQUISITES
------------------------------
Prerequisite modules loaded:
requires:
Module Need Have
---------------------------- -------- --------
Email::Valid::Loose 0.05 0.05
FormValidator::Lite 0.24 0.41
Hash::MultiValue 0 0.16
HTML::Escape 0 1.11
List::MoreUtils 0.22 0.430
List::Util 1.32 1.70
Mouse 0.9 v2.5.11
parent 0 0.244
perl 5.008001 5.043002
Scalar::Util 0 1.70
build_requires:
Module Need Have
---------------------------- -------- --------
CGI 0 4.70
Test::More 0.98 1.302214
Test::Requires 0.06 0.11
configure_requires:
Module Need Have
---------------------------- -------- --------
Module::Build 0 0.4234
Module::Build::Tiny 0.035 0.052
opt_requires:
Module Need Have
---------------------------- -------- --------
DateTime 0 1.66
! DateTime::Format::HTTP 0 n/a
! HTML::Scrubber 0 n/a
! Lingua::JA::Regular::Unicode 0 n/a
opt_build_requires:
Module Need Have
---------------------------- -------- --------
! DBIx::Skinny 0 n/a
! DBIx::Skinny::Row 0 n/a
! DBIx::Skinny::Schema 0 n/a
! Teng 0 n/a
! Teng::Row 0 n/a
! Teng::Schema::Declare 0 n/a
------------------------------
ENVIRONMENT AND OTHER CONTEXT
------------------------------
Environment variables:
AUTOMATED_TESTING = 1
DATE_MANIP_TEST_DM5 = 1
LC_ALL = C
NONINTERACTIVE_TESTING = 1
NO_NETWORK_TESTING = 1
PATH = /home/cpan/bin/perl/bin:/home/cpan/bin:/home/cpan/bin:/bin:/sbin:/usr/bin:/usr/sbin:/usr/X11R7/bin:/usr/pkg/bin:/usr/pkg/sbin:/usr/games:/usr/local/bin:/usr/local/sbin
PERL5LIB =
PERL5OPT =
PERL5_CPANPLUS_IS_RUNNING = 10910
PERL5_CPAN_IS_RUNNING = 10910
PERL_MM_USE_DEFAULT = 1
PERL_PERTURB_KEYS = 0
PERL_USE_UNSAFE_INC = 1
SHELL = /usr/pkg/bin/bash
TERM = screen
TMPDIR = /home/cpan/tmp
Perl special variables (and OS-specific diagnostics, for MSWin32):
$^X = /home/cpan/bin/perl/bin/perl5.43.2
$UID/$EUID = 1003 / 1003
$GID = 100 100
$EGID = 100 100
Perl module toolchain versions installed:
Module Have
------------------- --------
CPAN 2.38
CPAN::Meta 2.150010
Cwd 3.94
ExtUtils::CBuilder 0.280242
ExtUtils::Command 7.76
ExtUtils::Install 2.22
ExtUtils::MakeMaker 7.76
ExtUtils::Manifest 1.75
ExtUtils::ParseXS 3.59
File::Spec 3.94
JSON 4.10
JSON::PP 4.16
Module::Build 0.4234
Module::Signature n/a
Parse::CPAN::Meta 2.150010
Test2 1.302214
Test::Harness 3.52
Test::More 1.302214
YAML 1.31
YAML::Syck 1.34
version 0.9933
--
Summary of my perl5 (revision 5 version 43 subversion 2) configuration:
Commit id: a7eccf4c2396f1609709ef0f81871662d4673ec6
Platform:
osname=netbsd
osvers=10.1
archname=amd64-netbsd
uname='netbsd cjg-netbsd10 10.1 netbsd 10.1 (generic) #0: mon dec 16 13:08:11 utc 2024 mkrepro@mkrepro.netbsd.org:usrsrcsysarchamd64compilegeneric amd64 '
config_args='-des -Dprefix=/home/cpan/bin/perl -Dscriptdir=/home/cpan/bin/perl/bin -Dusedevel -Duse64bitall'
hint=recommended
useposix=true
d_sigaction=define
useithreads=undef
usemultiplicity=undef
use64bitint=define
use64bitall=define
uselongdouble=undef
usemymalloc=n
default_inc_excludes_dot=define
Compiler:
cc='cc'
ccflags ='-fwrapv -fno-strict-aliasing -pipe -fstack-protector-strong -I/usr/pkg/include -D_FORTIFY_SOURCE=2'
optimize='-O'
cppflags='-fwrapv -fno-strict-aliasing -pipe -fstack-protector-strong -I/usr/pkg/include'
ccversion=''
gccversion='10.5.0'
gccosandvers=''
intsize=4
longsize=8
ptrsize=8
doublesize=8
byteorder=12345678
doublekind=3
d_longlong=define
longlongsize=8
d_longdbl=define
longdblsize=16
longdblkind=3
ivtype='long'
ivsize=8
nvtype='double'
nvsize=8
Off_t='off_t'
lseeksize=8
alignbytes=8
prototype=define
Linker and Libraries:
ld='cc'
ldflags =' -Wl,-rpath,/usr/pkg/lib -Wl,-rpath,/usr/local/lib -fstack-protector-strong -L/usr/pkg/lib'
libpth=/usr/lib /usr/pkg/lib /lib
libs=-lpthread -lm -lcrypt -lutil -lc -lposix
perllibs=-lpthread -lm -lcrypt -lutil -lc -lposix
libc=/lib/libc.so
so=so
useshrplib=false
libperl=libperl.a
gnulibc_version=''
Dynamic Linking:
dlsrc=dl_dlopen.xs
dlext=so
d_dlsymun=undef
ccdlflags='-Wl,-E '
cccdlflags='-DPIC -fPIC '
lddlflags='-shared -L/usr/pkg/lib -fstack-protector-strong'
Characteristics of this binary (from libperl):
Compile-time options:
HAS_LONG_DOUBLE
HAS_STRTOLD
HAS_TIMES
PERLIO_LAYERS
PERL_COPY_ON_WRITE
PERL_DONT_CREATE_GVSV
PERL_HASH_FUNC_SIPHASH13
PERL_HASH_USE_SBOX32
PERL_MALLOC_WRAP
PERL_OP_PARENT
PERL_PRESERVE_IVUV
PERL_USE_DEVEL
PERL_USE_SAFE_PUTENV
USE_64_BIT_ALL
USE_64_BIT_INT
USE_LARGE_FILES
USE_LOCALE
USE_LOCALE_COLLATE
USE_LOCALE_CTYPE
USE_LOCALE_NUMERIC
USE_LOCALE_TIME
USE_PERLIO
USE_PERL_ATOF
Built under netbsd
Compiled at Aug 14 2025 23:12:53
%ENV:
PERL5LIB=""
PERL5OPT=""
PERL5_CPANPLUS_IS_RUNNING="10910"
PERL5_CPAN_IS_RUNNING="10910"
PERL_MM_USE_DEFAULT="1"
PERL_PERTURB_KEYS="0"
PERL_USE_UNSAFE_INC="1"
@INC:
/home/cpan/bin/perl/lib/site_perl/5.43.2/amd64-netbsd
/home/cpan/bin/perl/lib/site_perl/5.43.2
/home/cpan/bin/perl/lib/5.43.2/amd64-netbsd
/home/cpan/bin/perl/lib/5.43.2
.