Devel-CheckLib v1.16 Perl 5 v5.34.1 i86pc-solaris
- Status
- Pass
- From
- Nigel Horne
- Dist
-
Devel-CheckLib v1.16
- Platform
- Perl 5 v5.34.1 i86pc-solaris
- Date
- 2022-05-12 13:54:45
- ID
- 14c54fb6-d1fb-11ec-8956-f37a6da33910
This distribution has been tested as part of the CPAN Testers
project, supporting the Perl programming language. See
http://wiki.cpantesters.org/ for more information or email
questions to cpan-testers-discuss@perl.org
--
Dear Yasuhiro Matsumoto,
This is a computer-generated report for Devel-CheckLib-1.16
on perl 5.34.1, created by CPAN-Reporter-1.2018.
Thank you for uploading your work to CPAN. Congratulations!
All tests were successful.
Sections of this report:
* Tester comments
* Program output
* Prerequisites
* Environment and other context
------------------------------
TESTER COMMENTS
------------------------------
Additional comments from tester:
this report is from an automated smoke testing program
and was not reviewed by a human for accuracy
------------------------------
PROGRAM OUTPUT
------------------------------
Output from '/usr/bin/make test':
PERL_DL_NONLAZY=1 "/export/home/njh/perl5/perlbrew/perls/perl-5.34.1/bin/perl5.34.1" "-MExtUtils::Command::MM" "-MTest::Harness" "-e" "undef *Test::Harness::Switches; test_harness(0, 'blib/lib', 'blib/arch')" t/*.t
t/00-load.t ................... ok
t/analyze-binary.t ............ ok
t/bad-single-word-compiler.t .. ok
t/cmdline-LIBS-INC.t .......... ok
t/custom-function.t ........... ok
t/dash-l-libs.t ............... ok
t/exit_with_message.t ......... ok
t/flags.t ..................... ok
t/found.t ..................... ok
t/headers.t ................... ok
t/multi-word-compiler.t ....... ok
t/not_found.t ................. ok
All tests successful.
Files=12, Tests=42, 6 wallclock secs ( 0.07 usr 0.03 sys + 2.92 cusr 1.74 csys = 4.75 CPU)
Result: PASS
------------------------------
PREREQUISITES
------------------------------
Prerequisite modules loaded:
requires:
Module Need Have
------------------- -------- --------
Exporter 0 5.76
File::Spec 0 3.80
File::Temp 0.16 0.2311
perl 5.004050 5.034001
build_requires:
Module Need Have
------------------- -------- --------
Capture::Tiny 0 0.48
ExtUtils::MakeMaker 0 7.64
Mock::Config 0.02 0.03
Test::More 0.88 1.302190
configure_requires:
Module Need Have
------------------- -------- --------
ExtUtils::MakeMaker 0 7.64
------------------------------
ENVIRONMENT AND OTHER CONTEXT
------------------------------
Environment variables:
AUTOMATED_TESTING = 1
LANG = en_US.UTF-8
NONINTERACTIVE_TESTING = 1
PATH = /export/home/njh/perl5/perlbrew/bin:/export/home/njh/perl5/perlbrew/perls/perl-5.34.1/bin:/export/home/njh/perl5/perlbrew/bin:/usr/bin:/usr/sbin:/sbin:/usr/gnu/bin
PERL5LIB =
PERL5OPT =
PERL5_CPANPLUS_IS_RUNNING = 27042
PERL5_CPAN_IS_RUNNING = 27042
PERLBREW_HOME = /export/home/njh/.perlbrew
PERLBREW_LIB =
PERLBREW_MANPATH = /export/home/njh/perl5/perlbrew/perls/perl-5.34.1/man
PERLBREW_PATH = /export/home/njh/perl5/perlbrew/bin:/export/home/njh/perl5/perlbrew/perls/perl-5.34.1/bin
PERLBREW_PERL = perl-5.34.1
PERLBREW_ROOT = /export/home/njh/perl5/perlbrew
PERLBREW_SHELLRC_VERSION = 0.92
PERLBREW_VERSION = 0.92
PERL_LOCAL_LIB_ROOT =
PERL_MM_USE_DEFAULT = 1
PERL_USE_UNSAFE_INC = 1
SHELL = /bin/bash
TERM = xterm-256color
Perl special variables (and OS-specific diagnostics, for MSWin32):
$^X = /export/home/njh/perl5/perlbrew/perls/perl-5.34.1/bin/perl5.34.1
$UID/$EUID = 101 / 101
$GID = 10 10
$EGID = 10 10
Perl module toolchain versions installed:
Module Have
------------------- --------
CPAN 2.33
CPAN::Meta 2.150010
Cwd 3.80
ExtUtils::CBuilder 0.280236
ExtUtils::Command 7.64
ExtUtils::Install 2.20
ExtUtils::MakeMaker 7.64
ExtUtils::Manifest 1.73
ExtUtils::ParseXS 3.44
File::Spec 3.80
JSON 4.05
JSON::PP 4.08
Module::Build 0.4231
Module::Signature 0.88
Parse::CPAN::Meta 2.150010
Test::Harness 3.44
Test::More 1.302190
YAML 1.30
YAML::Syck 1.34
version 0.9929
--
Summary of my perl5 (revision 5 version 34 subversion 1) configuration:
Platform:
osname=solaris
osvers=2.11
archname=i86pc-solaris
uname='sunos njh1 5.11 illumos-06524cf4e4 i86pc i386 i86pc '
config_args='-de -Dprefix=/export/home/njh/perl5/perlbrew/perls/perl-5.34.1 -Aeval:scriptdir=/export/home/njh/perl5/perlbrew/perls/perl-5.34.1/bin'
hint=recommended
useposix=true
d_sigaction=define
useithreads=undef
usemultiplicity=undef
use64bitint=undef
use64bitall=undef
uselongdouble=undef
usemymalloc=n
default_inc_excludes_dot=define
Compiler:
cc='/usr/bin/gcc'
ccflags ='-fwrapv -fno-strict-aliasing -pipe -fstack-protector-strong -I/usr/gnu/include -D_LARGEFILE_SOURCE -D_FILE_OFFSET_BITS=64 -D_FORTIFY_SOURCE=2 -DPERL_USE_SAFE_PUTENV'
optimize='-O'
cppflags='-fwrapv -fno-strict-aliasing -pipe -fstack-protector-strong -I/usr/gnu/include'
ccversion=''
gccversion='7.5.0'
gccosandvers=''
intsize=4
longsize=4
ptrsize=4
doublesize=8
byteorder=1234
doublekind=3
d_longlong=define
longlongsize=8
d_longdbl=define
longdblsize=12
longdblkind=3
ivtype='long'
ivsize=4
nvtype='double'
nvsize=8
Off_t='off_t'
lseeksize=8
alignbytes=4
prototype=define
Linker and Libraries:
ld='/usr/bin/gcc'
ldflags =' -fstack-protector-strong -L/usr/gnu/lib '
libpth=/usr/gcc/7/lib /usr/lib /usr/gnu/lib /usr/ccs/lib
libs=-lpthread -lsocket -lnsl -lgdbm -ldb -ldl -lm -lc
perllibs=-lpthread -lsocket -lnsl -ldl -lm -lc
libc=/lib/libc.so
so=so
useshrplib=true
libperl=libperl.so
gnulibc_version=''
Dynamic Linking:
dlsrc=dl_dlopen.xs
dlext=so
d_dlsymun=undef
ccdlflags=' -R /export/home/njh/perl5/perlbrew/perls/perl-5.34.1/lib/5.34.1/i86pc-solaris/CORE'
cccdlflags='-fPIC'
lddlflags='-shared -L/usr/gnu/lib -fstack-protector-strong'
Characteristics of this binary (from libperl):
Compile-time options:
HAS_TIMES
PERLIO_LAYERS
PERL_COPY_ON_WRITE
PERL_DONT_CREATE_GVSV
PERL_MALLOC_WRAP
PERL_OP_PARENT
PERL_PRESERVE_IVUV
PERL_USE_SAFE_PUTENV
USE_LARGE_FILES
USE_LOCALE
USE_LOCALE_COLLATE
USE_LOCALE_CTYPE
USE_LOCALE_NUMERIC
USE_LOCALE_TIME
USE_PERLIO
USE_PERL_ATOF
Built under solaris
Compiled at Mar 14 2022 08:55:50
%ENV:
PERL5LIB=""
PERL5OPT=""
PERL5_CPANPLUS_IS_RUNNING="27042"
PERL5_CPAN_IS_RUNNING="27042"
PERLBREW_HOME="/export/home/njh/.perlbrew"
PERLBREW_LIB=""
PERLBREW_MANPATH="/export/home/njh/perl5/perlbrew/perls/perl-5.34.1/man"
PERLBREW_PATH="/export/home/njh/perl5/perlbrew/bin:/export/home/njh/perl5/perlbrew/perls/perl-5.34.1/bin"
PERLBREW_PERL="perl-5.34.1"
PERLBREW_ROOT="/export/home/njh/perl5/perlbrew"
PERLBREW_SHELLRC_VERSION="0.92"
PERLBREW_VERSION="0.92"
PERL_LOCAL_LIB_ROOT=""
PERL_MM_USE_DEFAULT="1"
PERL_USE_UNSAFE_INC="1"
@INC:
/export/home/njh/perl5/perlbrew/perls/perl-5.34.1/lib/site_perl/5.34.1/i86pc-solaris
/export/home/njh/perl5/perlbrew/perls/perl-5.34.1/lib/site_perl/5.34.1
/export/home/njh/perl5/perlbrew/perls/perl-5.34.1/lib/5.34.1/i86pc-solaris
/export/home/njh/perl5/perlbrew/perls/perl-5.34.1/lib/5.34.1
.