LaTeXML v0.8.8 Perl 5 v5.24.2 x86_64-linux

Status
Pass
From
Andreas J. König (ANDK)
Dist
LaTeXML v0.8.8
Platform
Perl 5 v5.24.2 x86_64-linux
Date
2024-03-06 17:07:58
ID
14a26e50-dbdc-11ee-b6b1-5db8c993da3f
This distribution has been tested as part of the CPAN Testers
project, supporting the Perl programming language.  See
http://wiki.cpantesters.org/ for more information or email
questions to cpan-testers-discuss@perl.org


--
Dear Bruce Miller,

This is a computer-generated report for LaTeXML-0.8.8
on perl 5.24.2, created by CPAN-Reporter-1.2018.

Thank you for uploading your work to CPAN.  Congratulations!
All tests were successful.

Sections of this report:

    * Tester comments
    * Program output
    * Prerequisites
    * Environment and other context

------------------------------
TESTER COMMENTS
------------------------------

Additional comments from tester:

this report is from an automated smoke testing program
and was not reviewed by a human for accuracy

------------------------------
PROGRAM OUTPUT
------------------------------

Output from '/usr/bin/make test':

PERL_DL_NONLAZY=1 "/home/sand/src/perl/repoperls/installed-perls/host/k93msid/v5.24.2/da1c/bin/perl" "-MExtUtils::Command::MM" "-MTest::Harness" "-e" "undef *Test::Harness::Switches; test_harness(0, 'blib/lib', 'blib/arch')" t/*.t
# 
#   LaTeXML version 0.8.8
#   XML::LibXML 2.0207; libxml2 20914
#   XML::LibXSLT 2.002001; libxslt 10135
#   TeX 3.141592653 (TeX Live 2023/Debian)
t/000_test_context.t ...... ok
t/002_unit_findfile.t ..... ok
# Skip: This unit test only examines basic Image::Magick conversion, when installed.
t/003_unit_imagemagick.t .. ok
t/00_unittest.t ........... ok
t/05_tokenize.t ........... ok
# Skip: Missing requirement etoolbox.sty for t/expansion/etoolbox
# Skip: Missing requirement ifthen.sty for t/expansion/ifthen
# Skip: Missing requirement t1enc.def for t/expansion/meaning
# Skip: Missing requirement textcase.sty for t/expansion/textcase
t/10_expansion.t .......... ok
t/12_grouping.t ........... ok
t/170_grammar_coverage.t .. skipped: Only checked in continuous integration. (use make test CI=true)
t/20_digestion.t .......... ok
t/22_fonts.t .............. ok
# Skip: Missing requirement ansinew.def for t/encoding/ansinew
# Skip: Missing requirement applemac.def for t/encoding/applemac
# Skip: Missing requirement cp1250.def for t/encoding/cp1250
# Skip: Missing requirement cp1252.def for t/encoding/cp1252
# Skip: Missing requirement cp437.def for t/encoding/cp437
# Skip: Missing requirement cp437de.def for t/encoding/cp437de
# Skip: Missing requirement cp850.def for t/encoding/cp850
# Skip: Missing requirement cp852.def for t/encoding/cp852
# Skip: Missing requirement cp858.def for t/encoding/cp858
# Skip: Missing requirement cp865.def for t/encoding/cp865
# Skip: Missing requirement decmulti.def for t/encoding/decmulti
# Skip: Missing requirement latin1.def for t/encoding/latin1
# Skip: Missing requirement latin10.def for t/encoding/latin10
# Skip: Missing requirement latin2.def for t/encoding/latin2
# Skip: Missing requirement latin3.def for t/encoding/latin3
# Skip: Missing requirement latin4.def for t/encoding/latin4
# Skip: Missing requirement latin5.def for t/encoding/latin5
# Skip: Missing requirement latin9.def for t/encoding/latin9
# Skip: Missing requirement ly1enc.def for t/encoding/ly1
# Skip: Missing requirement ot1enc.def for t/encoding/ot1
# Skip: Missing requirement t1enc.def for t/encoding/t1
# Skip: Missing requirement t2aenc.def for t/encoding/t2a
# Skip: Missing requirement t2benc.def for t/encoding/t2b
# Skip: Missing requirement t2cenc.def for t/encoding/t2c
# Skip: Missing requirement ts1enc.def for t/encoding/ts1
t/30_encoding.t ........... ok
# Skip: Missing requirement xkvview.sty for t/keyval/xkeyvalview
t/32_keyval.t ............. ok
t/33_keyval_options.t ..... ok
t/40_math.t ............... ok
# Skip: Missing requirement amsart.cls for t/structure/amsarticle
# Skip: Missing requirement csquotes.sty for t/structure/csquotes
# Skip: Missing requirement graphicx.sty for t/structure/figure_grids
# Skip: Missing requirement glossaries.sty for t/structure/glossary
t/50_structure.t .......... ok
t/52_namespace.t .......... ok
# Skip: Missing requirement algorithm.sty for t/alignment/algx
# Skip: Missing requirement makecell.sty for t/alignment/cells
# Skip: Missing requirement listings.cfg for t/alignment/listing
t/53_alignment.t .......... ok
# Skip: Missing requirement ntheorem.std for t/theorem/ntheorem
t/55_theorem.t ............ ok
t/56_ams.t ................ ok
# Skip: Missing requirement dvipsnam.def for t/graphics/colors
# Skip: Missing requirement dvipsnam.def for t/graphics/xcolors
t/65_graphics.t ........... ok
t/70_parse.t .............. ok
# Skip: Missing requirement cleveref.sty for t/complex/cleveref_minimal
# Skip: Missing requirement graphicx.sty for t/complex/figure_dual_caption
# Skip: Missing requirement graphicx.sty for t/complex/figure_mixed_content
# Skip: Missing requirement siunitx.sty for t/complex/si
t/80_complex.t ............ ok
# Skip: Missing requirement babel.sty for t/babel/csquotes
# Skip: Missing requirement babel.sty for t/babel/french
# Skip: Missing requirement babel.sty for t/babel/german
# Skip: Missing requirement babel.sty for t/babel/greek
# Skip: Missing requirement babel.sty for t/babel/numprints
# Skip: Missing requirement babel.sty for t/babel/page545
t/81_babel.t .............. ok
t/82_moderncv.t ........... ok
# Skip: Missing requirement expl3.sty for t/expl3/tilde_tricks
# Skip: Missing requirement expl3.sty for t/expl3/xparse
t/83_expl3.t .............. ok
t/84_slides.t ............. ok
t/90_latexmlpost.t ........ ok
t/91_latexmlc_api.t ....... ok
# Skip: Missing requirement dvipsnam.def for t/daemon/profiles/fragment
# Skip: Missing requirement dvipsnam.def for t/daemon/profiles/math
t/92_profiles.t ........... ok
t/931_epub.t .............. ok
# Skip: Missing requirement amsart.cls for t/daemon/formats/jats
# Skip: Missing requirement amsart.cls for t/daemon/formats/tei
t/93_formats.t ............ ok
t/94_runtimes.t ........... ok
t/95_complex_config.t ..... ok
t/96_fatal.t .............. ok
t/97_manifest.t ........... skipped: Only checked in continuous integration. (use make test CI=true)
All tests successful.
Files=35, Tests=452, 298 wallclock secs ( 0.14 usr  0.07 sys + 276.10 cusr 12.35 csys = 288.66 CPU)
Result: PASS

------------------------------
PREREQUISITES
------------------------------

Prerequisite modules loaded:

requires:

    Module              Need     Have    
    ------------------- -------- --------
    Archive::Zip        0        1.68    
    DB_File             0        1.858   
    File::Which         0        1.27    
    Getopt::Long        2.37     2.57    
    Image::Size         0        3.300   
    IO::Handle          0        1.51    
    IO::String          0        1.08    
    JSON::XS            0        4.03    
    LWP                 0        6.76    
    MIME::Base64        0        3.16    
    Parse::RecDescent   0        1.967015
    perl                5.010001 5.024002
    Pod::Parser         0        1.63    
    Test::More          0        1.302195
    Text::Unidecode     0        1.30    
    Time::HiRes         0        1.9764  
    URI                 0        5.21    
    version             0        0.9929  
    XML::LibXML         1.61     2.0207  
    XML::LibXSLT        1.58     2.002001

build_requires:

    Module              Need     Have    
    ------------------- -------- --------
    ExtUtils::MakeMaker 0        7.70    


------------------------------
ENVIRONMENT AND OTHER CONTEXT
------------------------------

Environment variables:

    AUTOMATED_TESTING = 1
    LANG = en_US.UTF-8
    LANGUAGE = en_US:en
    PATH = /home/sand/bin:/usr/local/bin:/usr/bin:/bin:/usr/games:/usr/local/perl/bin:/usr/X11/bin:/sbin:/usr/sbin
    PERL5LIB = 
    PERL5OPT = 
    PERL5_CPANPLUS_IS_RUNNING = 1382793
    PERL5_CPAN_IS_RUNNING = 1382793
    PERL_CANARY_STABILITY_NOPROMPT = 1
    PERL_MM_USE_DEFAULT = 1
    PERL_USE_UNSAFE_INC = 1
    SHELL = /usr/bin/zsh
    TERM = screen

Perl special variables (and OS-specific diagnostics, for MSWin32):

    $^X = /home/sand/src/perl/repoperls/installed-perls/host/k93msid/v5.24.2/da1c/bin/perl
    $UID/$EUID = 1005 / 1005
    $GID = 1005 1005
    $EGID = 1005 1005

Perl module toolchain versions installed:

    Module              Have    
    ------------------- --------
    CPAN                2.34    
    CPAN::Meta          2.150010
    Cwd                 3.75    
    ExtUtils::CBuilder  0.280236
    ExtUtils::Command   7.70    
    ExtUtils::Install   2.20    
    ExtUtils::MakeMaker 7.70    
    ExtUtils::Manifest  1.70    
    ExtUtils::ParseXS   3.51    
    File::Spec          3.75    
    JSON                4.10    
    JSON::PP            4.12    
    Module::Build       0.42_35 
    Module::Signature   0.88    
    Parse::CPAN::Meta   2.150010
    Test::Harness       3.44    
    Test::More          1.302195
    YAML                1.30    
    YAML::Syck          1.34    
    version             0.9929  


--

Summary of my perl5 (revision 5 version 24 subversion 2) configuration:
  Derived from: eb3b805818a89c08b5564d383beddf70f69af1a3
  Platform:
    osname=linux, osvers=5.16.0-5-amd64, archname=x86_64-linux
    uname='linux k93msid 5.16.0-5-amd64 #1 smp preempt debian 5.16.14-1 (2022-03-15) x86_64 gnulinux '
    config_args='-Dprefix=/home/sand/src/perl/repoperls/installed-perls/host/k93msid/v5.24.2/da1c -Dmyhostname=k93msid -Dinstallusrbinperl=n -Uversiononly -Dusedevel -des -Ui_db -Dlibswanted=cl pthread socket inet nsl gdbm dbm malloc dl ld sun m crypt sec util c cposix posix ucb BSD gdbm_compat -Uuseithreads -Uuselongdouble -DEBUGGING=-g'
    hint=recommended, useposix=true, d_sigaction=define
    useithreads=undef, usemultiplicity=undef
    use64bitint=define, use64bitall=define, uselongdouble=undef
    usemymalloc=n, bincompat5005=undef
  Compiler:
    cc='cc', ccflags ='-fwrapv -fno-strict-aliasing -pipe -fstack-protector-strong -I/usr/local/include -D_LARGEFILE_SOURCE -D_FILE_OFFSET_BITS=64 -D_FORTIFY_SOURCE=2',
    optimize='-O2 -g',
    cppflags='-fwrapv -fno-strict-aliasing -pipe -fstack-protector-strong -I/usr/local/include'
    ccversion='', gccversion='11.2.0', gccosandvers=''
    intsize=4, longsize=8, ptrsize=8, doublesize=8, byteorder=12345678, doublekind=3
    d_longlong=define, longlongsize=8, d_longdbl=define, longdblsize=16, longdblkind=3
    ivtype='long', ivsize=8, nvtype='double', nvsize=8, Off_t='off_t', lseeksize=8
    alignbytes=8, prototype=define
  Linker and Libraries:
    ld='cc', ldflags =' -fstack-protector-strong -L/usr/local/lib'
    libpth=/usr/local/lib /usr/include/x86_64-linux-gnu /usr/lib /lib/x86_64-linux-gnu /lib/../lib /usr/lib/x86_64-linux-gnu /usr/lib/../lib /lib
    libs=-lpthread -lnsl -ldl -lm -lcrypt -lutil -lc
    perllibs=-lpthread -lnsl -ldl -lm -lcrypt -lutil -lc
    libc=libc-2.33.so, so=so, useshrplib=false, libperl=libperl.a
    gnulibc_version='2.33'
  Dynamic Linking:
    dlsrc=dl_dlopen.xs, dlext=so, d_dlsymun=undef, ccdlflags='-Wl,-E'
    cccdlflags='-fPIC', lddlflags='-shared -O2 -g -L/usr/local/lib -fstack-protector-strong'


Characteristics of this binary (from libperl): 
  Compile-time options: HAS_TIMES PERLIO_LAYERS PERL_COPY_ON_WRITE
                        PERL_DONT_CREATE_GVSV
                        PERL_HASH_FUNC_ONE_AT_A_TIME_HARD PERL_MALLOC_WRAP
                        PERL_PRESERVE_IVUV PERL_USE_DEVEL USE_64_BIT_ALL
                        USE_64_BIT_INT USE_LARGE_FILES USE_LOCALE
                        USE_LOCALE_COLLATE USE_LOCALE_CTYPE
                        USE_LOCALE_NUMERIC USE_LOCALE_TIME USE_PERLIO
                        USE_PERL_ATOF
  Locally applied patches:
	uncommitted-changes
  Built under linux
  Compiled at Mar 19 2022 21:05:34
  %ENV:
    PERL5LIB=""
    PERL5OPT=""
    PERL5_CPANPLUS_IS_RUNNING="1382793"
    PERL5_CPAN_IS_RUNNING="1382793"
    PERL_CANARY_STABILITY_NOPROMPT="1"
    PERL_MM_USE_DEFAULT="1"
    PERL_USE_UNSAFE_INC="1"
  @INC:
    /home/sand/src/perl/repoperls/installed-perls/host/k93msid/v5.24.2/da1c/lib/site_perl/5.24.2/x86_64-linux
    /home/sand/src/perl/repoperls/installed-perls/host/k93msid/v5.24.2/da1c/lib/site_perl/5.24.2
    /home/sand/src/perl/repoperls/installed-perls/host/k93msid/v5.24.2/da1c/lib/5.24.2/x86_64-linux
    /home/sand/src/perl/repoperls/installed-perls/host/k93msid/v5.24.2/da1c/lib/5.24.2
    .