Test-Moose-More v0.050 Perl 5 v5.39.10 amd64-midnightbsd-thread-multi

Status
Pass
From
Carlos Guevara
Dist
Test-Moose-More v0.050
Platform
Perl 5 v5.39.10 amd64-midnightbsd-thread-multi
Date
2024-04-21 14:47:30
ID
14433c4c-ffee-11ee-bf36-a6a2674497f6
This distribution has been tested as part of the CPAN Testers
project, supporting the Perl programming language.  See
http://wiki.cpantesters.org/ for more information or email
questions to cpan-testers-discuss@perl.org


--
Dear Chris Weyl,

This is a computer-generated report for Test-Moose-More-0.050
on perl 5.39.10, created by CPAN-Reporter-1.2019.

Thank you for uploading your work to CPAN.  Congratulations!
All tests were successful.

Sections of this report:

    * Tester comments
    * Program output
    * Prerequisites
    * Environment and other context

------------------------------
TESTER COMMENTS
------------------------------

Additional comments from tester:

this report is from an automated smoke testing program
and was not reviewed by a human for accuracy

------------------------------
PROGRAM OUTPUT
------------------------------

Output from '/usr/bin/make test':

PERL_DL_NONLAZY=1 "/usr/home/cpan/bin/perl/bin/perl5.39.10" "-MExtUtils::Command::MM" "-MTest::Harness" "-e" "undef *Test::Harness::Switches; test_harness(0, 'blib/lib', 'blib/arch')" t/*.t t/attribute_options_ok/*.t t/is_class_ok/*.t t/validate_attribute/*.t t/validate_class/*.t t/validate_role/*.t t/validate_thing/*.t t/wrapped/*.t
t/00-check-deps.t ...................................... ok
Smartmatch is deprecated at (eval 10) line 8.
Smartmatch is deprecated at (eval 10) line 15.
Smartmatch is deprecated at (eval 11) line 8.
Smartmatch is deprecated at (eval 11) line 15.
Smartmatch is deprecated at (eval 12) line 8.
Smartmatch is deprecated at (eval 12) line 15.
Smartmatch is deprecated at (eval 13) line 11.
Smartmatch is deprecated at (eval 13) line 21.
t/00-compile.t ......................................... ok
# 
# Versions for all modules listed in MYMETA.json (including optional ones):
# 
# === Configure Requires ===
# 
#     Module              Want Have
#     ------------------- ---- ----
#     ExtUtils::MakeMaker  any 7.70
# 
# === Build Requires ===
# 
#     Module              Want Have
#     ------------------- ---- ----
#     ExtUtils::MakeMaker  any 7.70
# 
# === Test Requires ===
# 
#     Module                  Want     Have
#     ---------------------- ----- --------
#     ExtUtils::MakeMaker      any     7.70
#     File::Spec               any     3.90
#     IO::Handle               any     1.55
#     IPC::Open3               any     1.22
#     List::Util              1.45     1.63
#     Moose                    any   2.2207
#     Moose::Meta::Attribute   any   2.2207
#     Moose::Role              any   2.2207
#     Moose::Util::MetaRole    any   2.2207
#     TAP::SimpleOutput      0.009    0.009
#     Test::Builder::Tester    any 1.302198
#     Test::CheckDeps        0.010    0.010
#     Test::More              0.94 1.302198
#     namespace::autoclean     any     0.29
# 
# === Test Recommends ===
# 
#     Module         Want     Have
#     ---------- -------- --------
#     CPAN::Meta 2.120900 2.150010
# 
# === Runtime Requires ===
# 
#     Module                       Want     Have
#     ---------------------------- ---- --------
#     Carp                          any     1.54
#     Data::OptList                 any    0.114
#     List::MoreUtils               any    0.430
#     List::Util                   1.45     1.63
#     Moose::Util                   any   2.2207
#     Moose::Util::TypeConstraints  any   2.2207
#     Scalar::Util                  any     1.63
#     Sub::Exporter::Progressive    any 0.001013
#     Syntax::Keyword::Junction     any 0.003008
#     Test::Builder                 any 1.302198
#     Test::Moose                   any   2.2207
#     Test::More                   0.94 1.302198
#     strict                        any     1.13
#     warnings                      any     1.69
# 
t/00-report-prereqs.t .................................. ok
Smartmatch is deprecated at (eval 10) line 8.
Smartmatch is deprecated at (eval 10) line 15.
Smartmatch is deprecated at (eval 11) line 8.
Smartmatch is deprecated at (eval 11) line 15.
Smartmatch is deprecated at (eval 12) line 8.
Smartmatch is deprecated at (eval 12) line 15.
Smartmatch is deprecated at (eval 13) line 11.
Smartmatch is deprecated at (eval 13) line 21.
t/attribute_options_ok/basic.t ......................... ok
Smartmatch is deprecated at (eval 10) line 8.
Smartmatch is deprecated at (eval 10) line 15.
Smartmatch is deprecated at (eval 11) line 8.
Smartmatch is deprecated at (eval 11) line 15.
Smartmatch is deprecated at (eval 12) line 8.
Smartmatch is deprecated at (eval 12) line 15.
Smartmatch is deprecated at (eval 13) line 11.
Smartmatch is deprecated at (eval 13) line 21.
t/attribute_options_ok/subtest-wrapper.t ............... ok
Smartmatch is deprecated at (eval 163) line 8.
Smartmatch is deprecated at (eval 163) line 15.
Smartmatch is deprecated at (eval 164) line 8.
Smartmatch is deprecated at (eval 164) line 15.
Smartmatch is deprecated at (eval 165) line 8.
Smartmatch is deprecated at (eval 165) line 15.
Smartmatch is deprecated at (eval 166) line 11.
Smartmatch is deprecated at (eval 166) line 21.
t/check_sugar.t ........................................ ok
Smartmatch is deprecated at (eval 10) line 8.
Smartmatch is deprecated at (eval 10) line 15.
Smartmatch is deprecated at (eval 11) line 8.
Smartmatch is deprecated at (eval 11) line 15.
Smartmatch is deprecated at (eval 12) line 8.
Smartmatch is deprecated at (eval 12) line 15.
Smartmatch is deprecated at (eval 13) line 11.
Smartmatch is deprecated at (eval 13) line 21.
t/definition_context.t ................................. ok
Smartmatch is deprecated at (eval 10) line 8.
Smartmatch is deprecated at (eval 10) line 15.
Smartmatch is deprecated at (eval 11) line 8.
Smartmatch is deprecated at (eval 11) line 15.
Smartmatch is deprecated at (eval 12) line 8.
Smartmatch is deprecated at (eval 12) line 15.
Smartmatch is deprecated at (eval 13) line 11.
Smartmatch is deprecated at (eval 13) line 21.
t/does_metaroles_ok.t .................................. ok
Smartmatch is deprecated at (eval 10) line 8.
Smartmatch is deprecated at (eval 10) line 15.
Smartmatch is deprecated at (eval 11) line 8.
Smartmatch is deprecated at (eval 11) line 15.
Smartmatch is deprecated at (eval 12) line 8.
Smartmatch is deprecated at (eval 12) line 15.
Smartmatch is deprecated at (eval 13) line 11.
Smartmatch is deprecated at (eval 13) line 21.
t/does_not_metaroles_ok.t .............................. ok
Smartmatch is deprecated at (eval 175) line 8.
Smartmatch is deprecated at (eval 175) line 15.
Smartmatch is deprecated at (eval 176) line 8.
Smartmatch is deprecated at (eval 176) line 15.
Smartmatch is deprecated at (eval 177) line 8.
Smartmatch is deprecated at (eval 177) line 15.
Smartmatch is deprecated at (eval 178) line 11.
Smartmatch is deprecated at (eval 178) line 21.
t/does_not_ok.t ........................................ ok
Smartmatch is deprecated at (eval 179) line 8.
Smartmatch is deprecated at (eval 179) line 15.
Smartmatch is deprecated at (eval 180) line 8.
Smartmatch is deprecated at (eval 180) line 15.
Smartmatch is deprecated at (eval 181) line 8.
Smartmatch is deprecated at (eval 181) line 15.
Smartmatch is deprecated at (eval 182) line 11.
Smartmatch is deprecated at (eval 182) line 21.
t/does_ok.t ............................................ ok
Smartmatch is deprecated at (eval 167) line 8.
Smartmatch is deprecated at (eval 167) line 15.
Smartmatch is deprecated at (eval 168) line 8.
Smartmatch is deprecated at (eval 168) line 15.
Smartmatch is deprecated at (eval 169) line 8.
Smartmatch is deprecated at (eval 169) line 15.
Smartmatch is deprecated at (eval 170) line 11.
Smartmatch is deprecated at (eval 170) line 21.
t/has_attribute_ok.t ................................... ok
Smartmatch is deprecated at (eval 10) line 8.
Smartmatch is deprecated at (eval 10) line 15.
Smartmatch is deprecated at (eval 11) line 8.
Smartmatch is deprecated at (eval 11) line 15.
Smartmatch is deprecated at (eval 12) line 8.
Smartmatch is deprecated at (eval 12) line 15.
Smartmatch is deprecated at (eval 13) line 11.
Smartmatch is deprecated at (eval 13) line 21.
t/is_anon_ok.t ......................................... ok
Smartmatch is deprecated at (eval 163) line 8.
Smartmatch is deprecated at (eval 163) line 15.
Smartmatch is deprecated at (eval 164) line 8.
Smartmatch is deprecated at (eval 164) line 15.
Smartmatch is deprecated at (eval 165) line 8.
Smartmatch is deprecated at (eval 165) line 15.
Smartmatch is deprecated at (eval 166) line 11.
Smartmatch is deprecated at (eval 166) line 21.
t/is_class_ok/basic.t .................................. ok
Smartmatch is deprecated at (eval 10) line 8.
Smartmatch is deprecated at (eval 10) line 15.
Smartmatch is deprecated at (eval 11) line 8.
Smartmatch is deprecated at (eval 11) line 15.
Smartmatch is deprecated at (eval 12) line 8.
Smartmatch is deprecated at (eval 12) line 15.
Smartmatch is deprecated at (eval 13) line 11.
Smartmatch is deprecated at (eval 13) line 21.
t/is_class_ok/moose-meta-attribute-should-be-moosey.t .. ok
Smartmatch is deprecated at (eval 163) line 8.
Smartmatch is deprecated at (eval 163) line 15.
Smartmatch is deprecated at (eval 164) line 8.
Smartmatch is deprecated at (eval 164) line 15.
Smartmatch is deprecated at (eval 165) line 8.
Smartmatch is deprecated at (eval 165) line 15.
Smartmatch is deprecated at (eval 166) line 11.
Smartmatch is deprecated at (eval 166) line 21.
t/is_immutable_ok.t .................................... ok
Smartmatch is deprecated at (eval 10) line 8.
Smartmatch is deprecated at (eval 10) line 15.
Smartmatch is deprecated at (eval 11) line 8.
Smartmatch is deprecated at (eval 11) line 15.
Smartmatch is deprecated at (eval 12) line 8.
Smartmatch is deprecated at (eval 12) line 15.
Smartmatch is deprecated at (eval 13) line 11.
Smartmatch is deprecated at (eval 13) line 21.
t/is_not_anon_ok.t ..................................... ok
Smartmatch is deprecated at (eval 163) line 8.
Smartmatch is deprecated at (eval 163) line 15.
Smartmatch is deprecated at (eval 164) line 8.
Smartmatch is deprecated at (eval 164) line 15.
Smartmatch is deprecated at (eval 165) line 8.
Smartmatch is deprecated at (eval 165) line 15.
Smartmatch is deprecated at (eval 166) line 11.
Smartmatch is deprecated at (eval 166) line 21.
t/is_role_ok.t ......................................... ok
Smartmatch is deprecated at (eval 163) line 8.
Smartmatch is deprecated at (eval 163) line 15.
Smartmatch is deprecated at (eval 164) line 8.
Smartmatch is deprecated at (eval 164) line 15.
Smartmatch is deprecated at (eval 165) line 8.
Smartmatch is deprecated at (eval 165) line 15.
Smartmatch is deprecated at (eval 166) line 11.
Smartmatch is deprecated at (eval 166) line 21.
t/meta_ok.t ............................................ ok
Smartmatch is deprecated at (eval 10) line 8.
Smartmatch is deprecated at (eval 10) line 15.
Smartmatch is deprecated at (eval 11) line 8.
Smartmatch is deprecated at (eval 11) line 15.
Smartmatch is deprecated at (eval 12) line 8.
Smartmatch is deprecated at (eval 12) line 15.
Smartmatch is deprecated at (eval 13) line 11.
Smartmatch is deprecated at (eval 13) line 21.
t/method_from_pkg_ok.t ................................. ok
Smartmatch is deprecated at (eval 10) line 8.
Smartmatch is deprecated at (eval 10) line 15.
Smartmatch is deprecated at (eval 11) line 8.
Smartmatch is deprecated at (eval 11) line 15.
Smartmatch is deprecated at (eval 12) line 8.
Smartmatch is deprecated at (eval 12) line 15.
Smartmatch is deprecated at (eval 13) line 11.
Smartmatch is deprecated at (eval 13) line 21.
t/method_is_accessor_ok.t .............................. ok
Smartmatch is deprecated at (eval 10) line 8.
Smartmatch is deprecated at (eval 10) line 15.
Smartmatch is deprecated at (eval 11) line 8.
Smartmatch is deprecated at (eval 11) line 15.
Smartmatch is deprecated at (eval 12) line 8.
Smartmatch is deprecated at (eval 12) line 15.
Smartmatch is deprecated at (eval 13) line 11.
Smartmatch is deprecated at (eval 13) line 21.
t/method_is_not_accessor_ok.t .......................... ok
Smartmatch is deprecated at (eval 10) line 8.
Smartmatch is deprecated at (eval 10) line 15.
Smartmatch is deprecated at (eval 11) line 8.
Smartmatch is deprecated at (eval 11) line 15.
Smartmatch is deprecated at (eval 12) line 8.
Smartmatch is deprecated at (eval 12) line 15.
Smartmatch is deprecated at (eval 13) line 11.
Smartmatch is deprecated at (eval 13) line 21.
t/method_not_from_pkg_ok.t ............................. ok
Smartmatch is deprecated at (eval 167) line 8.
Smartmatch is deprecated at (eval 167) line 15.
Smartmatch is deprecated at (eval 168) line 8.
Smartmatch is deprecated at (eval 168) line 15.
Smartmatch is deprecated at (eval 169) line 8.
Smartmatch is deprecated at (eval 169) line 15.
Smartmatch is deprecated at (eval 170) line 11.
Smartmatch is deprecated at (eval 170) line 21.
t/method_ok.t .......................................... ok
Smartmatch is deprecated at (eval 163) line 8.
Smartmatch is deprecated at (eval 163) line 15.
Smartmatch is deprecated at (eval 164) line 8.
Smartmatch is deprecated at (eval 164) line 15.
Smartmatch is deprecated at (eval 165) line 8.
Smartmatch is deprecated at (eval 165) line 15.
Smartmatch is deprecated at (eval 166) line 11.
Smartmatch is deprecated at (eval 166) line 21.
t/no_meta_ok.t ......................................... ok
Smartmatch is deprecated at (eval 10) line 8.
Smartmatch is deprecated at (eval 10) line 15.
Smartmatch is deprecated at (eval 11) line 8.
Smartmatch is deprecated at (eval 11) line 15.
Smartmatch is deprecated at (eval 12) line 8.
Smartmatch is deprecated at (eval 12) line 15.
Smartmatch is deprecated at (eval 13) line 11.
Smartmatch is deprecated at (eval 13) line 21.
t/pristine_ok.t ........................................ ok
Smartmatch is deprecated at (eval 161) line 8.
Smartmatch is deprecated at (eval 161) line 15.
Smartmatch is deprecated at (eval 162) line 8.
Smartmatch is deprecated at (eval 162) line 15.
Smartmatch is deprecated at (eval 163) line 8.
Smartmatch is deprecated at (eval 163) line 15.
Smartmatch is deprecated at (eval 164) line 11.
Smartmatch is deprecated at (eval 164) line 21.
t/requires_method_ok.t ................................. ok
Smartmatch is deprecated at (eval 10) line 8.
Smartmatch is deprecated at (eval 10) line 15.
Smartmatch is deprecated at (eval 11) line 8.
Smartmatch is deprecated at (eval 11) line 15.
Smartmatch is deprecated at (eval 12) line 8.
Smartmatch is deprecated at (eval 12) line 15.
Smartmatch is deprecated at (eval 13) line 11.
Smartmatch is deprecated at (eval 13) line 21.
t/subtest-1.t .......................................... ok
Smartmatch is deprecated at (eval 10) line 8.
Smartmatch is deprecated at (eval 10) line 15.
Smartmatch is deprecated at (eval 11) line 8.
Smartmatch is deprecated at (eval 11) line 15.
Smartmatch is deprecated at (eval 12) line 8.
Smartmatch is deprecated at (eval 12) line 15.
Smartmatch is deprecated at (eval 13) line 11.
Smartmatch is deprecated at (eval 13) line 21.
t/validate_attribute/basic.t ........................... ok
Smartmatch is deprecated at (eval 10) line 8.
Smartmatch is deprecated at (eval 10) line 15.
Smartmatch is deprecated at (eval 11) line 8.
Smartmatch is deprecated at (eval 11) line 15.
Smartmatch is deprecated at (eval 12) line 8.
Smartmatch is deprecated at (eval 12) line 15.
Smartmatch is deprecated at (eval 13) line 11.
Smartmatch is deprecated at (eval 13) line 21.
t/validate_attribute/coerce.t .......................... ok
Smartmatch is deprecated at (eval 10) line 8.
Smartmatch is deprecated at (eval 10) line 15.
Smartmatch is deprecated at (eval 11) line 8.
Smartmatch is deprecated at (eval 11) line 15.
Smartmatch is deprecated at (eval 12) line 8.
Smartmatch is deprecated at (eval 12) line 15.
Smartmatch is deprecated at (eval 13) line 11.
Smartmatch is deprecated at (eval 13) line 21.
t/validate_attribute/in_roles.t ........................ ok
Smartmatch is deprecated at (eval 10) line 8.
Smartmatch is deprecated at (eval 10) line 15.
Smartmatch is deprecated at (eval 11) line 8.
Smartmatch is deprecated at (eval 11) line 15.
Smartmatch is deprecated at (eval 12) line 8.
Smartmatch is deprecated at (eval 12) line 15.
Smartmatch is deprecated at (eval 13) line 11.
Smartmatch is deprecated at (eval 13) line 21.
t/validate_attribute/lazy.t ............................ ok
Smartmatch is deprecated at (eval 10) line 8.
Smartmatch is deprecated at (eval 10) line 15.
Smartmatch is deprecated at (eval 11) line 8.
Smartmatch is deprecated at (eval 11) line 15.
Smartmatch is deprecated at (eval 12) line 8.
Smartmatch is deprecated at (eval 12) line 15.
Smartmatch is deprecated at (eval 13) line 11.
Smartmatch is deprecated at (eval 13) line 21.
t/validate_attribute/required.t ........................ ok
Smartmatch is deprecated at (eval 167) line 8.
Smartmatch is deprecated at (eval 167) line 15.
Smartmatch is deprecated at (eval 168) line 8.
Smartmatch is deprecated at (eval 168) line 15.
Smartmatch is deprecated at (eval 169) line 8.
Smartmatch is deprecated at (eval 169) line 15.
Smartmatch is deprecated at (eval 170) line 11.
Smartmatch is deprecated at (eval 170) line 21.
t/validate_class/basic.t ............................... ok
Smartmatch is deprecated at (eval 165) line 8.
Smartmatch is deprecated at (eval 165) line 15.
Smartmatch is deprecated at (eval 166) line 8.
Smartmatch is deprecated at (eval 166) line 15.
Smartmatch is deprecated at (eval 167) line 8.
Smartmatch is deprecated at (eval 167) line 15.
Smartmatch is deprecated at (eval 168) line 11.
Smartmatch is deprecated at (eval 168) line 21.
t/validate_class/metaclasses.t ......................... ok
Smartmatch is deprecated at (eval 165) line 8.
Smartmatch is deprecated at (eval 165) line 15.
Smartmatch is deprecated at (eval 166) line 8.
Smartmatch is deprecated at (eval 166) line 15.
Smartmatch is deprecated at (eval 167) line 8.
Smartmatch is deprecated at (eval 167) line 15.
Smartmatch is deprecated at (eval 168) line 11.
Smartmatch is deprecated at (eval 168) line 21.
t/validate_class/metaroles.t ........................... ok
Smartmatch is deprecated at (eval 161) line 8.
Smartmatch is deprecated at (eval 161) line 15.
Smartmatch is deprecated at (eval 162) line 8.
Smartmatch is deprecated at (eval 162) line 15.
Smartmatch is deprecated at (eval 163) line 8.
Smartmatch is deprecated at (eval 163) line 15.
Smartmatch is deprecated at (eval 164) line 11.
Smartmatch is deprecated at (eval 164) line 21.
t/validate_class/methods.t ............................. ok
Smartmatch is deprecated at (eval 167) line 8.
Smartmatch is deprecated at (eval 167) line 15.
Smartmatch is deprecated at (eval 168) line 8.
Smartmatch is deprecated at (eval 168) line 15.
Smartmatch is deprecated at (eval 169) line 8.
Smartmatch is deprecated at (eval 169) line 15.
Smartmatch is deprecated at (eval 170) line 11.
Smartmatch is deprecated at (eval 170) line 21.
t/validate_role/basic.t ................................ ok
Smartmatch is deprecated at (eval 165) line 8.
Smartmatch is deprecated at (eval 165) line 15.
Smartmatch is deprecated at (eval 166) line 8.
Smartmatch is deprecated at (eval 166) line 15.
Smartmatch is deprecated at (eval 167) line 8.
Smartmatch is deprecated at (eval 167) line 15.
Smartmatch is deprecated at (eval 168) line 11.
Smartmatch is deprecated at (eval 168) line 21.
t/validate_role/compose.t .............................. ok
Smartmatch is deprecated at (eval 165) line 8.
Smartmatch is deprecated at (eval 165) line 15.
Smartmatch is deprecated at (eval 166) line 8.
Smartmatch is deprecated at (eval 166) line 15.
Smartmatch is deprecated at (eval 167) line 8.
Smartmatch is deprecated at (eval 167) line 15.
Smartmatch is deprecated at (eval 168) line 11.
Smartmatch is deprecated at (eval 168) line 21.
t/validate_role/metaclasses.t .......................... ok
Smartmatch is deprecated at (eval 165) line 8.
Smartmatch is deprecated at (eval 165) line 15.
Smartmatch is deprecated at (eval 166) line 8.
Smartmatch is deprecated at (eval 166) line 15.
Smartmatch is deprecated at (eval 167) line 8.
Smartmatch is deprecated at (eval 167) line 15.
Smartmatch is deprecated at (eval 168) line 11.
Smartmatch is deprecated at (eval 168) line 21.
t/validate_role/metaroles.t ............................ ok
Smartmatch is deprecated at (eval 165) line 8.
Smartmatch is deprecated at (eval 165) line 15.
Smartmatch is deprecated at (eval 166) line 8.
Smartmatch is deprecated at (eval 166) line 15.
Smartmatch is deprecated at (eval 167) line 8.
Smartmatch is deprecated at (eval 167) line 15.
Smartmatch is deprecated at (eval 168) line 11.
Smartmatch is deprecated at (eval 168) line 21.
t/validate_thing/metaclasses.t ......................... ok
Smartmatch is deprecated at (eval 161) line 8.
Smartmatch is deprecated at (eval 161) line 15.
Smartmatch is deprecated at (eval 162) line 8.
Smartmatch is deprecated at (eval 162) line 15.
Smartmatch is deprecated at (eval 163) line 8.
Smartmatch is deprecated at (eval 163) line 15.
Smartmatch is deprecated at (eval 164) line 11.
Smartmatch is deprecated at (eval 164) line 21.
t/validate_thing/methods.t ............................. ok
Smartmatch is deprecated at (eval 10) line 8.
Smartmatch is deprecated at (eval 10) line 15.
Smartmatch is deprecated at (eval 11) line 8.
Smartmatch is deprecated at (eval 11) line 15.
Smartmatch is deprecated at (eval 12) line 8.
Smartmatch is deprecated at (eval 12) line 15.
Smartmatch is deprecated at (eval 13) line 11.
Smartmatch is deprecated at (eval 13) line 21.
t/validate_thing/sugar.t ............................... ok
Smartmatch is deprecated at (eval 10) line 8.
Smartmatch is deprecated at (eval 10) line 15.
Smartmatch is deprecated at (eval 11) line 8.
Smartmatch is deprecated at (eval 11) line 15.
Smartmatch is deprecated at (eval 12) line 8.
Smartmatch is deprecated at (eval 12) line 15.
Smartmatch is deprecated at (eval 13) line 11.
Smartmatch is deprecated at (eval 13) line 21.
t/wrapped/in_roles.t ................................... ok
All tests successful.

Test Summary Report
-------------------
t/00-check-deps.t                                    (Wstat: 0 Tests: 32 Failed: 0)
  TODO passed:   32
Files=45, Tests=235,  8 wallclock secs ( 0.09 usr  0.05 sys +  6.66 cusr  0.78 csys =  7.58 CPU)
Result: PASS

------------------------------
PREREQUISITES
------------------------------

Prerequisite modules loaded:

requires:

    Module                       Need  Have    
    ---------------------------- ----- --------
    Carp                         0     1.54    
    Data::OptList                0     0.114   
    List::MoreUtils              0     0.430   
    List::Util                   1.45  1.63    
    Moose::Util                  0     2.2207  
    Moose::Util::TypeConstraints 0     2.2207  
    perl                         5.006 5.039010
    Scalar::Util                 0     1.63    
    strict                       0     1.13    
    Sub::Exporter::Progressive   0     0.001013
    Syntax::Keyword::Junction    0     0.003008
    Test::Builder                0     1.302198
    Test::Moose                  0     2.2207  
    Test::More                   0.94  1.302198
    warnings                     0     1.69    

build_requires:

    Module                       Need  Have    
    ---------------------------- ----- --------
    ExtUtils::MakeMaker          0     7.70    
    File::Spec                   0     3.90    
    IO::Handle                   0     1.55    
    IPC::Open3                   0     1.22    
    List::Util                   1.45  1.63    
    Moose                        0     2.2207  
    Moose::Meta::Attribute       0     2.2207  
    Moose::Role                  0     2.2207  
    Moose::Util::MetaRole        0     2.2207  
    namespace::autoclean         0     0.29    
    TAP::SimpleOutput            0.009 0.009   
    Test::Builder::Tester        0     1.302198
    Test::CheckDeps              0.010 0.010   
    Test::More                   0.94  1.302198

configure_requires:

    Module                       Need  Have    
    ---------------------------- ----- --------
    ExtUtils::MakeMaker          0     7.70    
    perl                         5.006 5.039010


------------------------------
ENVIRONMENT AND OTHER CONTEXT
------------------------------

Environment variables:

    AUTOMATED_TESTING = 1
    DATE_MANIP_TEST_DM5 = 1
    LC_ALL = C
    NONINTERACTIVE_TESTING = 1
    NO_NETWORK_TESTING = 1
    PATH = /home/cpan/bin/perl/bin:/home/cpan/bin:/sbin:/bin:/usr/sbin:/usr/bin:/usr/games:/usr/local/sbin:/usr/local/bin:/home/cpan/bin
    PERL5LIB = 
    PERL5OPT = 
    PERL5_CPANPLUS_IS_RUNNING = 13493
    PERL5_CPAN_IS_RUNNING = 13493
    PERL_MM_USE_DEFAULT = 1
    PERL_USE_UNSAFE_INC = 1
    SHELL = /usr/local/bin/bash
    TERM = screen
    TMPDIR = /home/cpan/tmp

Perl special variables (and OS-specific diagnostics, for MSWin32):

    $^X = /usr/home/cpan/bin/perl/bin/perl5.39.10
    $UID/$EUID = 1002 / 1002
    $GID = 1002 1002
    $EGID = 1002 1002

Perl module toolchain versions installed:

    Module              Have    
    ------------------- --------
    CPAN                2.36    
    CPAN::Meta          2.150010
    Cwd                 3.90    
    ExtUtils::CBuilder  0.280240
    ExtUtils::Command   7.70    
    ExtUtils::Install   2.22    
    ExtUtils::MakeMaker 7.70    
    ExtUtils::Manifest  1.75    
    ExtUtils::ParseXS   3.51    
    File::Spec          3.90    
    JSON                4.10    
    JSON::PP            4.16    
    Module::Build       0.4234  
    Module::Signature   n/a     
    Parse::CPAN::Meta   2.150010
    Test2               1.302198
    Test::Harness       3.48    
    Test::More          1.302198
    YAML                n/a     
    YAML::Syck          1.34    
    version             0.9930  


--

Summary of my perl5 (revision 5 version 39 subversion 10) configuration:
  Commit id: f936cd91ee430786a1bb6068a4a7c8362610dd5f
  Platform:
    osname=midnightbsd
    osvers=3.1.3
    archname=amd64-midnightbsd-thread-multi
    uname='midnightbsd cjg-midnightbsd3 3.1.3 midnightbsd 3.1.3 #9n12826-9619ab86ba(stable3.1)-dirty: mon dec 25 14:57:58 est 2023 root@m3164:usrobjusrsrcamd64.amd64sysgeneric amd64 '
    config_args='-des -Dprefix=/home/cpan/bin/perl -Dscriptdir=/home/cpan/bin/perl/bin -Dusedevel -Duse64bitall -Duseithreads'
    hint=recommended
    useposix=true
    d_sigaction=define
    useithreads=define
    usemultiplicity=define
    use64bitint=define
    use64bitall=define
    uselongdouble=undef
    usemymalloc=n
    default_inc_excludes_dot=define
  Compiler:
    cc='cc'
    ccflags ='-DHAS_FPSETMASK -DHAS_FLOATINGPOINT_H -fno-strict-aliasing -pipe -fstack-protector-strong -I/usr/local/include'
    optimize='-O'
    cppflags='-DHAS_FPSETMASK -DHAS_FLOATINGPOINT_H -fno-strict-aliasing -pipe -fstack-protector-strong -I/usr/local/include'
    ccversion=''
    gccversion='MidnightBSD Clang 13.0.0 (git@github.com:llvm/llvm-project.git llvmorg-13.0.0-0-gd7b669b3a303)'
    gccosandvers=''
    intsize=4
    longsize=8
    ptrsize=8
    doublesize=8
    byteorder=12345678
    doublekind=3
    d_longlong=define
    longlongsize=8
    d_longdbl=define
    longdblsize=16
    longdblkind=3
    ivtype='long'
    ivsize=8
    nvtype='double'
    nvsize=8
    Off_t='off_t'
    lseeksize=8
    alignbytes=8
    prototype=define
  Linker and Libraries:
    ld='cc'
    ldflags ='-pthread -Wl,-E  -fstack-protector-strong -L/usr/local/lib'
    libpth=/usr/lib /usr/local/lib /usr/lib/clang/13.0.0/lib
    libs=-lpthread -lgdbm -ldl -lm -lcrypt
    perllibs=-lpthread -ldl -lm -lcrypt
    libc=
    so=so
    useshrplib=false
    libperl=libperl.a
    gnulibc_version=''
  Dynamic Linking:
    dlsrc=dl_dlopen.xs
    dlext=so
    d_dlsymun=undef
    ccdlflags=' '
    cccdlflags='-DPIC -fPIC'
    lddlflags='-shared  -L/usr/local/lib -fstack-protector-strong'


Characteristics of this binary (from libperl): 
  Compile-time options:
    HAS_LONG_DOUBLE
    HAS_STRTOLD
    HAS_TIMES
    MULTIPLICITY
    PERLIO_LAYERS
    PERL_COPY_ON_WRITE
    PERL_DONT_CREATE_GVSV
    PERL_HASH_FUNC_SIPHASH13
    PERL_HASH_USE_SBOX32
    PERL_MALLOC_WRAP
    PERL_OP_PARENT
    PERL_PRESERVE_IVUV
    PERL_USE_DEVEL
    PERL_USE_SAFE_PUTENV
    USE_64_BIT_ALL
    USE_64_BIT_INT
    USE_ITHREADS
    USE_LARGE_FILES
    USE_LOCALE
    USE_LOCALE_COLLATE
    USE_LOCALE_CTYPE
    USE_LOCALE_NUMERIC
    USE_LOCALE_TIME
    USE_PERLIO
    USE_PERL_ATOF
    USE_REENTRANT_API
    USE_THREAD_SAFE_LOCALE
  Built under midnightbsd
  Compiled at Apr 21 2024 09:29:17
  %ENV:
    PERL5LIB=""
    PERL5OPT=""
    PERL5_CPANPLUS_IS_RUNNING="13493"
    PERL5_CPAN_IS_RUNNING="13493"
    PERL_MM_USE_DEFAULT="1"
    PERL_USE_UNSAFE_INC="1"
  @INC:
    /home/cpan/bin/perl/lib/site_perl/5.39.10/amd64-midnightbsd-thread-multi
    /home/cpan/bin/perl/lib/site_perl/5.39.10
    /home/cpan/bin/perl/lib/5.39.10/amd64-midnightbsd-thread-multi
    /home/cpan/bin/perl/lib/5.39.10
    .