Test-Class-Moose v0.92 Perl 5 v5.26.2 darwin-ld-2level
- Status
- Pass
- From
- Nigel Horne
- Dist
-
Test-Class-Moose v0.92
- Platform
- Perl 5 v5.26.2 darwin-ld-2level
- Date
- 2018-04-25 00:03:26
- ID
- 13b2f0e6-481c-11e8-8950-f67a472e1f7b
This distribution has been tested as part of the CPAN Testers
project, supporting the Perl programming language. See
http://wiki.cpantesters.org/ for more information or email
questions to cpan-testers-discuss@perl.org
--
Dear Dave Rolsky,
This is a computer-generated report for Test-Class-Moose-0.92
on perl 5.26.2, created by CPAN-Reporter-1.2018.
Thank you for uploading your work to CPAN. Congratulations!
All tests were successful.
Sections of this report:
* Tester comments
* Program output
* Prerequisites
* Environment and other context
------------------------------
TESTER COMMENTS
------------------------------
Additional comments from tester:
none provided
------------------------------
PROGRAM OUTPUT
------------------------------
Output from '/sw/bin/make test':
PERL_DL_NONLAZY=1 "/Users/hornenj/perl5/perlbrew/perls/perl-5.26.2-ld/bin/perl5.26.2" "-MExtUtils::Command::MM" "-MTest::Harness" "-e" "undef *Test::Harness::Switches; test_harness(0, 'blib/lib', 'blib/arch')" t/*.t
#
# Versions for all modules listed in MYMETA.json (including optional ones):
#
# === Configure Requires ===
#
# Module Want Have
# ------------------- ---- ----
# ExtUtils::MakeMaker any 7.34
#
# === Build Requires ===
#
# Module Want Have
# ------------------- ---- ----
# ExtUtils::MakeMaker any 7.34
#
# === Test Requires ===
#
# Module Want Have
# --------------------- -------- --------
# ExtUtils::MakeMaker any 7.34
# File::Spec any 3.67
# File::Temp any 0.2304
# Test2::Tools::Basic any 0.000114
# Test2::Tools::Class any 0.000114
# Test2::Tools::Compare any 0.000114
# Test2::Tools::Subtest any 0.000114
# Test2::V0 any 0.000114
# Test::Builder any 1.302136
# Test::More 1.302015 1.302136
# Test::Requires any 0.10
# Test::Warnings any 0.026
# lib any 0.64
#
# === Test Recommends ===
#
# Module Want Have
# ------------ -------- --------
# CPAN::Meta 2.120900 2.150010
# Test::Output 0.0005 1.031
#
# === Runtime Requires ===
#
# Module Want Have
# ---------------------------- --------- --------
# Benchmark any 1.22
# Carp any 1.42
# Class::MOP any 2.2010
# Exporter any 5.72
# File::Find any 1.34
# File::Spec any 3.67
# Import::Into any 1.002005
# JSON any 2.97001
# List::SomeUtils any 0.56
# List::Util any 1.46_02
# Module::Runtime any 0.016
# Module::Util any 1.09
# Moose 2.0000 2.2010
# Moose::Role 2.0000 2.2010
# Moose::Util any 2.2010
# Moose::Util::TypeConstraints any 2.2010
# MooseX::Getopt 0.71 0.71
# MooseX::Getopt::Dashes any 0.71
# Package::DeprecationManager 0.16 0.17
# Parallel::ForkManager any 1.19
# Scalar::Util any 1.46_02
# Sub::Attribute any 0.06
# TAP::Formatter::Color 3.29 3.38
# Test2 1.1302118 1.302136
# Test2::API any 1.302136
# Test2::AsyncSubtest 0.000018 0.000114
# Test2::IPC any 1.302136
# Test2::Tools::AsyncSubtest any 0.000114
# Test::Most any 0.35
# Try::Tiny any 0.30
# namespace::autoclean any 0.28
# strict any 1.11
# warnings any 1.37
#
# === Runtime Recommends ===
#
# Module Want Have
# --------------------- ------ ----
# Parallel::ForkManager v0.7.6 1.19
#
t/00-report-prereqs.t .......... ok
t/bare.t ....................... ok
t/autouse.t .................... ok
t/environment.t ................ ok
t/basic.t ...................... ok
t/cli.t ........................ ok
t/executor_roles.t ............. ok
t/load.t ....................... ok
t/include_classes.t ............ ok
t/include_exclude.t ............ ok
t/no_tests_run.t ............... ok
t/non_randomize_classes.t ...... ok
[32m.[0m[32m.[0m[32m.[0m[32m.[0m[32m.[0m[32m.[0m[32m.[0m[32m.[0m[32m.[0m[32m.[0m[32m.[0m[32m.[0m[32m.[0m[32m.[0m[32m.[0m[32m.[0m[32m.[0m[32m.[0m[32m.[0m[32m.[0m[32m.[0m[32m.[0m[31mX[0m[31mX[0m[32m.[0m[32m.[0mt/plans.t ...................... ok
t/parameterized.t .............. ok
t/process_name.t ............... ok
t/reportpassed.t ............... ok
t/parallel.t ................... ok
t/skip.t ....................... ok
t/tags.t ....................... ok
t/test_class_is_not_loaded.t ... ok
t/test_control_methods.t ....... ok
t/test_control_methods_skip.t .. ok
t/todo.t ....................... ok
t/timing.t ..................... ok
All tests successful.
Files=24, Tests=209, 11 wallclock secs ( 0.26 usr 0.10 sys + 9.50 cusr 1.82 csys = 11.68 CPU)
Result: PASS
------------------------------
PREREQUISITES
------------------------------
Prerequisite modules loaded:
requires:
Module Need Have
---------------------------- --------- --------
Benchmark 0 1.22
Carp 0 1.42
Class::MOP 0 2.2010
Exporter 0 5.72
File::Find 0 1.34
File::Spec 0 3.67
Import::Into 0 1.002005
JSON 0 2.97001
List::SomeUtils 0 0.56
List::Util 0 1.46_02
Module::Runtime 0 0.016
Module::Util 0 1.09
Moose 2.0000 2.2010
Moose::Role 2.0000 2.2010
Moose::Util 0 2.2010
Moose::Util::TypeConstraints 0 2.2010
MooseX::Getopt 0.71 0.71
MooseX::Getopt::Dashes 0 0.71
namespace::autoclean 0 0.28
Package::DeprecationManager 0.16 0.17
Parallel::ForkManager 0 1.19
perl 5.010000 5.026002
Scalar::Util 0 1.46_02
strict 0 1.11
Sub::Attribute 0 0.06
TAP::Formatter::Color 3.29 3.38
Test2 1.1302118 1.302136
Test2::API 0 1.302136
Test2::AsyncSubtest 0.000018 0.000114
Test2::IPC 0 1.302136
Test2::Tools::AsyncSubtest 0 0.000114
Test::Most 0 0.35
Try::Tiny 0 0.30
warnings 0 1.37
build_requires:
Module Need Have
---------------------------- --------- --------
ExtUtils::MakeMaker 0 7.34
File::Spec 0 3.67
File::Temp 0 0.2304
lib 0 0.64
Test2::Tools::Basic 0 0.000114
Test2::Tools::Class 0 0.000114
Test2::Tools::Compare 0 0.000114
Test2::Tools::Subtest 0 0.000114
Test2::V0 0 0.000114
Test::Builder 0 1.302136
Test::More 1.302015 1.302136
Test::Requires 0 0.10
Test::Warnings 0 0.026
configure_requires:
Module Need Have
---------------------------- --------- --------
ExtUtils::MakeMaker 0 7.34
------------------------------
ENVIRONMENT AND OTHER CONTEXT
------------------------------
Environment variables:
HARNESS_OPTIONS = c:j3
LANG = en_US.UTF-8
LC_ALL = POSIX
PATH = /Users/hornenj/perl5/perlbrew/bin:/Users/hornenj/perl5/perlbrew/perls/perl-5.26.2-ld/bin:/Users/hornenj/bin:/usr/bin:/bin:/usr/X11R6/bin:/sw/bin
PERL5LIB =
PERL5OPT =
PERL5_CPANPLUS_IS_RUNNING = 79466
PERL5_CPAN_IS_RUNNING = 79466
PERLBREW_HOME = /Users/hornenj/.perlbrew
PERLBREW_MANPATH = /Users/hornenj/perl5/perlbrew/perls/perl-5.26.2-ld/man
PERLBREW_PATH = /Users/hornenj/perl5/perlbrew/bin:/Users/hornenj/perl5/perlbrew/perls/perl-5.26.2-ld/bin
PERLBREW_PERL = perl-5.26.2-ld
PERLBREW_ROOT = /Users/hornenj/perl5/perlbrew
PERLBREW_SHELLRC_VERSION = 0.82
PERLBREW_VERSION = 0.82
PERL_USE_UNSAFE_INC = 1
SHELL = /bin/bash
TERM = xterm-256color
TMPDIR = /var/folders/pz/pd7y1qjs6s3cbk170cw50fjc000c61/T/
Perl special variables (and OS-specific diagnostics, for MSWin32):
$^X = /Users/hornenj/perl5/perlbrew/perls/perl-5.26.2-ld/bin/perl5.26.2
$UID/$EUID = 12481 / 12481
$GID = 14 14 5344 37191 527 12 62 98 204 399 206 37223 241 223 100
$EGID = 14 14 5344 37191 527 12 62 98 204 399 206 37223 241 223 100
Perl module toolchain versions installed:
Module Have
------------------- ----------
CPAN 2.18
CPAN::Meta 2.150010
Cwd 3.67
ExtUtils::CBuilder 0.280225
ExtUtils::Command 7.34
ExtUtils::Install 2.06
ExtUtils::MakeMaker 7.34
ExtUtils::Manifest 1.70
ExtUtils::ParseXS 3.34
File::Spec 3.67
JSON 2.97001
JSON::PP 2.27400_02
Module::Build 0.4224
Module::Signature n/a
Parse::CPAN::Meta 2.150010
Test::Harness 3.38
Test::More 1.302136
YAML 1.24
YAML::Syck 1.30
version 0.9917
--
Summary of my perl5 (revision 5 version 26 subversion 2) configuration:
Platform:
osname=darwin
osvers=16.7.0
archname=darwin-ld-2level
uname='darwin ncbimac2024 16.7.0 darwin kernel version 16.7.0: tue jan 30 11:27:06 pst 2018; root:xnu-3789.73.11~1release_x86_64 x86_64 '
config_args='-de -Dprefix=/Users/hornenj/perl5/perlbrew/perls/perl-5.26.2-ld -Dusedevel -Duselongdouble -Accflags=-O2 -W -Wformat=2 -Wswitch -Wshadow -Wwrite-strings -Wuninitialized -Wall -pipe -fomit-frame-pointer -pedantic -D_FORTIFY_SOURCE=2 -Wpointer-arith -Wstrict-prototypes -fstack-protector -Wstack-protector -Wextra -Wbad-function-cast -Wcast-align -Wcast-qual -Wdisabled-optimization -Wendif-labels -Wfloat-equal -Wformat-nonliteral -Winline -Wmissing-declarations -Wmissing-prototypes -Wnested-externs -Wpointer-arith -Wundef -Wformat-security -ftree-vectorize -mmmx -msse -mfpmath=sse -msse2 -msse3 -msse4.1 -msse4.2 -fdiagnostics-color=auto -mtune=native -march=native -I/Users/hornenj/openssl/include -Aeval:scriptdir=/Users/hornenj/perl5/perlbrew/perls/perl-5.26.2-ld/bin'
hint=recommended
useposix=true
d_sigaction=define
useithreads=undef
usemultiplicity=undef
use64bitint=define
use64bitall=define
uselongdouble=define
usemymalloc=n
default_inc_excludes_dot=define
bincompat5005=undef
Compiler:
cc='cc'
ccflags ='-fno-common -DPERL_DARWIN -O2 -W -Wformat=2 -Wswitch -Wshadow -Wwrite-strings -Wuninitialized -Wall -pipe -fomit-frame-pointer -pedantic -D_FORTIFY_SOURCE=2 -Wpointer-arith -Wstrict-prototypes -fstack-protector -Wstack-protector -Wextra -Wbad-function-cast -Wcast-align -Wcast-qual -Wdisabled-optimization -Wendif-labels -Wfloat-equal -Wformat-nonliteral -Winline -Wmissing-declarations -Wmissing-prototypes -Wnested-externs -Wpointer-arith -Wundef -Wformat-security -ftree-vectorize -mmmx -msse -mfpmath=sse -msse2 -msse3 -msse4.1 -msse4.2 -fdiagnostics-color=auto -mtune=native -march=native -I/Users/hornenj/openssl/include -fno-strict-aliasing -fstack-protector-strong'
optimize='-O3'
cppflags='-fno-common -DPERL_DARWIN -O2 -W -Wformat=2 -Wswitch -Wshadow -Wwrite-strings -Wuninitialized -Wall -pipe -fomit-frame-pointer -pedantic -D_FORTIFY_SOURCE=2 -Wpointer-arith -Wstrict-prototypes -fstack-protector -Wstack-protector -Wextra -Wbad-function-cast -Wcast-align -Wcast-qual -Wdisabled-optimization -Wendif-labels -Wfloat-equal -Wformat-nonliteral -Winline -Wmissing-declarations -Wmissing-prototypes -Wnested-externs -Wpointer-arith -Wundef -Wformat-security -ftree-vectorize -mmmx -msse -mfpmath=sse -msse2 -msse3 -msse4.1 -msse4.2 -fdiagnostics-color=auto -mtune=native -march=native -I/Users/hornenj/openssl/include -fno-strict-aliasing -fstack-protector-strong'
ccversion=''
gccversion='4.2.1 Compatible Apple LLVM 9.0.0 (clang-900.0.39.2)'
gccosandvers=''
intsize=4
longsize=8
ptrsize=8
doublesize=8
byteorder=12345678
doublekind=3
d_longlong=define
longlongsize=8
d_longdbl=define
longdblsize=16
longdblkind=3
ivtype='long'
ivsize=8
nvtype='long double'
nvsize=16
Off_t='off_t'
lseeksize=8
alignbytes=16
prototype=define
Linker and Libraries:
ld='env MACOSX_DEPLOYMENT_TARGET=10.3 cc'
ldflags =' -fstack-protector-strong -L/usr/local/lib'
libpth=/Applications/Xcode.app/Contents/Developer/Toolchains/XcodeDefault.xctoolchain/usr/lib/clang/9.0.0/lib /Applications/Xcode.app/Contents/Developer/Toolchains/XcodeDefault.xctoolchain/usr/lib /usr/lib /usr/local/lib
libs=-lpthread -ldbm -ldl -lm -lutil -lc
perllibs=-lpthread -ldl -lm -lutil -lc
libc=
so=dylib
useshrplib=false
libperl=libperl.a
gnulibc_version=''
Dynamic Linking:
dlsrc=dl_dlopen.xs
dlext=bundle
d_dlsymun=undef
ccdlflags=' '
cccdlflags=' '
lddlflags=' -bundle -undefined dynamic_lookup -L/usr/local/lib -fstack-protector-strong'
Characteristics of this binary (from libperl):
Compile-time options:
HAS_TIMES
PERLIO_LAYERS
PERL_COPY_ON_WRITE
PERL_DONT_CREATE_GVSV
PERL_MALLOC_WRAP
PERL_OP_PARENT
PERL_PRESERVE_IVUV
PERL_USE_DEVEL
USE_64_BIT_ALL
USE_64_BIT_INT
USE_LARGE_FILES
USE_LOCALE
USE_LOCALE_COLLATE
USE_LOCALE_CTYPE
USE_LOCALE_NUMERIC
USE_LOCALE_TIME
USE_LONG_DOUBLE
USE_PERLIO
USE_PERL_ATOF
Locally applied patches:
Devel::PatchPerl 1.30
Built under darwin
Compiled at Apr 23 2018 09:04:11
%ENV:
PERL5LIB=""
PERL5OPT=""
PERL5_CPANPLUS_IS_RUNNING="79466"
PERL5_CPAN_IS_RUNNING="79466"
PERLBREW_HOME="/Users/hornenj/.perlbrew"
PERLBREW_MANPATH="/Users/hornenj/perl5/perlbrew/perls/perl-5.26.2-ld/man"
PERLBREW_PATH="/Users/hornenj/perl5/perlbrew/bin:/Users/hornenj/perl5/perlbrew/perls/perl-5.26.2-ld/bin"
PERLBREW_PERL="perl-5.26.2-ld"
PERLBREW_ROOT="/Users/hornenj/perl5/perlbrew"
PERLBREW_SHELLRC_VERSION="0.82"
PERLBREW_VERSION="0.82"
PERL_USE_UNSAFE_INC="1"
@INC:
/Users/hornenj/perl5/perlbrew/perls/perl-5.26.2-ld/lib/site_perl/5.26.2/darwin-ld-2level
/Users/hornenj/perl5/perlbrew/perls/perl-5.26.2-ld/lib/site_perl/5.26.2
/Users/hornenj/perl5/perlbrew/perls/perl-5.26.2-ld/lib/5.26.2/darwin-ld-2level
/Users/hornenj/perl5/perlbrew/perls/perl-5.26.2-ld/lib/5.26.2
.