Archive-Tar-Wrapper v0.33 Perl 5 v5.29.6 cygwin-thread-multi
- Status
- Pass
- From
- Carlos Guevara
- Dist
-
Archive-Tar-Wrapper v0.33
- Platform
- Perl 5 v5.29.6 cygwin-thread-multi
- Date
- 2018-12-09 02:29:39
- ID
- 13434c50-6bf8-1014-9a9f-f456798f7bfd
This distribution has been tested as part of the CPAN Testers
project, supporting the Perl programming language. See
http://wiki.cpantesters.org/ for more information or email
questions to cpan-testers-discuss@perl.org
--
Dear Alceu Rodrigues de Freitas Junior,
This is a computer-generated report for Archive-Tar-Wrapper-0.33
on perl 5.29.6, created by CPAN-Reporter-1.2018.
Thank you for uploading your work to CPAN. Congratulations!
All tests were successful.
Sections of this report:
* Tester comments
* Program output
* Prerequisites
* Environment and other context
------------------------------
TESTER COMMENTS
------------------------------
Additional comments from tester:
none provided
------------------------------
PROGRAM OUTPUT
------------------------------
Output from '/usr/bin/make test':
PERL_DL_NONLAZY=1 "/home/cpan/bin/perl-blead/bin/perl5.29.6.exe" "-MExtUtils::Command::MM" "-MTest::Harness" "-e" "undef *Test::Harness::Switches; test_harness(0, 'blib/lib', 'blib/arch')" t/*.t
t/001Basic.t .............. ok
t/002Mult.t ............... ok
t/003Dirs.t ............... ok
t/004Utf8.t ............... ok
t/005Cwd.t ................ ok
t/006DirPerms.t ........... ok
t/007bzip.t ............... ok
# with grep: Ran 1157 iterations (157 outliers).
# with grep: Rounded run time per iteration: 0.003065 +/- 0.000004 (0.1%)
# with grep and compiled regex: Ran 1102 iterations (83 outliers).
# with grep and compiled regex: Rounded run time per iteration: 0.003317 +/- 0.000008 (0.2%)
# with eq: Ran 1157 iterations (143 outliers).
# with eq: Rounded run time per iteration: 0.002653 +/- 0.000004 (0.1%)
# with enhanced eq: Ran 1102 iterations (101 outliers).
# with enhanced eq: Rounded run time per iteration: 0.002594 +/- 0.000003 (0.1%)
# with enhanced eq mark2: Ran 1157 iterations (112 outliers).
# with enhanced eq mark2: Rounded run time per iteration: 0.002534 +/- 0.000004 (0.2%)
# with enhanced eq mark3: Ran 1102 iterations (67 outliers).
# with enhanced eq mark3: Rounded run time per iteration: 0.002416 +/- 0.000003 (0.1%)
# sort and shift: Ran 1102 iterations (99 outliers).
# sort and shift: Rounded run time per iteration: 0.002608 +/- 0.000005 (0.2%)
t/008performance.t ........ ok
# with grep: Ran 1102 iterations (91 outliers).
# with grep: Rounded run time per iteration: 0.000112 +/- 0.000000 (0.1%)
# with grep and compiled regex: Ran 1157 iterations (138 outliers).
# with grep and compiled regex: Rounded run time per iteration: 0.000117 +/- 0.000000 (0.0%)
# with eq: Ran 1623 iterations (575 outliers).
# with eq: Rounded run time per iteration: 0.000099 +/- 0.000000 (0.0%)
# with enhanced eq: Ran 1102 iterations (94 outliers).
# with enhanced eq: Rounded run time per iteration: 0.000102 +/- 0.000000 (0.1%)
# with enhanced eq mark2: Ran 1157 iterations (146 outliers).
# with enhanced eq mark2: Rounded run time per iteration: 0.000102 +/- 0.000000 (0.0%)
# with enhanced eq mark3: Ran 1214 iterations (168 outliers).
# with enhanced eq mark3: Rounded run time per iteration: 0.000105 +/- 0.000000 (0.0%)
# sort and shift: Ran 1214 iterations (196 outliers).
# sort and shift: Rounded run time per iteration: 0.000104 +/- 0.000000 (0.0%)
t/009performance-small.t .. ok
All tests successful.
Test Summary Report
-------------------
t/008performance.t (Wstat: 0 Tests: 1 Failed: 0)
TODO passed: 1
t/009performance-small.t (Wstat: 0 Tests: 1 Failed: 0)
TODO passed: 1
Files=9, Tests=54, 236 wallclock secs ( 0.08 usr 0.03 sys + 205.72 cusr 20.46 csys = 226.29 CPU)
Result: PASS
------------------------------
PREREQUISITES
------------------------------
Prerequisite modules loaded:
requires:
Module Need Have
------------------- -------- ----------
Cwd 0 3.76
File::Temp 0 0.2308
File::Which 0 1.22
IPC::Run 0 20180523.0
Log::Log4perl 0 1.49
perl 5.008001 5.029006
build_requires:
Module Need Have
------------------- -------- ----------
Dumbbench 0.111 0.111
ExtUtils::MakeMaker 0 7.34
Test::Simple 1.302073 1.302141
configure_requires:
Module Need Have
------------------- -------- ----------
ExtUtils::MakeMaker 0 7.34
File::Which 0 1.22
------------------------------
ENVIRONMENT AND OTHER CONTEXT
------------------------------
Environment variables:
COMSPEC = C:\Windows\system32\cmd.exe
LANG = en_US.UTF-8
LC_ALL = C
NONINTERACTIVE_TESTING = 1
NUMBER_OF_PROCESSORS = 1
PATH = /home/cpan/bin/perl-blead/bin:/home/cpan/bin/perl-blead/bin:/home/cpan/bin:/usr/local/bin:/usr/bin:/cygdrive/c/Windows/system32:/cygdrive/c/Windows:/cygdrive/c/Windows/System32/Wbem:/cygdrive/c/Windows/System32/WindowsPowerShell/v1.0:/cygdrive/c/Users/cpan/AppData/Local/Microsoft/WindowsApps
PERL5LIB =
PERL5OPT =
PERL5_CPANPLUS_IS_RUNNING = 2148
PERL5_CPAN_IS_RUNNING = 2148
PERL_MM_USE_DEFAULT = 1
PERL_USE_UNSAFE_INC = 1
PERL_VERSION = blead
PROCESSOR_IDENTIFIER = Intel64 Family 6 Model 69 Stepping 1, GenuineIntel
SHELL = /bin/bash
TEMP = /tmp
TERM = xterm
TMPDIR = /home/cpan/tmp
Perl special variables (and OS-specific diagnostics, for MSWin32):
$^X = /home/cpan/bin/perl-blead/bin/perl5.29.6
$UID/$EUID = 197609 / 197609
$GID = 197121 197121 555 545 14 4 11 15 113 4095 66048 262154 401408
$EGID = 197121 197121 555 545 14 4 11 15 113 4095 66048 262154 401408
Perl module toolchain versions installed:
Module Have
------------------- --------
CPAN 2.21
CPAN::Meta 2.150010
Cwd 3.76
ExtUtils::CBuilder 0.280230
ExtUtils::Command 7.34
ExtUtils::Install 2.14
ExtUtils::MakeMaker 7.34
ExtUtils::Manifest 1.71
ExtUtils::ParseXS 3.40
File::Spec 3.76
JSON n/a
JSON::PP 2.97001
Module::Build 0.4224
Module::Signature n/a
Parse::CPAN::Meta 2.150010
Test::Harness 3.42
Test::More 1.302141
YAML n/a
YAML::Syck n/a
version 0.9924
--
Summary of my perl5 (revision 5 version 29 subversion 6) configuration:
Commit id: 540fa6e13ee03c8b97e3406902f8bd4984eeec3f
Platform:
osname=cygwin
osvers=2.11.2(0.32953)
archname=cygwin-thread-multi
uname='cygwin_nt-10.0 cjg-cygwin 2.11.2(0.32953) 2018-11-08 14:34 x86_64 cygwin '
config_args='-des -Dprefix=~/bin/perl-blead -Dscriptdir=~/bin/perl-blead/bin -Dusedevel -Duse64bitall'
hint=recommended
useposix=true
d_sigaction=define
useithreads=define
usemultiplicity=define
use64bitint=define
use64bitall=define
uselongdouble=undef
usemymalloc=n
default_inc_excludes_dot=define
bincompat5005=undef
Compiler:
cc='gcc'
ccflags ='-DPERL_USE_SAFE_PUTENV -U__STRICT_ANSI__ -D_GNU_SOURCE -fwrapv -fno-strict-aliasing -pipe -fstack-protector-strong -D_FORTIFY_SOURCE=2'
optimize='-O3'
cppflags='-DPERL_USE_SAFE_PUTENV -U__STRICT_ANSI__ -D_GNU_SOURCE -fwrapv -fno-strict-aliasing -pipe -fstack-protector-strong'
ccversion=''
gccversion='7.3.0'
gccosandvers=''
intsize=4
longsize=8
ptrsize=8
doublesize=8
byteorder=12345678
doublekind=3
d_longlong=define
longlongsize=8
d_longdbl=define
longdblsize=16
longdblkind=3
ivtype='long'
ivsize=8
nvtype='double'
nvsize=8
Off_t='off_t'
lseeksize=8
alignbytes=8
prototype=define
Linker and Libraries:
ld='g++'
ldflags =' -Wl,--enable-auto-import -Wl,--export-all-symbols -Wl,--enable-auto-image-base -fstack-protector-strong -L/usr/local/lib'
libpth=/usr/lib /usr/lib/gcc/x86_64-pc-cygwin/7.3.0/../../../../lib/../include/w32api /usr/local/lib /lib
libs=-lpthread -ldl
perllibs=-lpthread -ldl
libc=/usr/lib/libc.a
so=dll
useshrplib=true
libperl=cygperl5_29_6.dll
gnulibc_version=''
Dynamic Linking:
dlsrc=dl_dlopen.xs
dlext=dll
d_dlsymun=undef
ccdlflags=' '
cccdlflags=' '
lddlflags=' --shared -Wl,--enable-auto-import -Wl,--export-all-symbols -Wl,--enable-auto-image-base -L/usr/local/lib -fstack-protector-strong'
Characteristics of this binary (from libperl):
Compile-time options:
HAS_TIMES
MULTIPLICITY
PERLIO_LAYERS
PERL_COPY_ON_WRITE
PERL_DONT_CREATE_GVSV
PERL_IMPLICIT_CONTEXT
PERL_MALLOC_WRAP
PERL_OP_PARENT
PERL_PRESERVE_IVUV
PERL_USE_DEVEL
PERL_USE_SAFE_PUTENV
USE_64_BIT_ALL
USE_64_BIT_INT
USE_ITHREADS
USE_LARGE_FILES
USE_LOCALE
USE_LOCALE_COLLATE
USE_LOCALE_CTYPE
USE_LOCALE_NUMERIC
USE_LOCALE_TIME
USE_PERLIO
USE_PERL_ATOF
USE_REENTRANT_API
USE_THREAD_SAFE_LOCALE
Built under cygwin
Compiled at Dec 8 2018 18:40:14
%ENV:
PERL5LIB=""
PERL5OPT=""
PERL5_CPANPLUS_IS_RUNNING="2148"
PERL5_CPAN_IS_RUNNING="2148"
PERL_MM_USE_DEFAULT="1"
PERL_USE_UNSAFE_INC="1"
PERL_VERSION="blead"
@INC:
/home/cpan/bin/perl-blead/lib/site_perl/5.29.6/cygwin-thread-multi
/home/cpan/bin/perl-blead/lib/site_perl/5.29.6
/home/cpan/bin/perl-blead/lib/5.29.6/cygwin-thread-multi
/home/cpan/bin/perl-blead/lib/5.29.6
.