Archive-Tar-Wrapper v0.33 Perl 5 v5.8.9 x86_64-linux
- Status
- Pass
- From
- Slaven Rezić (SREZIC)
- Dist
-
Archive-Tar-Wrapper v0.33
- Platform
- Perl 5 v5.8.9 x86_64-linux
- Date
- 2018-07-10 12:16:29
- ID
- 1302ac6c-843b-11e8-833f-e48681084d1d
This distribution has been tested as part of the CPAN Testers
project, supporting the Perl programming language. See
http://wiki.cpantesters.org/ for more information or email
questions to cpan-testers-discuss@perl.org
--
Dear Alceu Rodrigues de Freitas Junior,
This is a computer-generated report for Archive-Tar-Wrapper-0.33
on perl 5.8.9, created by CPAN-Reporter-1.2018.
Thank you for uploading your work to CPAN. Congratulations!
All tests were successful.
Sections of this report:
* Tester comments
* Program output
* Prerequisites
* Environment and other context
------------------------------
TESTER COMMENTS
------------------------------
Additional comments from tester:
none provided
------------------------------
PROGRAM OUTPUT
------------------------------
Output from '/usr/bin/make test':
PERL_DL_NONLAZY=1 "/bbbike/perl-5.8.9/bin/perl" "-MExtUtils::Command::MM" "-MTest::Harness" "-e" "undef *Test::Harness::Switches; test_harness(0, 'blib/lib', 'blib/arch')" t/*.t
t/001Basic.t .............. ok
t/002Mult.t ............... ok
t/003Dirs.t ............... ok
t/004Utf8.t ............... ok
t/005Cwd.t ................ ok
t/006DirPerms.t ........... ok
t/007bzip.t ............... ok
# with grep: Ran 1473 iterations (449 outliers).
# with grep: Rounded run time per iteration: 0.000676 +/- 0.000002 (0.3%)
# with grep and compiled regex: Ran 1214 iterations (163 outliers).
# with grep and compiled regex: Rounded run time per iteration: 0.000703 +/- 0.000002 (0.3%)
# with eq: Ran 1403 iterations (386 outliers).
# with eq: Rounded run time per iteration: 0.000637 +/- 0.000001 (0.2%)
# with enhanced eq: Ran 1403 iterations (375 outliers).
# with enhanced eq: Rounded run time per iteration: 0.000649 +/- 0.000001 (0.2%)
# with enhanced eq mark2: Ran 1337 iterations (327 outliers).
# with enhanced eq mark2: Rounded run time per iteration: 0.000598 +/- 0.000002 (0.3%)
# with enhanced eq mark3: Ran 1403 iterations (309 outliers).
# with enhanced eq mark3: Rounded run time per iteration: 0.000508 +/- 0.000001 (0.2%)
# sort and shift: Ran 1214 iterations (211 outliers).
# sort and shift: Rounded run time per iteration: 0.000810 +/- 0.000002 (0.3%)
t/008performance.t ........ ok
# with grep: Ran 1157 iterations (110 outliers).
# with grep: Rounded run time per iteration: 0.000013 +/- 0.000000 (0.0%)
# with grep and compiled regex: Ran 1102 iterations (99 outliers).
# with grep and compiled regex: Rounded run time per iteration: 0.000013 +/- 0.000000 (0.0%)
# with eq: Ran 1214 iterations (184 outliers).
# with eq: Rounded run time per iteration: 0.000012 +/- 0.000000 (0.1%)
# with enhanced eq: Ran 1157 iterations (123 outliers).
# with enhanced eq: Rounded run time per iteration: 0.000012 +/- 0.000000 (0.1%)
# with enhanced eq mark2: Ran 1157 iterations (135 outliers).
# with enhanced eq mark2: Rounded run time per iteration: 0.000013 +/- 0.000000 (0.1%)
# with enhanced eq mark3: Ran 1050 iterations (4 outliers).
# with enhanced eq mark3: Rounded run time per iteration: 0.000017 +/- 0.000000 (0.5%)
# sort and shift: Ran 1214 iterations (101 outliers).
# sort and shift: Rounded run time per iteration: 0.000018 +/- 0.000000 (0.1%)
t/009performance-small.t .. ok
All tests successful.
Test Summary Report
-------------------
t/008performance.t (Wstat: 0 Tests: 1 Failed: 0)
TODO passed: 1
t/009performance-small.t (Wstat: 0 Tests: 1 Failed: 0)
TODO passed: 1
Files=9, Tests=54, 31 wallclock secs ( 0.04 usr 0.02 sys + 26.10 cusr 3.88 csys = 30.04 CPU)
Result: PASS
------------------------------
PREREQUISITES
------------------------------
Prerequisite modules loaded:
requires:
Module Need Have
------------------- -------- ----------
Cwd 0 3.74
File::Temp 0 0.2306
File::Which 0 1.22
IPC::Run 0 20180523.0
Log::Log4perl 0 1.48
perl 5.008001 5.008009
build_requires:
Module Need Have
------------------- -------- ----------
Dumbbench 0.111 0.111
ExtUtils::MakeMaker 0 7.34
Test::Simple 1.302073 1.302136
configure_requires:
Module Need Have
------------------- -------- ----------
ExtUtils::MakeMaker 0 7.34
File::Which 0 1.22
------------------------------
ENVIRONMENT AND OTHER CONTEXT
------------------------------
Environment variables:
LANG = C
LC_ALL = de_DE.UTF-8
PATH = /usr/local/bin:/usr/bin:/bin:/usr/local/sbin:/usr/sbin:/sbin:/home/cpansand/bin/linux-gnu:/home/cpansand/bin/sh:/home/cpansand/bin:/usr/games:/home/cpansand/devel:/home/eserte/src/srezic-misc/scripts
PERL5LIB =
PERL5OPT =
PERL5_CPANPLUS_IS_RUNNING = 19555
PERL5_CPAN_IS_RUNNING = 19555
PERL5_CPAN_IS_RUNNING_IN_RECURSION = 13954,19555
PERLDOC = -MPod::Perldoc::ToTextOverstrike
PERL_BATCH = yes
PERL_CANARY_STABILITY_NOPROMPT = 1
PERL_CPAN_REPORTER_CONFIG = /var/tmp/cpansmoker-1023/2018071009/cpanreporter_000_config.ini
PERL_EXTUTILS_AUTOINSTALL = --defaultdeps
PERL_PARALLEL_SMOKER = yes
PERL_USE_UNSAFE_INC = 1
SHELL = /bin/zsh
TERM = screen
TMPDIR = /var/tmp/cpansmoker-1023/2018071009
Perl special variables (and OS-specific diagnostics, for MSWin32):
$^X = /bbbike/perl-5.8.9/bin/perl
$UID/$EUID = 1023 / 1023
$GID = 1023 1023
$EGID = 1023 1023
Perl module toolchain versions installed:
Module Have
------------------- --------
CPAN 2.16
CPAN::Meta 2.150010
Cwd 3.74
ExtUtils::CBuilder 0.280230
ExtUtils::Command 7.34
ExtUtils::Install 2.12
ExtUtils::MakeMaker 7.34
ExtUtils::Manifest 1.71
ExtUtils::ParseXS 3.30
File::Spec 3.74
JSON 2.97001
JSON::PP 2.27400
Module::Build 0.4224
Module::Signature 0.81
Parse::CPAN::Meta 2.150010
Test::Harness 3.42
Test::More 1.302136
YAML 1.24
YAML::Syck 1.30
version 0.9916
--
Summary of my perl5 (revision 5 version 8 subversion 9) configuration:
Platform:
osname=linux, osvers=3.16.0-4-amd64, archname=x86_64-linux
uname='linux eserte 3.16.0-4-amd64 #1 smp debian 3.16.7-ckt25-2 (2016-04-08) x86_64 gnulinux '
config_args='-ds -e -Dprefix=/opt/perl-5.8.9 -Dcf_email=srezic@cpan.org'
hint=recommended, useposix=true, d_sigaction=define
usethreads=undef use5005threads=undef useithreads=undef usemultiplicity=undef
useperlio=define d_sfio=undef uselargefiles=define usesocks=undef
use64bitint=define use64bitall=define uselongdouble=undef
usemymalloc=n, bincompat5005=undef
Compiler:
cc='cc', ccflags ='-fno-strict-aliasing -pipe -I/usr/local/include -D_LARGEFILE_SOURCE -D_FILE_OFFSET_BITS=64',
optimize='-O2',
cppflags='-fno-strict-aliasing -pipe -I/usr/local/include'
ccversion='', gccversion='4.9.2', gccosandvers=''
intsize=4, longsize=8, ptrsize=8, doublesize=8, byteorder=12345678
d_longlong=define, longlongsize=8, d_longdbl=define, longdblsize=16
ivtype='long', ivsize=8, nvtype='double', nvsize=8, Off_t='off_t', lseeksize=8
alignbytes=8, prototype=define
Linker and Libraries:
ld='cc', ldflags =' -L/usr/local/lib'
libpth=/usr/local/lib /lib/x86_64-linux-gnu /lib/../lib /usr/lib/x86_64-linux-gnu /usr/lib/../lib /lib /usr/lib
libs=-lnsl -ldl -lm -lcrypt -lutil -lc
perllibs=-lnsl -ldl -lm -lcrypt -lutil -lc
libc=libc-2.19.so, so=so, useshrplib=false, libperl=libperl.a
gnulibc_version='2.19'
Dynamic Linking:
dlsrc=dl_dlopen.xs, dlext=so, d_dlsymun=undef, ccdlflags='-Wl,-E'
cccdlflags='-fPIC', lddlflags='-shared -O2 -L/usr/local/lib'
Characteristics of this binary (from libperl):
Compile-time options: PERL_MALLOC_WRAP USE_64_BIT_ALL USE_64_BIT_INT
USE_FAST_STDIO USE_LARGE_FILES USE_PERLIO
Locally applied patches:
Devel::PatchPerl 1.42
Built under linux
Compiled at May 7 2016 09:05:30
%ENV:
PERL5LIB=""
PERL5OPT=""
PERL5_CPANPLUS_IS_RUNNING="19555"
PERL5_CPAN_IS_RUNNING="19555"
PERL5_CPAN_IS_RUNNING_IN_RECURSION="13954,19555"
PERLDOC="-MPod::Perldoc::ToTextOverstrike"
PERL_BATCH="yes"
PERL_CANARY_STABILITY_NOPROMPT="1"
PERL_CPAN_REPORTER_CONFIG="/var/tmp/cpansmoker-1023/2018071009/cpanreporter_000_config.ini"
PERL_EXTUTILS_AUTOINSTALL="--defaultdeps"
PERL_PARALLEL_SMOKER="yes"
PERL_USE_UNSAFE_INC="1"
@INC:
/opt/perl-5.8.9/lib/5.8.9/x86_64-linux
/opt/perl-5.8.9/lib/5.8.9
/opt/perl-5.8.9/lib/site_perl/5.8.9/x86_64-linux
/opt/perl-5.8.9/lib/site_perl/5.8.9
.