HiD v1.992 Perl 5 v5.29.3 x86_64-linux-ld

Status
Pass
From
Andreas J. König (ANDK)
Dist
HiD v1.992
Platform
Perl 5 v5.29.3 x86_64-linux-ld
Date
2018-08-23 12:50:11
ID
12a43870-a6d3-11e8-9cbe-bdd1061acdfd
This distribution has been tested as part of the CPAN Testers
project, supporting the Perl programming language.  See
http://wiki.cpantesters.org/ for more information or email
questions to cpan-testers-discuss@perl.org


--
Dear John SJ Anderson,

This is a computer-generated report for HiD-1.992
on perl 5.29.3, created by CPAN-Reporter-1.2018.

Thank you for uploading your work to CPAN.  Congratulations!
All tests were successful.

Sections of this report:

    * Tester comments
    * Program output
    * Prerequisites
    * Environment and other context

------------------------------
TESTER COMMENTS
------------------------------

Additional comments from tester:

this report is from an automated smoke testing program
and was not reviewed by a human for accuracy

------------------------------
PROGRAM OUTPUT
------------------------------

Output from '/usr/bin/make test':

PERL_DL_NONLAZY=1 "/tmp/basesmoker-reloperl-1fyy/bin/perl" "-MExtUtils::Command::MM" "-MTest::Harness" "-e" "undef *Test::Harness::Switches; test_harness(0, 'blib/lib', 'blib/arch')" t/*.t
t/00-compile.t ........... ok
t/author-eol.t ........... skipped: these tests are for testing by the author
t/author-pod-coverage.t .. skipped: these tests are for testing by the author
t/author-pod-syntax.t .... skipped: these tests are for testing by the author
t/cmd-config.t ........... ok
t/cmd-help.t ............. ok
t/cmd-init.t ............. ok
# Testing in /tmp/L4iblJ6yrz
t/cmd-publish.t .......... ok
t/config.t ............... ok
t/file.t ................. ok
t/hid-server.t ........... ok
[2018/08/23 12:49:58]  WARN Skipping _posts/2008-02-02-not-published.textile because 'published' flag is false
[2018/08/23 12:49:58] ERROR ERROR: Post failed to build: Died at /tmp/loop_over_bdir-5935-yx2ZYK/HiD-1.992-0/blib/lib/HiD/Post.pm line 36.
t/hid.t .................. ok
t/layout.t ............... ok
t/page.t ................. ok
t/post-twitter.t ......... ok
t/post.t ................. ok
All tests successful.

Test Summary Report
-------------------
t/cmd-publish.t        (Wstat: 0 Tests: 76 Failed: 0)
  TODO passed:   72-73
Files=16, Tests=209, 18 wallclock secs ( 0.06 usr  0.11 sys + 16.17 cusr  2.01 csys = 18.35 CPU)
Result: PASS

------------------------------
PREREQUISITES
------------------------------

Prerequisite modules loaded:

requires:

    Module                       Need  Have    
    ---------------------------- ----- --------
    autodie                      0     2.29    
    Carp                         0     1.50    
    charnames                    0     1.45    
    Class::Load                  0     0.25    
    Data::Page                   0     2.02    
    Data::Printer                0.35  0.40    
    Date::Parse                  0     2.30    
    DateTime                     0     1.50    
    feature                      0     1.53    
    File::Copy                   0     2.33    
    File::Find::Rule             0     0.34    
    Log::Log4perl                0     1.49    
    Moose                        0     2.2011  
    Moose::Role                  0     2.2011  
    Moose::Util::TypeConstraints 0     2.2011  
    MooseX::App::Cmd             0     0.32    
    MooseX::App::Cmd::Command    0     0.32    
    MooseX::Getopt               0     0.72    
    namespace::autoclean         0     0.28    
    open                         0     1.11    
    parent                       0     0.237   
    Path::Tiny                   0.054 0.108   
    perl                         5.014 5.029003
    Plack::App::File             0     0       
    Plack::Builder               0     0       
    Plack::Handler::Standalone   0     0       
    Plack::Loader::Restarter     0     0       
    Plack::Runner                0     0       
    strict                       0     1.11    
    String::Errf                 0     0.008   
    Template                     0     2.27    
    Text::Handlebars             0     0.05    
    Text::Markdown               0     1.000031
    Text::MultiMarkdown          0     1.000035
    Text::Textile                0     2.13    
    Text::Xslate                 0     v3.5.6  
    Try::Tiny                    0     0.30    
    utf8                         0     1.21    
    warnings                     0     1.43    
    XML::Feed                    0     0.53    
    XML::Feed::Entry             0     0.53    
    YAML::Tiny                   0     1.73    
    YAML::XS                     0     0.72    

build_requires:

    Module                       Need  Have    
    ---------------------------- ----- --------
    App::Cmd::Tester             0     0.331   
    Exporter                     0     5.73    
    ExtUtils::MakeMaker          0     7.34    
    File::Spec                   0     3.74    
    FindBin                      0     1.51    
    HTTP::Request::Common        0     6.18    
    IO::Handle                   0     1.39    
    IPC::Open3                   0     1.20    
    lib                          0     0.64    
    Plack::Test                  0     0       
    Test::File                   0     1.443   
    Test::File::Contents         0     0.23    
    Test::More                   0     1.302140
    Test::Routine                0     0.025   
    Test::Routine::Util          0     0.025   
    Test::Warn                   0     0.36    

configure_requires:

    Module                       Need  Have    
    ---------------------------- ----- --------
    ExtUtils::MakeMaker          0     7.34    
    perl                         5.014 5.029003


------------------------------
ENVIRONMENT AND OTHER CONTEXT
------------------------------

Environment variables:

    AUTOMATED_TESTING = 1
    LANG = en_US.UTF-8
    PATH = /home/sand/bin:/usr/local/bin:/usr/bin:/bin:/usr/games:/usr/local/perl/bin:/usr/X11/bin:/sbin:/usr/sbin
    PERL5LIB = 
    PERL5OPT = 
    PERL5_CPANPLUS_IS_RUNNING = 30988
    PERL5_CPAN_IS_RUNNING = 30988
    PERL_CANARY_STABILITY_NOPROMPT = 1
    PERL_MM_USE_DEFAULT = 1
    PERL_USE_UNSAFE_INC = 1
    SHELL = /usr/bin/zsh
    TERM = screen

Perl special variables (and OS-specific diagnostics, for MSWin32):

    $^X = /tmp/basesmoker-reloperl-1fyy/bin/perl
    $UID/$EUID = 1005 / 1005
    $GID = 1005 1005
    $EGID = 1005 1005

Perl module toolchain versions installed:

    Module              Have    
    ------------------- --------
    CPAN                2.20    
    CPAN::Meta          2.150010
    Cwd                 3.75    
    ExtUtils::CBuilder  0.280230
    ExtUtils::Command   7.34    
    ExtUtils::Install   2.14    
    ExtUtils::MakeMaker 7.34    
    ExtUtils::Manifest  1.71    
    ExtUtils::ParseXS   3.39    
    File::Spec          3.74    
    JSON                2.97001 
    JSON::PP            2.97001 
    Module::Build       0.4224  
    Module::Signature   0.81    
    Parse::CPAN::Meta   2.150010
    Test::Harness       3.42    
    Test::More          1.302140
    YAML                1.26    
    YAML::Syck          1.30    
    version             0.9924  


--

Summary of my perl5 (revision 5 version 29 subversion 3) configuration:
  Commit id: cad2641b4ae69e4ca5dfea157cfdc3ae0095f7bf
  Platform:
    osname=linux
    osvers=4.14.0-3-amd64
    archname=x86_64-linux-ld
    uname='linux k93msid 4.14.0-3-amd64 #1 smp debian 4.14.12-2 (2018-01-06) x86_64 gnulinux '
    config_args='-Dprefix=/home/sand/src/perl/repoperls/installed-perls/host/k93msid/v5.29.2-7-gcad2641b4a/ea6b -Dmyhostname=k93msid -Dinstallusrbinperl=n -Uversiononly -Dusedevel -des -Ui_db -Dlibswanted=cl pthread socket inet nsl gdbm dbm malloc dl ld sun m crypt sec util c cposix posix ucb BSD gdbm_compat -Uuseithreads -Duselongdouble -DEBUGGING=none'
    hint=recommended
    useposix=true
    d_sigaction=define
    useithreads=undef
    usemultiplicity=undef
    use64bitint=define
    use64bitall=define
    uselongdouble=define
    usemymalloc=n
    default_inc_excludes_dot=define
    bincompat5005=undef
  Compiler:
    cc='cc'
    ccflags ='-fwrapv -fno-strict-aliasing -pipe -fstack-protector-strong -I/usr/local/include -D_LARGEFILE_SOURCE -D_FILE_OFFSET_BITS=64 -D_FORTIFY_SOURCE=2'
    optimize='-O2'
    cppflags='-fwrapv -fno-strict-aliasing -pipe -fstack-protector-strong -I/usr/local/include'
    ccversion=''
    gccversion='7.2.0'
    gccosandvers=''
    intsize=4
    longsize=8
    ptrsize=8
    doublesize=8
    byteorder=12345678
    doublekind=3
    d_longlong=define
    longlongsize=8
    d_longdbl=define
    longdblsize=16
    longdblkind=3
    ivtype='long'
    ivsize=8
    nvtype='long double'
    nvsize=16
    Off_t='off_t'
    lseeksize=8
    alignbytes=16
    prototype=define
  Linker and Libraries:
    ld='cc'
    ldflags =' -fstack-protector-strong -L/usr/local/lib'
    libpth=/usr/local/lib /usr/lib/gcc/x86_64-linux-gnu/7/include-fixed /usr/include/x86_64-linux-gnu /usr/lib /lib/x86_64-linux-gnu /lib/../lib /usr/lib/x86_64-linux-gnu /usr/lib/../lib /lib
    libs=-lpthread -lnsl -ldl -lm -lcrypt -lutil -lc
    perllibs=-lpthread -lnsl -ldl -lm -lcrypt -lutil -lc
    libc=libc-2.26.so
    so=so
    useshrplib=false
    libperl=libperl.a
    gnulibc_version='2.26'
  Dynamic Linking:
    dlsrc=dl_dlopen.xs
    dlext=so
    d_dlsymun=undef
    ccdlflags='-Wl,-E'
    cccdlflags='-fPIC'
    lddlflags='-shared -O2 -L/usr/local/lib -fstack-protector-strong'


Characteristics of this binary (from libperl): 
  Compile-time options:
    HAS_TIMES
    PERLIO_LAYERS
    PERL_COPY_ON_WRITE
    PERL_DONT_CREATE_GVSV
    PERL_MALLOC_WRAP
    PERL_OP_PARENT
    PERL_PRESERVE_IVUV
    PERL_USE_DEVEL
    USE_64_BIT_ALL
    USE_64_BIT_INT
    USE_LARGE_FILES
    USE_LOCALE
    USE_LOCALE_COLLATE
    USE_LOCALE_CTYPE
    USE_LOCALE_NUMERIC
    USE_LOCALE_TIME
    USE_LONG_DOUBLE
    USE_PERLIO
    USE_PERL_ATOF
  Built under linux
  Compiled at Aug 21 2018 07:38:25
  %ENV:
    PERL5LIB=""
    PERL5OPT=""
    PERL5_CPANPLUS_IS_RUNNING="30988"
    PERL5_CPAN_IS_RUNNING="30988"
    PERL_CANARY_STABILITY_NOPROMPT="1"
    PERL_MM_USE_DEFAULT="1"
    PERL_USE_UNSAFE_INC="1"
  @INC:
    /home/sand/src/perl/repoperls/installed-perls/host/k93msid/v5.29.2-7-gcad2641b4a/ea6b/lib/site_perl/5.29.3/x86_64-linux-ld
    /home/sand/src/perl/repoperls/installed-perls/host/k93msid/v5.29.2-7-gcad2641b4a/ea6b/lib/site_perl/5.29.3
    /home/sand/src/perl/repoperls/installed-perls/host/k93msid/v5.29.2-7-gcad2641b4a/ea6b/lib/5.29.3/x86_64-linux-ld
    /home/sand/src/perl/repoperls/installed-perls/host/k93msid/v5.29.2-7-gcad2641b4a/ea6b/lib/5.29.3
    .