Geo-Coder-CA v0.06 Perl 5 v5.18.4 amd64-freebsd
- Status
- Pass
- From
- Slaven Rezić (SREZIC)
- Dist
-
Geo-Coder-CA v0.06
- Platform
- Perl 5 v5.18.4 amd64-freebsd
- Date
- 2017-11-19 21:10:29
- ID
- 126f76ce-cd6e-11e7-9bfc-e355600e49b5
This distribution has been tested as part of the CPAN Testers
project, supporting the Perl programming language. See
http://wiki.cpantesters.org/ for more information or email
questions to cpan-testers-discuss@perl.org
--
Dear Nigel Horne,
This is a computer-generated report for Geo-Coder-CA-0.06
on perl 5.18.4, created by CPAN-Reporter-1.2018.
Thank you for uploading your work to CPAN. Congratulations!
All tests were successful.
Sections of this report:
* Tester comments
* Program output
* Prerequisites
* Environment and other context
------------------------------
TESTER COMMENTS
------------------------------
Additional comments from tester:
none provided
------------------------------
PROGRAM OUTPUT
------------------------------
Output from '/usr/bin/make test':
PERL_DL_NONLAZY=1 "/usr/perl5.18.4p/bin/perl" "-MExtUtils::Command::MM" "-MTest::Harness" "-e" "undef *Test::Harness::Switches; test_harness(0, 'blib/lib', 'blib/arch')" t/*.t
# Testing Geo::Coder::CA 0.06, Perl 5.018004, /usr/perl5.18.4p/bin/perl
t/00-load.t ..... ok
t/10-new.t ...... ok
t/boiler.t ...... ok
t/ca.t .......... ok
t/carp.t ........ ok
t/changes.t ..... skipped: Author tests not required for installation
t/coverage.t .... ok
t/critic.t ...... skipped: Author tests not required for installation
t/cv.t .......... skipped: Author tests not required for installation
t/dist.t ........ skipped: Author tests not required for installation
t/gv.t .......... skipped: Author tests not required for installation
t/kwalitee.t .... skipped: Author tests not required for installation
t/manifest.t .... skipped: Author tests not required for installation
t/metrics.t ..... skipped: Author tests not required for installation
t/namespaces.t .. skipped: Author tests not required for installation
t/noplan.t ...... skipped: Author tests not required for installation
t/pod-cm.t ...... skipped: Test::Pod::Spelling::CommonMistakes required for testing POD spelling
t/pod.t ......... skipped: Author tests not required for installation
t/port.t ........ ok
t/prereq.t ...... skipped: Author tests not required for installation
t/snippets.t .... skipped: Author tests not required for installation
t/spelling.t .... skipped: Author tests not required for installation
t/strict.t ...... skipped: Author tests not required for installation
t/unused.t ...... skipped: Author tests not required for installation
t/us.t .......... ok
t/used.t ........ skipped: Author tests not required for installation
t/vars.t ........ skipped: Author tests not required for installation
All tests successful.
Test Summary Report
-------------------
t/boiler.t (Wstat: 0 Tests: 3 Failed: 0)
TODO passed: 1-3
Files=27, Tests=29, 10 wallclock secs ( 0.07 usr 0.05 sys + 3.11 cusr 0.88 csys = 4.11 CPU)
Result: PASS
------------------------------
PREREQUISITES
------------------------------
Prerequisite modules loaded:
requires:
Module Need Have
-------------------- -------- --------
Encode 0 2.93
HTTP::Request 0 6.13
JSON 0 2.94
LWP::Protocol::https 0 6.07
LWP::UserAgent 0 6.29
perl 5.006002 5.018004
URI 0 1.72
build_requires:
Module Need Have
-------------------- -------- --------
ExtUtils::MakeMaker 0 7.30
Test::Carp 0 0.2
Test::LWP::UserAgent 0 0.033
Test::Most 0 0.35
Test::NoWarnings 0 1.04
Test::Number::Delta 0 1.06
configure_requires:
Module Need Have
-------------------- -------- --------
ExtUtils::MakeMaker 0 7.30
------------------------------
ENVIRONMENT AND OTHER CONTEXT
------------------------------
Environment variables:
PATH = /usr/local/bin:/usr/bin:/bin:/usr/local/sbin:/usr/sbin:/sbin:/home/cpansand/bin/freebsd12.0:/home/cpansand/bin/sh:/home/cpansand/bin:/usr/games:/home/cpansand/devel:/home/eserte/src/srezic-misc/scripts
PERL5LIB = /home/cpansand/.cpan/build/2017112003/Geo-Coder-GeocodeFarm-0.0402-4RTy6K/blib/arch:/home/cpansand/.cpan/build/2017112003/Geo-Coder-GeocodeFarm-0.0402-4RTy6K/blib/lib:/home/cpansand/.cpan/build/2017112003/Geo-Coder-Ovi-0.03-PYsR7E/blib/arch:/home/cpansand/.cpan/build/2017112003/Geo-Coder-Ovi-0.03-PYsR7E/blib/lib:/home/cpansand/.cpan/build/2017112003/Geo-Coder-Postcodes-0.04-xdygCt/blib/arch:/home/cpansand/.cpan/build/2017112003/Geo-Coder-Postcodes-0.04-xdygCt/blib/lib:/home/cpansand/.cpan/build/2017112003/Test-Carp-0.2-fuxr_C/blib/arch:/home/cpansand/.cpan/build/2017112003/Test-Carp-0.2-fuxr_C/blib/lib:/home/cpansand/.cpan/build/2017112003/LWP-UserAgent-Throttled-0.06-9F_9ZR/blib/arch:/home/cpansand/.cpan/build/2017112003/LWP-UserAgent-Throttled-0.06-9F_9ZR/blib/lib
PERL5OPT =
PERL5_CPANPLUS_IS_RUNNING = 19788
PERL5_CPAN_IS_RUNNING = 19788
PERL5_CPAN_IS_RUNNING_IN_RECURSION = 15476,19788
PERLDOC = -MPod::Perldoc::ToTextOverstrike
PERL_BATCH = yes
PERL_CANARY_STABILITY_NOPROMPT = 1
PERL_CPAN_REPORTER_CONFIG = /var/tmp/cpansmoker-1023/2017112003/cpanreporter_000_config.ini
PERL_EXTUTILS_AUTOINSTALL = --defaultdeps
SHELL = /usr/local/bin/zsh
TERM = screen
TMPDIR = /var/tmp/cpansmoker-1023/2017112003
Perl special variables (and OS-specific diagnostics, for MSWin32):
$^X = /usr/perl5.18.4p/bin/perl
$UID/$EUID = 1023 / 1023
$GID = 1023 1023
$EGID = 1023 1023
Perl module toolchain versions installed:
Module Have
------------------- --------
CPAN 2.00
CPAN::Meta 2.150010
Cwd 3.40
ExtUtils::CBuilder 0.280226
ExtUtils::Command 7.30
ExtUtils::Install 2.06
ExtUtils::MakeMaker 7.30
ExtUtils::Manifest 1.70
ExtUtils::ParseXS 3.35
File::Spec 3.40
JSON 2.94
JSON::PP 2.94
Module::Build 0.4224
Module::Signature 0.81
Parse::CPAN::Meta 2.150010
Test::Harness 3.39
Test::More 1.302106
YAML 1.24
YAML::Syck 1.30
version 0.9918
--
Summary of my perl5 (revision 5 version 18 subversion 4) configuration:
Platform:
osname=freebsd, osvers=12.0-current, archname=amd64-freebsd
uname='freebsd ali1.bbbike.org 12.0-current freebsd 12.0-current #0 bd8385a990e(master)-dirty: fri nov 17 03:13:11 utc 2017 root@ali1.bbbike.org:usrobjhomeprojectsfreebsdamd64.amd64sysgeneric-nodebug amd64 '
config_args='-ds -e -Dprefix=/usr/perl5.18.4p -Dcf_email=srezic@cpan.org -Doptimize=-O2 -pipe'
hint=recommended, useposix=true, d_sigaction=define
useithreads=undef, usemultiplicity=undef
useperlio=define, d_sfio=undef, uselargefiles=define, usesocks=undef
use64bitint=define, use64bitall=define, uselongdouble=undef
usemymalloc=n, bincompat5005=undef
Compiler:
cc='cc', ccflags ='-DHAS_FPSETMASK -DHAS_FLOATINGPOINT_H -fno-strict-aliasing -pipe -fstack-protector -I/usr/local/include',
optimize='-O2 -pipe',
cppflags='-DHAS_FPSETMASK -DHAS_FLOATINGPOINT_H -fno-strict-aliasing -pipe -fstack-protector -I/usr/local/include'
ccversion='', gccversion='4.2.1 Compatible FreeBSD Clang 5.0.0 (tags/RELEASE_500/final 312559)', gccosandvers=''
intsize=4, longsize=8, ptrsize=8, doublesize=8, byteorder=12345678
d_longlong=define, longlongsize=8, d_longdbl=define, longdblsize=16
ivtype='long', ivsize=8, nvtype='double', nvsize=8, Off_t='off_t', lseeksize=8
alignbytes=8, prototype=define
Linker and Libraries:
ld='cc', ldflags ='-pthread -Wl,-E -fstack-protector -L/usr/local/lib'
libpth=/usr/lib /usr/local/lib
libs=-lgdbm -lm -lcrypt -lutil -lc
perllibs=-lm -lcrypt -lutil -lc
libc=, so=so, useshrplib=false, libperl=libperl.a
gnulibc_version=''
Dynamic Linking:
dlsrc=dl_dlopen.xs, dlext=so, d_dlsymun=undef, ccdlflags=' '
cccdlflags='-DPIC -fPIC', lddlflags='-shared -L/usr/local/lib -fstack-protector'
Characteristics of this binary (from libperl):
Compile-time options: HAS_TIMES PERLIO_LAYERS PERL_DONT_CREATE_GVSV
PERL_HASH_FUNC_ONE_AT_A_TIME_HARD PERL_MALLOC_WRAP
PERL_PRESERVE_IVUV PERL_SAWAMPERSAND USE_64_BIT_ALL
USE_64_BIT_INT USE_LARGE_FILES USE_LOCALE
USE_LOCALE_COLLATE USE_LOCALE_CTYPE
USE_LOCALE_NUMERIC USE_PERLIO USE_PERL_ATOF
Built under freebsd
Compiled at Nov 17 2017 06:44:20
%ENV:
PERL5LIB="/home/cpansand/.cpan/build/2017112003/Geo-Coder-GeocodeFarm-0.0402-4RTy6K/blib/arch:/home/cpansand/.cpan/build/2017112003/Geo-Coder-GeocodeFarm-0.0402-4RTy6K/blib/lib:/home/cpansand/.cpan/build/2017112003/Geo-Coder-Ovi-0.03-PYsR7E/blib/arch:/home/cpansand/.cpan/build/2017112003/Geo-Coder-Ovi-0.03-PYsR7E/blib/lib:/home/cpansand/.cpan/build/2017112003/Geo-Coder-Postcodes-0.04-xdygCt/blib/arch:/home/cpansand/.cpan/build/2017112003/Geo-Coder-Postcodes-0.04-xdygCt/blib/lib:/home/cpansand/.cpan/build/2017112003/Test-Carp-0.2-fuxr_C/blib/arch:/home/cpansand/.cpan/build/2017112003/Test-Carp-0.2-fuxr_C/blib/lib:/home/cpansand/.cpan/build/2017112003/LWP-UserAgent-Throttled-0.06-9F_9ZR/blib/arch:/home/cpansand/.cpan/build/2017112003/LWP-UserAgent-Throttled-0.06-9F_9ZR/blib/lib"
PERL5OPT=""
PERL5_CPANPLUS_IS_RUNNING="19788"
PERL5_CPAN_IS_RUNNING="19788"
PERL5_CPAN_IS_RUNNING_IN_RECURSION="15476,19788"
PERLDOC="-MPod::Perldoc::ToTextOverstrike"
PERL_BATCH="yes"
PERL_CANARY_STABILITY_NOPROMPT="1"
PERL_CPAN_REPORTER_CONFIG="/var/tmp/cpansmoker-1023/2017112003/cpanreporter_000_config.ini"
PERL_EXTUTILS_AUTOINSTALL="--defaultdeps"
@INC:
/home/cpansand/.cpan/build/2017112003/Geo-Coder-GeocodeFarm-0.0402-4RTy6K/blib/arch
/home/cpansand/.cpan/build/2017112003/Geo-Coder-GeocodeFarm-0.0402-4RTy6K/blib/lib
/home/cpansand/.cpan/build/2017112003/Geo-Coder-Ovi-0.03-PYsR7E/blib/arch
/home/cpansand/.cpan/build/2017112003/Geo-Coder-Ovi-0.03-PYsR7E/blib/lib
/home/cpansand/.cpan/build/2017112003/Geo-Coder-Postcodes-0.04-xdygCt/blib/arch
/home/cpansand/.cpan/build/2017112003/Geo-Coder-Postcodes-0.04-xdygCt/blib/lib
/home/cpansand/.cpan/build/2017112003/Test-Carp-0.2-fuxr_C/blib/arch
/home/cpansand/.cpan/build/2017112003/Test-Carp-0.2-fuxr_C/blib/lib
/home/cpansand/.cpan/build/2017112003/LWP-UserAgent-Throttled-0.06-9F_9ZR/blib/arch
/home/cpansand/.cpan/build/2017112003/LWP-UserAgent-Throttled-0.06-9F_9ZR/blib/lib
/usr/perl5.18.4p/lib/site_perl/5.18.4/amd64-freebsd
/usr/perl5.18.4p/lib/site_perl/5.18.4
/usr/perl5.18.4p/lib/5.18.4/amd64-freebsd
/usr/perl5.18.4p/lib/5.18.4
.