Report for Dist-Zilla-Plugin-CheckExtraTests-0.021

Back
From: metabase:user:8286d1fc-3d52-11e2-9ec4-cb9cdd236785
Subject: PASS Dist-Zilla-Plugin-CheckExtraTests-0.021 v5.20.0 RC0 GNU/Linux
Date: 2014-05-14T11:22:45Z

This distribution has been tested as part of the CPAN Testers
project, supporting the Perl programming language.  See
http://wiki.cpantesters.org/ for more information or email
questions to cpan-testers-discuss@perl.org


--
Dear David Golden,

This is a computer-generated report for Dist-Zilla-Plugin-CheckExtraTests-0.021
on perl 5.20.0, created by CPAN-Reporter-1.2011.

Thank you for uploading your work to CPAN.  Congratulations!
All tests were successful.

Sections of this report:

    * Tester comments
    * Program output
    * Prerequisites
    * Environment and other context

------------------------------
TESTER COMMENTS
------------------------------

Additional comments from tester:

none provided

------------------------------
PROGRAM OUTPUT
------------------------------

Output from '/usr/local/bin/make test':

PERL_DL_NONLAZY=1 /opt/perl444-27-O0-5.20.0-RC0/bin/perl "-MExtUtils::Command::MM" "-MTest::Harness" "-e" "undef *Test::Harness::Switches; test_harness(0, 'blib/lib', 'blib/arch')" t/*.t
# 
# Versions for all modules listed in MYMETA.json (including optional ones):
#    Version Module                          
#   -------- --------------------------------
#       3.30 App::Prove                      
#       1.96 Archive::Tar                    
#   2.141170 CPAN::Meta                      
#      2.125 CPAN::Meta::Requirements        
#       0.24 Capture::Tiny                   
#      5.016 Dist::Zilla                     
#      5.016 Dist::Zilla::App                
#      5.016 Dist::Zilla::App::Tester        
#      5.016 Dist::Zilla::Role::BeforeRelease
#      5.016 Dist::Zilla::Role::TestRunner   
#      5.016 Dist::Zilla::Tester             
#       6.98 ExtUtils::MakeMaker             
#       3.47 File::Spec::Functions           
#      1.006 File::pushd                     
#       1.38 List::Util                      
#     2.1205 Moose                           
#       0.15 Moose::Autobox                  
#       1.07 Params::Util                    
#      1.008 Path::Iterator::Rule            
#      0.054 Path::Tiny                      
#      0.987 Sub::Exporter                   
#   1.001003 Test::More                      
#       0.07 Test::Requires                  
#       0.22 Try::Tiny                       
#       0.63 lib                             
#       0.15 namespace::autoclean            
#       1.08 strict                          
#     0.9908 version                         
#       1.23 warnings                        
t/00-report-prereqs.t .. ok
t/checkxt.t ............ ok
t/runxt.t .............. ok
t/withblib.t ........... ok
All tests successful.
Files=4, Tests=16, 105 wallclock secs ( 0.22 usr  0.03 sys + 67.30 cusr  6.08 csys = 73.63 CPU)
Result: PASS

------------------------------
PREREQUISITES
------------------------------

Prerequisite modules loaded:

requires:

    Module                           Need     Have    
    -------------------------------- -------- --------
    App::Prove                       3.00     3.30    
    Archive::Tar                     0        1.96    
    Dist::Zilla                      4.3      5.016   
    Dist::Zilla::App                 0        5.016   
    Dist::Zilla::Role::BeforeRelease 0        5.016   
    Dist::Zilla::Role::TestRunner    0        5.016   
    File::pushd                      0        1.006   
    Moose                            2        2.1205  
    Moose::Autobox                   0        0.15    
    namespace::autoclean             0.09     0.15    
    Path::Iterator::Rule             0        1.008   
    Path::Tiny                       0.013    0.054   
    strict                           0        1.08    
    warnings                         0        1.23    

build_requires:

    Module                           Need     Have    
    -------------------------------- -------- --------
    Capture::Tiny                    0        0.24    
    Dist::Zilla::App::Tester         0        5.016   
    Dist::Zilla::Tester              0        5.016   
    ExtUtils::MakeMaker              0        6.98    
    File::Spec::Functions            0        3.47    
    lib                              0        0.63    
    List::Util                       0        1.38    
    Params::Util                     0        1.07    
    Sub::Exporter                    0        0.987   
    Test::More                       0.88     1.001003
    Test::Requires                   0        0.07    
    Try::Tiny                        0        0.22    
    version                          0        0.9908  

configure_requires:

    Module                           Need     Have    
    -------------------------------- -------- --------
    ExtUtils::MakeMaker              6.17     6.98    

opt_build_requires:

    Module                           Need     Have    
    -------------------------------- -------- --------
    CPAN::Meta                       0        2.141170
    CPAN::Meta::Requirements         2.120900 2.125   


------------------------------
ENVIRONMENT AND OTHER CONTEXT
------------------------------

Environment variables:

    LANG = en_US.UTF-8
    LD_LIBRARY_PATH = /usr/local/lib
    PATH = /usr/lib/qt-3.3/bin:/usr/kerberos/sbin:/usr/kerberos/bin:/usr/lib/ccache:/usr/local/sbin:/usr/local/bin:/sbin:/bin:/usr/sbin:/usr/bin:/usr/X11R6/bin:/usr/lib/alliance/bin:/opt/real/RealPlayer:/root/bin:/usr/lib/alliance/bin:/opt/real/RealPlayer
    PERL5LIB = 
    PERL5OPT = 
    PERL5_CPANPLUS_IS_RUNNING = 24355
    PERL5_CPAN_IS_RUNNING = 24355
    PERL_ANYEVENT_MODEL = POE
    PERL_MM_NONINTERACTIVE = 1
    PERL_MM_USE_DEFAULT = 1
    SHELL = /bin/bash
    TERM = xterm

Perl special variables (and OS-specific diagnostics, for MSWin32):

    $^X = /opt/perl444-27-O0-5.20.0-RC0/bin/perl
    $UID/$EUID = 0 / 0
    $GID = 0 0 1 2 3 4 6 10
    $EGID = 0 0 1 2 3 4 6 10

Perl module toolchain versions installed:

    Module              Have    
    ------------------- --------
    CPAN                2.05    
    CPAN::Meta          2.141170
    Cwd                 3.47    
    ExtUtils::CBuilder  0.280216
    ExtUtils::Command   1.18    
    ExtUtils::Install   1.67    
    ExtUtils::MakeMaker 6.98    
    ExtUtils::Manifest  1.63    
    ExtUtils::ParseXS   3.24    
    File::Spec          3.47    
    JSON                2.90    
    JSON::PP            2.27203 
    Module::Build       0.4205  
    Module::Signature   0.73    
    Parse::CPAN::Meta   1.4414  
    Test::Harness       3.30    
    Test::More          1.001003
    YAML                0.90    
    YAML::Syck          1.27    
    version             0.9908  


--

Summary of my perl5 (revision 5 version 20 subversion 0) configuration:
  Snapshot of: 57cc77e6d1e3f8bceb3a9542f25ec53157fbb700
  Platform:
    osname=linux, osvers=2.6.27-repin.1, archname=i686-linux-thread-multi-64int-ld
    uname='linux localhost.localdomain 2.6.27-repin.1 #1 smp tue jan 25 20:07:21 msk 2011 i686 i686 i386 gnulinux '
    config_args='-Dcc=/opt/444/bin/gcc -Dprefix=/opt/perl444-27-O0-5.20.0-RC0 -DDEBUGGING'
    hint=recommended, useposix=true, d_sigaction=define
    useithreads=define, usemultiplicity=define
    use64bitint=define, use64bitall=undef, uselongdouble=define
    usemymalloc=y, bincompat5005=undef
  Compiler:
    cc='/opt/444/bin/gcc', ccflags ='-D_REENTRANT -D_GNU_SOURCE -fwrapv -DDEBUGGING -fno-strict-aliasing -pipe -fstack-protector -I/usr/local/include -I/opt/gnu/include -D_LARGEFILE_SOURCE -D_FILE_OFFSET_BITS=64',
    optimize='-O0 -g',
    cppflags='-D_REENTRANT -D_GNU_SOURCE -fwrapv -DDEBUGGING -fno-strict-aliasing -pipe -fstack-protector -I/usr/local/include -I/opt/gnu/include'
    ccversion='', gccversion='4.4.4', gccosandvers=''
    intsize=4, longsize=4, ptrsize=4, doublesize=8, byteorder=12345678
    d_longlong=define, longlongsize=8, d_longdbl=define, longdblsize=12
    ivtype='long long', ivsize=8, nvtype='long double', nvsize=12, Off_t='off_t', lseeksize=8
    alignbytes=4, prototype=define
  Linker and Libraries:
    ld='/opt/444/bin/gcc', ldflags =' -fstack-protector -L/usr/local/lib'
    libpth=/usr/local/lib /opt/444/lib /opt/444/lib/gcc/i686-pc-linux-gnu/4.4.4/include-fixed /usr/lib /lib
    libs=-lnsl -lgdbm -ldb -ldl -lm -lcrypt -lutil -lpthread -lc
    perllibs=-lnsl -ldl -lm -lcrypt -lutil -lpthread -lc
    libc=libc-2.5.so, so=so, useshrplib=true, libperl=libperl.so
    gnulibc_version='2.5'
  Dynamic Linking:
    dlsrc=dl_dlopen.xs, dlext=so, d_dlsymun=undef, ccdlflags='-Wl,-E -Wl,-rpath,/opt/perl444-27-O0-5.20.0-RC0/lib/5.20.0/i686-linux-thread-multi-64int-ld/CORE'
    cccdlflags='-fPIC', lddlflags='-shared -O0 -g -L/usr/local/lib -fstack-protector'


Characteristics of this binary (from libperl): 
  Compile-time options: DEBUGGING HAS_TIMES MULTIPLICITY MYMALLOC
                        PERLIO_LAYERS PERL_DONT_CREATE_GVSV
                        PERL_HASH_FUNC_ONE_AT_A_TIME_HARD
                        PERL_IMPLICIT_CONTEXT PERL_MAD PERL_MALLOC_WRAP
                        PERL_NEW_COPY_ON_WRITE PERL_PRESERVE_IVUV
                        PERL_TRACK_MEMPOOL USE_64_BIT_INT USE_FAST_STDIO
                        USE_ITHREADS USE_LARGE_FILES USE_LOCALE
                        USE_LOCALE_COLLATE USE_LOCALE_CTYPE
                        USE_LOCALE_NUMERIC USE_LONG_DOUBLE USE_PERLIO
                        USE_PERL_ATOF USE_REENTRANT_API
  Locally applied patches:
	RC0
  Built under linux
  Compiled at May 13 2014 16:40:13
  %ENV:
    PERL5LIB=""
    PERL5OPT=""
    PERL5_CPANPLUS_IS_RUNNING="24355"
    PERL5_CPAN_IS_RUNNING="24355"
    PERL_ANYEVENT_MODEL="POE"
    PERL_MM_NONINTERACTIVE="1"
    PERL_MM_USE_DEFAULT="1"
  @INC:
    /opt/perl444-27-O0-5.20.0-RC0/lib/site_perl/5.20.0/i686-linux-thread-multi-64int-ld
    /opt/perl444-27-O0-5.20.0-RC0/lib/site_perl/5.20.0
    /opt/perl444-27-O0-5.20.0-RC0/lib/5.20.0/i686-linux-thread-multi-64int-ld
    /opt/perl444-27-O0-5.20.0-RC0/lib/5.20.0
    .