Back
From: metabase:user:9820532a-708b-1014-9a05-b18a96298da1
Subject: PASS PostScript-Graph-1.02 v5.15.1 FreeBSD
Date: 2011-08-10T23:25:44Z
This distribution has been tested as part of the CPAN Testers
project, supporting the Perl programming language. See
http://wiki.cpantesters.org/ for more information or email
questions to cpan-testers-discuss@perl.org
--
Dear Christopher Willmot,
This is a computer-generated report for PostScript-Graph-1.02
on perl 5.15.1, created by CPAN-Reporter-1.2001.
Thank you for uploading your work to CPAN. Congratulations!
All tests were successful.
Sections of this report:
* Tester comments
* Program output
* Prerequisites
* Environment and other context
------------------------------
TESTER COMMENTS
------------------------------
Additional comments from tester:
this report is from an automated smoke testing program
and was not reviewed by a human for accuracy
------------------------------
PROGRAM OUTPUT
------------------------------
Output from '/usr/bin/make test':
PERL_DL_NONLAZY=1 /home/test/perl5/perlbrew/perls/perl-5.15.1/bin/perl5.15.1 "-MExtUtils::Command::MM" "-e" "test_harness(0, 'blib/lib', 'blib/arch')" t/*.t
Use of uninitialized value in numeric eq (==) at t/01pa-simple.t line 34.
Use ghostview or similar to inspect results file:
/usr/home/test/.cpan/build/PostScript-Graph-1.02-F0y8N9/t/01pa-simple.ps
t/01pa-simple.t .... ok
t/02pa-defaults.t .. ok
Use of uninitialized value in numeric eq (==) at t/03pa-barchart.t line 121.
Use ghostview or similar to inspect results file:
/usr/home/test/.cpan/build/PostScript-Graph-1.02-F0y8N9/t/03pa-barchart.ps
t/03pa-barchart.t .. ok
Use of uninitialized value in numeric eq (==) at t/04pa-twobars.t line 61.
Use ghostview or similar to inspect results file:
/usr/home/test/.cpan/build/PostScript-Graph-1.02-F0y8N9/t/04pa-twobars.ps
t/04pa-twobars.t ... ok
Use of uninitialized value in numeric eq (==) at t/10ke-simple.t line 58.
Use ghostview or similar to inspect results file:
/usr/home/test/.cpan/build/PostScript-Graph-1.02-F0y8N9/t/10ke-simple.ps
t/10ke-simple.t .... ok
Use of uninitialized value in numeric eq (==) at t/21st-simple.t line 53.
Use ghostview or similar to inspect results file:
/usr/home/test/.cpan/build/PostScript-Graph-1.02-F0y8N9/t/21st-simple.ps
t/21st-simple.t .... ok
Use of uninitialized value in numeric eq (==) at t/22st-styles.t line 72.
Use ghostview or similar to inspect results file:
/usr/home/test/.cpan/build/PostScript-Graph-1.02-F0y8N9/t/22st-styles.ps
t/22st-styles.t .... ok
Use of uninitialized value in numeric eq (==) at t/23st-const.t line 56.
Use ghostview or similar to inspect results file:
/usr/home/test/.cpan/build/PostScript-Graph-1.02-F0y8N9/t/23st-const.ps
t/23st-const.t ..... ok
Use of uninitialized value in numeric eq (==) at t/24st-colour.t line 54.
Use ghostview or similar to inspect results file:
/usr/home/test/.cpan/build/PostScript-Graph-1.02-F0y8N9/t/24st-colour.ps
t/24st-colour.t .... ok
Use of uninitialized value in numeric eq (==) at t/31ba-default.t line 45.
Use ghostview or similar to inspect results file:
/usr/home/test/.cpan/build/PostScript-Graph-1.02-F0y8N9/t/31ba-default.ps
t/31ba-default.t ... ok
Use of uninitialized value in numeric eq (==) at t/32ba-arrays.t line 67.
Use ghostview or similar to inspect results file:
/usr/home/test/.cpan/build/PostScript-Graph-1.02-F0y8N9/t/32ba-arrays.ps
t/32ba-arrays.t .... ok
Use of uninitialized value in numeric eq (==) at t/33ba-minus.t line 55.
Use ghostview or similar to inspect results file:
/usr/home/test/.cpan/build/PostScript-Graph-1.02-F0y8N9/t/33ba-minus.ps
t/33ba-minus.t ..... ok
Use of uninitialized value in numeric eq (==) at t/34ba-multi.t line 52.
Use ghostview or similar to inspect results file:
/usr/home/test/.cpan/build/PostScript-Graph-1.02-F0y8N9/t/34ba-multi.ps
t/34ba-multi.t ..... ok
Use of uninitialized value in numeric eq (==) at t/35ba-single.t line 57.
Use ghostview or similar to inspect results file:
/usr/home/test/.cpan/build/PostScript-Graph-1.02-F0y8N9/t/35ba-single.ps
t/35ba-single.t .... ok
Use of uninitialized value in numeric eq (==) at t/36ba-extra.t line 84.
Use ghostview or similar to inspect results file:
/usr/home/test/.cpan/build/PostScript-Graph-1.02-F0y8N9/t/36ba-extra.ps
t/36ba-extra.t ..... ok
Use of uninitialized value in numeric eq (==) at t/37ba-lines.t line 74.
Use ghostview or similar to inspect results file:
/usr/home/test/.cpan/build/PostScript-Graph-1.02-F0y8N9/t/37ba-lines.ps
t/37ba-lines.t ..... ok
Use of uninitialized value in numeric eq (==) at t/41xy-ohms.t line 42.
Use ghostview or similar to inspect results file:
/usr/home/test/.cpan/build/PostScript-Graph-1.02-F0y8N9/t/41xy-ohms.ps
t/41xy-ohms.t ...... ok
Use of uninitialized value in numeric eq (==) at t/42xy-lines.t line 106.
Use ghostview or similar to inspect results file:
/usr/home/test/.cpan/build/PostScript-Graph-1.02-F0y8N9/t/42xy-lines.ps
t/42xy-lines.t ..... ok
Use of uninitialized value in numeric eq (==) at t/43xy-styles.t line 82.
Use ghostview or similar to inspect results file:
/usr/home/test/.cpan/build/PostScript-Graph-1.02-F0y8N9/t/43xy-styles.ps
t/43xy-styles.t .... ok
All tests successful.
Files=19, Tests=261, 3 wallclock secs ( 0.20 usr 0.50 sys + 0.95 cusr 0.57 csys = 2.22 CPU)
Result: PASS
------------------------------
PREREQUISITES
------------------------------
Prerequisite modules loaded:
requires:
Module Need Have
------------------- ---- -------
Carp 0 1.21
Exporter 0 5.64_03
PostScript::File 1.01 2.10
Test::More 0 0.98
Text::CSV_XS 0 0.83
build_requires:
Module Need Have
------------------- ---- -------
ExtUtils::MakeMaker 0 6.59
------------------------------
ENVIRONMENT AND OTHER CONTEXT
------------------------------
Environment variables:
AUTOMATED_TESTING = 1
LANG = C
LC_ALL = C
PATH = /home/test/perl5/perlbrew/bin:/home/test/perl5/perlbrew/perls/perl-5.15.1/bin:~/bin:/sbin:/bin:/usr/sbin:/usr/bin:/usr/games:/usr/local/sbin:/usr/local/bin:/home/test/bin
PATH_WITHOUT_PERLBREW = ~/bin:/sbin:/bin:/usr/sbin:/usr/bin:/usr/games:/usr/local/sbin:/usr/local/bin:/home/test/bin
PERL5LIB =
PERL5OPT =
PERL5_CPANPLUS_IS_RUNNING = 43258
PERL5_CPAN_IS_RUNNING = 43258
PERL5_CPAN_IS_RUNNING_IN_RECURSION = 49961,43258
PERLBREW_HOME = /home/test/.perlbrew
PERLBREW_PATH = /home/test/perl5/perlbrew/bin:/home/test/perl5/perlbrew/perls/perl-5.15.1/bin
PERLBREW_PERL = perl-5.15.1
PERLBREW_ROOT = /home/test/perl5/perlbrew
PERLBREW_VERSION = 0.27
PERL_CPANM_OPT = --prompt --mirror http://172.16.1.3/cpan/
PERL_CR_SMOKER_CURRENT = PostScript-Graph-1.02
PERL_EXTUTILS_AUTOINSTALL = --defaultdeps
PERL_MM_USE_DEFAULT = 1
SHELL = /usr/local/bin/bash
TERM = linux
Perl special variables (and OS-specific diagnostics, for MSWin32):
$^X = /home/test/perl5/perlbrew/perls/perl-5.15.1/bin/perl5.15.1
$UID/$EUID = 1002 / 1002
$GID = 1002 1002
$EGID = 1002 1002
Perl module toolchain versions installed:
Module Have
------------------- --------
CPAN 1.9800
CPAN::Meta 2.112150
Cwd 3.37
ExtUtils::CBuilder 0.280204
ExtUtils::Command 1.17
ExtUtils::Install 1.56
ExtUtils::MakeMaker 6.59
ExtUtils::Manifest 1.59
ExtUtils::ParseXS 3.02
File::Spec 3.33
JSON 2.53
JSON::PP 2.27200
Module::Build 0.3800
Module::Signature n/a
Parse::CPAN::Meta 1.4401
Test::Harness 3.23
Test::More 0.98
YAML 0.73
YAML::Syck n/a
version 0.93
--
Summary of my perl5 (revision 5 version 15 subversion 1) configuration:
Platform:
osname=freebsd, osvers=8.1-release, archname=amd64-freebsd-thread-multi
uname='freebsd fbsd.local 8.1-release freebsd 8.1-release #0: mon jul 19 02:36:49 utc 2010 root@mason.cse.buffalo.edu:usrobjusrsrcsysgeneric amd64 '
config_args='-de -Dprefix=/home/test/perl5/perlbrew/perls/perl-5.15.1 -Dusethreads -Dusedevel'
hint=recommended, useposix=true, d_sigaction=define
useithreads=define, usemultiplicity=define
useperlio=define, d_sfio=undef, uselargefiles=define, usesocks=undef
use64bitint=define, use64bitall=define, uselongdouble=undef
usemymalloc=n, bincompat5005=undef
Compiler:
cc='cc', ccflags ='-DHAS_FPSETMASK -DHAS_FLOATINGPOINT_H -fno-strict-aliasing -pipe -fstack-protector -I/usr/local/include',
optimize='-O',
cppflags='-DHAS_FPSETMASK -DHAS_FLOATINGPOINT_H -fno-strict-aliasing -pipe -fstack-protector -I/usr/local/include'
ccversion='', gccversion='4.2.1 20070719 [FreeBSD]', gccosandvers=''
intsize=4, longsize=8, ptrsize=8, doublesize=8, byteorder=12345678
d_longlong=define, longlongsize=8, d_longdbl=define, longdblsize=16
ivtype='long', ivsize=8, nvtype='double', nvsize=8, Off_t='off_t', lseeksize=8
alignbytes=8, prototype=define
Linker and Libraries:
ld='cc', ldflags ='-pthread -Wl,-E -fstack-protector -L/usr/local/lib'
libpth=/usr/lib /usr/local/lib
libs=-lm -lcrypt
perllibs=-lm -lcrypt
libc=, so=so, useshrplib=false, libperl=libperl.a
gnulibc_version=''
Dynamic Linking:
dlsrc=dl_dlopen.xs, dlext=so, d_dlsymun=undef, ccdlflags=' '
cccdlflags='-DPIC -fPIC', lddlflags='-shared -L/usr/local/lib -fstack-protector'
Characteristics of this binary (from libperl):
Compile-time options: HAS_TIMES MULTIPLICITY PERLIO_LAYERS
PERL_DONT_CREATE_GVSV PERL_IMPLICIT_CONTEXT
PERL_MALLOC_WRAP PERL_PRESERVE_IVUV PERL_USE_DEVEL
USE_64_BIT_ALL USE_64_BIT_INT USE_ITHREADS
USE_LARGE_FILES USE_LOCALE USE_LOCALE_COLLATE
USE_LOCALE_CTYPE USE_LOCALE_NUMERIC USE_PERLIO
USE_PERL_ATOF USE_REENTRANT_API
Built under freebsd
Compiled at Jul 31 2011 22:12:40
%ENV:
PERL5LIB=""
PERL5OPT=""
PERL5_CPANPLUS_IS_RUNNING="43258"
PERL5_CPAN_IS_RUNNING="43258"
PERL5_CPAN_IS_RUNNING_IN_RECURSION="49961,43258"
PERLBREW_HOME="/home/test/.perlbrew"
PERLBREW_PATH="/home/test/perl5/perlbrew/bin:/home/test/perl5/perlbrew/perls/perl-5.15.1/bin"
PERLBREW_PERL="perl-5.15.1"
PERLBREW_ROOT="/home/test/perl5/perlbrew"
PERLBREW_VERSION="0.27"
PERL_CPANM_OPT="--prompt --mirror http://172.16.1.3/cpan/"
PERL_CR_SMOKER_CURRENT="PostScript-Graph-1.02"
PERL_EXTUTILS_AUTOINSTALL="--defaultdeps"
PERL_MM_USE_DEFAULT="1"
@INC:
/home/test/perl5/perlbrew/perls/perl-5.15.1/lib/site_perl/5.15.1/amd64-freebsd-thread-multi
/home/test/perl5/perlbrew/perls/perl-5.15.1/lib/site_perl/5.15.1
/home/test/perl5/perlbrew/perls/perl-5.15.1/lib/5.15.1/amd64-freebsd-thread-multi
/home/test/perl5/perlbrew/perls/perl-5.15.1/lib/5.15.1
.