WebService-GData v0.06 Perl 5 v5.31.2 x86_64-linux-thread-multi-ld
- Status
- Pass
- From
- Andreas J. König (ANDK)
- Dist
-
WebService-GData v0.06
- Platform
- Perl 5 v5.31.2 x86_64-linux-thread-multi-ld
- Date
- 2019-06-24 07:52:52
- ID
- 11bdeb82-9655-11e9-b1fd-c555e72b0a24
This distribution has been tested as part of the CPAN Testers
project, supporting the Perl programming language. See
http://wiki.cpantesters.org/ for more information or email
questions to cpan-testers-discuss@perl.org
--
Dear Gabor Szabo,
This is a computer-generated report for WebService-GData-0.06
on perl 5.31.2, created by CPAN-Reporter-1.2018.
Thank you for uploading your work to CPAN. Congratulations!
All tests were successful.
Sections of this report:
* Tester comments
* Program output
* Prerequisites
* Environment and other context
------------------------------
TESTER COMMENTS
------------------------------
Additional comments from tester:
this report is from an automated smoke testing program
and was not reviewed by a human for accuracy
------------------------------
PROGRAM OUTPUT
------------------------------
Output from '/usr/bin/make test':
PERL_DL_NONLAZY=1 "/tmp/basesmoker-reloperl-eI54/bin/perl" "-MExtUtils::Command::MM" "-MTest::Harness" "-e" "undef *Test::Harness::Switches; test_harness(0, 'inc', 'blib/lib', 'blib/arch')" t/*.t
t/00-WebService-GData-load.t ................................. ok
t/01-WebService-GData-instance.t ............................. ok
t/02-WebService-GData-install_in_package.t ................... ok
t/03-WebService-GData-Constants-load.t ....................... ok
t/04-WebService-GData-Constants-noimport.t ................... ok
t/05-WebService-GData-Constants-import-service.t ............. ok
t/06-WebService-GData-Constants-import-format.t .............. ok
t/07-WebService-GData-Constants-import-general.t ............. ok
t/08-WebService-GData-Constants-import-namespaces.t .......... ok
t/09-WebService-GData-Error-Entry-load.t ..................... ok
t/10-WebService-GData-Error-Entry-instance.t ................. ok
t/11-WebService-GData-Error-Entry-parsexml.t ................. ok
t/12-WebService-GData-Error-Entry-createxml.t ................ ok
t/13-WebService-GData-Error-load.t ........................... ok
t/14-WebService-GData-Error-instance.t ....................... ok
t/15-WebService-GData-Error-parsexml.t ....................... ok
t/16-WebService-GData-Query-load.t ........................... ok
t/17-WebService-GData-Query-instance.t ....................... ok
t/18-WebService-GData-YouTube-Query-load.t ................... ok
t/19-WebService-GData-YouTube-Query-instance.t ............... ok
t/20-WebService-GData-Base-load.t ............................ ok
t/21-WebService-GData-Base-instance.t ........................ ok
t/22-WebService-GData-Base-mockrequest.t ..................... ok
t/23-WebService-GData-ClientLogin-load.t ..................... ok
t/24-WebService-GData-ClientLogin-mockrequest.t .............. ok
t/25-WebService-GData-ClientLogin-fail.t ..................... ok
t/26-WebService-GData-ClientLogin-requestservice.t ........... skipped: Crypt::SSLeay must be installed to test ClientLogin live...
t/27-WebService-GData-Node-load.t ............................ ok
t/28-WebService-GData-Node-Link-load.t ....................... ok
t/29-WebService-GData-Node-Link-instance.t ................... ok
t/30-WebService-GData-Node-Category-load.t ................... ok
t/31-WebService-GData-Node-Category-instance.t ............... ok
t/32-WebService-GData-Node-Content-load.t .................... ok
t/33-WebService-GData-Node-Content-instance.t ................ ok
t/34-WebService-GData-Node-Media-Content-instance.t .......... ok
t/35-WebService-GData-Node-GeoRSS-GML-instance.t ............. ok
t/36-WebService-GData-Node-AuthorEntity-load.t ............... ok
t/37-WebService-GData-Node-AuthorEntity-instance.t ........... ok
t/38-WebService-GData-Node-PointEntity-load.t ................ ok
t/39-WebService-GData-Node-PointEntity-instance.t ............ ok
t/40-WebService-GData-Collection-load.t ...................... ok
t/41-WebService-GData-Collection-instance.t .................. ok
t/42-WebService-GData-Node-Atom-FeedEntity-instance.t ........ ok
t/43-WebService-GData-Node-Atom-FeedEntity-emptyinstance.t ... ok
t/44-WebService-GData-Feed-load.t ............................ ok
t/45-WebService-GData-Feed-instance.t ........................ ok
t/46-WebService-GData-Feed-instance.t ........................ ok
t/47-WebService-GData-Feed-Entry-load.t ...................... ok
t/48-WebService-GData-Feed-Entry-instance.t .................. ok
t/49-WebService-GData-YouTube-Constants-load.t ............... ok
t/50-WebService-GData-YouTube-Constants-noimport.t ........... ok
t/51-WebService-GData-YouTube-Constants-imported.t ........... ok
t/52-WebService-GData-YouTube-load.t ......................... ok
t/53-WebService-GData-YouTube-Node-AccessControl-instance.t .. ok
t/54-WebService-GData-YouTube-Node-AboutMe-instance.t ........ ok
t/55-WebService-GData-YouTube-Feed-Video-load.t .............. ok
t/56-WebService-GData-YouTube-Feed-Video-instance.t .......... ok
t/57-WebService-Gdata-Youtube-StagingServer.t ................ ok
t/58-WebService-GData-YouTube-Feed-UserProfile-instance.t .... ok
t/59-WebService-GData-YouTube-Feed-Complaint-instance.t ...... ok
t/60-WebService-GData-YouTube-Feed-VideoMessage-instance.t ... ok
All tests successful.
Files=61, Tests=339, 9 wallclock secs ( 0.15 usr 0.28 sys + 4.94 cusr 2.88 csys = 8.25 CPU)
Result: PASS
------------------------------
PREREQUISITES
------------------------------
Prerequisite modules loaded:
requires:
Module Need Have
------------------- -------- --------
JSON 2 4.02
LWP 0 6.39
perl 5.008008 5.031002
Test::Mock::LWP 0.05 0.08
Test::More 0 1.302164
build_requires:
Module Need Have
------------------- -------- --------
ExtUtils::MakeMaker 6.59 7.36
configure_requires:
Module Need Have
------------------- -------- --------
ExtUtils::MakeMaker 6.59 7.36
opt_requires:
Module Need Have
------------------- -------- --------
! Crypt::SSLeay 0 n/a
------------------------------
ENVIRONMENT AND OTHER CONTEXT
------------------------------
Environment variables:
AUTOMATED_TESTING = 1
LANG = en_US.UTF-8
PATH = /home/sand/bin:/usr/local/bin:/usr/bin:/bin:/usr/games:/usr/local/perl/bin:/usr/X11/bin:/sbin:/usr/sbin
PERL5LIB = /home/sand/.cpan/privbuild/k93msid/File-Object-0.11-0/blib/arch:/home/sand/.cpan/privbuild/k93msid/File-Object-0.11-0/blib/lib:/home/sand/.cpan/privbuild/k93msid/Class-Utils-0.08-0/blib/arch:/home/sand/.cpan/privbuild/k93msid/Class-Utils-0.08-0/blib/lib:/home/sand/.cpan/privbuild/k93msid/Error-Pure-0.25-0/blib/arch:/home/sand/.cpan/privbuild/k93msid/Error-Pure-0.25-0/blib/lib:/home/sand/.cpan/privbuild/k93msid/Error-Pure-Output-Text-0.23-0/blib/arch:/home/sand/.cpan/privbuild/k93msid/Error-Pure-Output-Text-0.23-0/blib/lib:/home/sand/.cpan/privbuild/k93msid/Module-Build-Using-PkgConfig-0.03-2/blib/arch:/home/sand/.cpan/privbuild/k93msid/Module-Build-Using-PkgConfig-0.03-2/blib/lib:/home/sand/.cpan/privbuild/k93msid/Test-Perinci-CmdLine-1.47-1/blib/arch:/home/sand/.cpan/privbuild/k93msid/Test-Perinci-CmdLine-1.47-1/blib/lib:/home/sand/.cpan/privbuild/k93msid/Perinci-Examples-0.812-1/blib/arch:/home/sand/.cpan/privbuild/k93msid/Perinci-Examples-0.812-1/blib/lib:/home/sand/.cpan/privbuild/k93msid/Perinci-Sub-Property-arg-cmdline-0.02-1/blib/arch:/home/sand/.cpan/privbuild/k93msid/Perinci-Sub-Property-arg-cmdline-0.02-1/blib/lib:/home/sand/.cpan/privbuild/k93msid/Canary-Stability-2013-4/blib/arch:/home/sand/.cpan/privbuild/k93msid/Canary-Stability-2013-4/blib/lib:/home/sand/.cpan/privbuild/k93msid/Data-Validate-0.09-0/blib/arch:/home/sand/.cpan/privbuild/k93msid/Data-Validate-0.09-0/blib/lib
PERL5OPT =
PERL5_CPANPLUS_IS_RUNNING = 3135
PERL5_CPAN_IS_RUNNING = 3135
PERL_CANARY_STABILITY_NOPROMPT = 1
PERL_MM_USE_DEFAULT = 1
PERL_USE_UNSAFE_INC = 1
SHELL = /usr/bin/zsh
TERM = screen
Perl special variables (and OS-specific diagnostics, for MSWin32):
$^X = /tmp/basesmoker-reloperl-eI54/bin/perl
$UID/$EUID = 1005 / 1005
$GID = 1005 1005
$EGID = 1005 1005
Perl module toolchain versions installed:
Module Have
------------------- --------
CPAN 2.27
CPAN::Meta 2.150010
Cwd 3.78
ExtUtils::CBuilder 0.280232
ExtUtils::Command 7.36
ExtUtils::Install 2.14
ExtUtils::MakeMaker 7.36
ExtUtils::Manifest 1.72
ExtUtils::ParseXS 3.40
File::Spec 3.78
JSON 4.02
JSON::PP 4.03
Module::Build 0.4229
Module::Signature 0.83
Parse::CPAN::Meta 2.150010
Test::Harness 3.42
Test::More 1.302164
YAML 1.29
YAML::Syck 1.31
version 0.9924
--
Summary of my perl5 (revision 5 version 31 subversion 2) configuration:
Commit id: f6c49686d30d066bfb0eb583cbbfeb243f65a727
Platform:
osname=linux
osvers=4.18.0-2-amd64
archname=x86_64-linux-thread-multi-ld
uname='linux k93msid 4.18.0-2-amd64 #1 smp debian 4.18.10-2 (2018-10-07) x86_64 gnulinux '
config_args='-Dprefix=/home/sand/src/perl/repoperls/installed-perls/host/k93msid/v5.31.1-51-gf6c49686d3/496c -Dmyhostname=k93msid -Dinstallusrbinperl=n -Uversiononly -Dusedevel -des -Ui_db -Dlibswanted=cl pthread socket inet nsl gdbm dbm malloc dl ld sun m crypt sec util c cposix posix ucb BSD gdbm_compat -Duseithreads -Duselongdouble -DEBUGGING=none'
hint=recommended
useposix=true
d_sigaction=define
useithreads=define
usemultiplicity=define
use64bitint=define
use64bitall=define
uselongdouble=define
usemymalloc=n
default_inc_excludes_dot=define
bincompat5005=undef
Compiler:
cc='cc'
ccflags ='-D_REENTRANT -D_GNU_SOURCE -fwrapv -fno-strict-aliasing -pipe -fstack-protector-strong -I/usr/local/include -D_LARGEFILE_SOURCE -D_FILE_OFFSET_BITS=64 -D_FORTIFY_SOURCE=2'
optimize='-O2'
cppflags='-D_REENTRANT -D_GNU_SOURCE -fwrapv -fno-strict-aliasing -pipe -fstack-protector-strong -I/usr/local/include'
ccversion=''
gccversion='8.2.0'
gccosandvers=''
intsize=4
longsize=8
ptrsize=8
doublesize=8
byteorder=12345678
doublekind=3
d_longlong=define
longlongsize=8
d_longdbl=define
longdblsize=16
longdblkind=3
ivtype='long'
ivsize=8
nvtype='long double'
nvsize=16
Off_t='off_t'
lseeksize=8
alignbytes=16
prototype=define
Linker and Libraries:
ld='cc'
ldflags =' -fstack-protector-strong -L/usr/local/lib'
libpth=/usr/local/lib /usr/lib/gcc/x86_64-linux-gnu/8/include-fixed /usr/include/x86_64-linux-gnu /usr/lib /lib/x86_64-linux-gnu /lib/../lib /usr/lib/x86_64-linux-gnu /usr/lib/../lib /lib
libs=-lpthread -lnsl -ldl -lm -lcrypt -lutil -lc
perllibs=-lpthread -lnsl -ldl -lm -lcrypt -lutil -lc
libc=libc-2.27.so
so=so
useshrplib=false
libperl=libperl.a
gnulibc_version='2.27'
Dynamic Linking:
dlsrc=dl_dlopen.xs
dlext=so
d_dlsymun=undef
ccdlflags='-Wl,-E'
cccdlflags='-fPIC'
lddlflags='-shared -O2 -L/usr/local/lib -fstack-protector-strong'
Characteristics of this binary (from libperl):
Compile-time options:
HAS_TIMES
MULTIPLICITY
PERLIO_LAYERS
PERL_COPY_ON_WRITE
PERL_DONT_CREATE_GVSV
PERL_IMPLICIT_CONTEXT
PERL_MALLOC_WRAP
PERL_OP_PARENT
PERL_PRESERVE_IVUV
PERL_USE_DEVEL
USE_64_BIT_ALL
USE_64_BIT_INT
USE_ITHREADS
USE_LARGE_FILES
USE_LOCALE
USE_LOCALE_COLLATE
USE_LOCALE_CTYPE
USE_LOCALE_NUMERIC
USE_LOCALE_TIME
USE_LONG_DOUBLE
USE_PERLIO
USE_PERL_ATOF
USE_REENTRANT_API
USE_THREAD_SAFE_LOCALE
Built under linux
Compiled at Jun 21 2019 23:49:01
%ENV:
PERL5LIB="/home/sand/.cpan/privbuild/k93msid/File-Object-0.11-0/blib/arch:/home/sand/.cpan/privbuild/k93msid/File-Object-0.11-0/blib/lib:/home/sand/.cpan/privbuild/k93msid/Class-Utils-0.08-0/blib/arch:/home/sand/.cpan/privbuild/k93msid/Class-Utils-0.08-0/blib/lib:/home/sand/.cpan/privbuild/k93msid/Error-Pure-0.25-0/blib/arch:/home/sand/.cpan/privbuild/k93msid/Error-Pure-0.25-0/blib/lib:/home/sand/.cpan/privbuild/k93msid/Error-Pure-Output-Text-0.23-0/blib/arch:/home/sand/.cpan/privbuild/k93msid/Error-Pure-Output-Text-0.23-0/blib/lib:/home/sand/.cpan/privbuild/k93msid/Module-Build-Using-PkgConfig-0.03-2/blib/arch:/home/sand/.cpan/privbuild/k93msid/Module-Build-Using-PkgConfig-0.03-2/blib/lib:/home/sand/.cpan/privbuild/k93msid/Test-Perinci-CmdLine-1.47-1/blib/arch:/home/sand/.cpan/privbuild/k93msid/Test-Perinci-CmdLine-1.47-1/blib/lib:/home/sand/.cpan/privbuild/k93msid/Perinci-Examples-0.812-1/blib/arch:/home/sand/.cpan/privbuild/k93msid/Perinci-Examples-0.812-1/blib/lib:/home/sand/.cpan/privbuild/k93msid/Perinci-Sub-Property-arg-cmdline-0.02-1/blib/arch:/home/sand/.cpan/privbuild/k93msid/Perinci-Sub-Property-arg-cmdline-0.02-1/blib/lib:/home/sand/.cpan/privbuild/k93msid/Canary-Stability-2013-4/blib/arch:/home/sand/.cpan/privbuild/k93msid/Canary-Stability-2013-4/blib/lib:/home/sand/.cpan/privbuild/k93msid/Data-Validate-0.09-0/blib/arch:/home/sand/.cpan/privbuild/k93msid/Data-Validate-0.09-0/blib/lib"
PERL5OPT=""
PERL5_CPANPLUS_IS_RUNNING="3135"
PERL5_CPAN_IS_RUNNING="3135"
PERL_CANARY_STABILITY_NOPROMPT="1"
PERL_MM_USE_DEFAULT="1"
PERL_USE_UNSAFE_INC="1"
@INC:
/home/sand/.cpan/privbuild/k93msid/File-Object-0.11-0/blib/arch
/home/sand/.cpan/privbuild/k93msid/File-Object-0.11-0/blib/lib
/home/sand/.cpan/privbuild/k93msid/Class-Utils-0.08-0/blib/arch
/home/sand/.cpan/privbuild/k93msid/Class-Utils-0.08-0/blib/lib
/home/sand/.cpan/privbuild/k93msid/Error-Pure-0.25-0/blib/arch
/home/sand/.cpan/privbuild/k93msid/Error-Pure-0.25-0/blib/lib
/home/sand/.cpan/privbuild/k93msid/Error-Pure-Output-Text-0.23-0/blib/arch
/home/sand/.cpan/privbuild/k93msid/Error-Pure-Output-Text-0.23-0/blib/lib
/home/sand/.cpan/privbuild/k93msid/Module-Build-Using-PkgConfig-0.03-2/blib/arch
/home/sand/.cpan/privbuild/k93msid/Module-Build-Using-PkgConfig-0.03-2/blib/lib
/home/sand/.cpan/privbuild/k93msid/Test-Perinci-CmdLine-1.47-1/blib/arch
/home/sand/.cpan/privbuild/k93msid/Test-Perinci-CmdLine-1.47-1/blib/lib
/home/sand/.cpan/privbuild/k93msid/Perinci-Examples-0.812-1/blib/arch
/home/sand/.cpan/privbuild/k93msid/Perinci-Examples-0.812-1/blib/lib
/home/sand/.cpan/privbuild/k93msid/Perinci-Sub-Property-arg-cmdline-0.02-1/blib/arch
/home/sand/.cpan/privbuild/k93msid/Perinci-Sub-Property-arg-cmdline-0.02-1/blib/lib
/home/sand/.cpan/privbuild/k93msid/Canary-Stability-2013-4/blib/arch
/home/sand/.cpan/privbuild/k93msid/Canary-Stability-2013-4/blib/lib
/home/sand/.cpan/privbuild/k93msid/Data-Validate-0.09-0/blib/arch
/home/sand/.cpan/privbuild/k93msid/Data-Validate-0.09-0/blib/lib
/home/sand/src/perl/repoperls/installed-perls/host/k93msid/v5.31.1-51-gf6c49686d3/496c/lib/site_perl/5.31.2/x86_64-linux-thread-multi-ld
/home/sand/src/perl/repoperls/installed-perls/host/k93msid/v5.31.1-51-gf6c49686d3/496c/lib/site_perl/5.31.2
/home/sand/src/perl/repoperls/installed-perls/host/k93msid/v5.31.1-51-gf6c49686d3/496c/lib/5.31.2/x86_64-linux-thread-multi-ld
/home/sand/src/perl/repoperls/installed-perls/host/k93msid/v5.31.1-51-gf6c49686d3/496c/lib/5.31.2
.