Test-Class-Moose v0.95 Perl 5 v5.24.4 x86_64-linux-thread-multi
- Status
- Pass
- From
- Slaven Rezić (SREZIC)
- Dist
-
Test-Class-Moose v0.95
- Platform
- Perl 5 v5.24.4 x86_64-linux-thread-multi
- Date
- 2018-11-03 17:58:27
- ID
- 10e7edc2-df92-11e8-8a3c-f20f712ecf7a
This distribution has been tested as part of the CPAN Testers
project, supporting the Perl programming language. See
http://wiki.cpantesters.org/ for more information or email
questions to cpan-testers-discuss@perl.org
--
Dear Dave Rolsky,
This is a computer-generated report for Test-Class-Moose-0.95
on perl 5.24.4, created by CPAN-Reporter-1.2018.
Thank you for uploading your work to CPAN. Congratulations!
All tests were successful.
Sections of this report:
* Tester comments
* Program output
* Prerequisites
* Environment and other context
------------------------------
TESTER COMMENTS
------------------------------
Additional comments from tester:
none provided
------------------------------
PROGRAM OUTPUT
------------------------------
Output from '/usr/bin/make test':
PERL_DL_NONLAZY=1 "/opt/perl-5.24.4t/bin/perl" "-MExtUtils::Command::MM" "-MTest::Harness" "-e" "undef *Test::Harness::Switches; test_harness(0, 'blib/lib', 'blib/arch')" t/*.t
#
# Versions for all modules listed in MYMETA.json (including optional ones):
#
# === Configure Requires ===
#
# Module Want Have
# ------------------- ---- ----
# ExtUtils::MakeMaker any 7.34
#
# === Build Requires ===
#
# Module Want Have
# ------------------- ---- ----
# ExtUtils::MakeMaker any 7.34
#
# === Test Requires ===
#
# Module Want Have
# --------------------- -------- --------
# ExtUtils::MakeMaker any 7.34
# File::Spec any 3.75
# File::Temp any 0.2308
# Test2::Tools::Basic any 0.000115
# Test2::Tools::Class any 0.000115
# Test2::Tools::Compare any 0.000115
# Test2::Tools::Subtest any 0.000115
# Test2::V0 any 0.000115
# Test::Builder any 1.302140
# Test::More 1.302015 1.302140
# Test::Requires any 0.10
# Test::Warnings any 0.026
# lib any 0.63
#
# === Test Recommends ===
#
# Module Want Have
# ------------ -------- --------
# CPAN::Meta 2.120900 2.150010
# Test::Output 0.0005 1.031
#
# === Runtime Requires ===
#
# Module Want Have
# ---------------------------- --------- --------
# Benchmark any 1.22
# Carp any 1.50
# Class::MOP any 2.2011
# Exporter any 5.72
# File::Find any 1.34
# File::Spec any 3.75
# Import::Into any 1.002005
# JSON any 2.97001
# List::SomeUtils any 0.56
# List::Util any 1.50
# Module::Runtime any 0.016
# Module::Util any 1.09
# Moose 2.0000 2.2011
# Moose::Role 2.0000 2.2011
# Moose::Util any 2.2011
# Moose::Util::TypeConstraints any 2.2011
# MooseX::Getopt 0.71 0.72
# MooseX::Getopt::Dashes any 0.72
# Package::DeprecationManager 0.16 0.17
# Parallel::ForkManager any 1.19
# Scalar::Util any 1.50
# Sub::Attribute any 0.07
# TAP::Formatter::Color 3.29 3.42
# Test2 1.1302118 1.302140
# Test2::API any 1.302140
# Test2::AsyncSubtest 0.000018 0.000115
# Test2::IPC any 1.302140
# Test2::Tools::AsyncSubtest any 0.000115
# Test::Most any 0.35
# Try::Tiny any 0.30
# namespace::autoclean any 0.28
# strict any 1.11
# warnings any 1.36
#
# === Runtime Recommends ===
#
# Module Want Have
# --------------------- ------ ----
# Parallel::ForkManager v0.7.6 1.19
#
t/00-report-prereqs.t .......... ok
t/autouse.t .................... ok
t/bad_subclass.t ............... ok
t/bare.t ....................... ok
t/basic.t ...................... ok
Can't stat t/lib/Local: No such file or directory
at /home/cpansand/.cpan/build/2018110317/Test-Class-Moose-0.95-2/blib/lib/Test/Class/Moose/Load.pm line 73.
t/cli.t ........................ ok
t/environment.t ................ ok
t/executor_roles.t ............. ok
t/include_classes.t ............ ok
t/include_exclude.t ............ ok
t/load.t ....................... ok
t/no_tests_run.t ............... ok
t/non_randomize_classes.t ...... ok
[32m.[0m[32m.[0m[32m.[0m[32m.[0m[32m.[0m[32m.[0m[32m.[0m[32m.[0m[32m.[0m[32m.[0m[32m.[0m[32m.[0m[32m.[0m[32m.[0m[32m.[0m[32m.[0m[32m.[0m[32m.[0m[32m.[0m[32m.[0m[32m.[0m[32m.[0m[31mX[0m[31mX[0m[32m.[0m[32m.[0mt/parallel.t ................... ok
t/parameterized.t .............. ok
t/plans.t ...................... ok
t/process_name.t ............... ok
t/reportpassed.t ............... ok
t/skip.t ....................... ok
t/tags.t ....................... ok
t/test_class_is_not_loaded.t ... ok
t/test_control_methods.t ....... ok
t/test_control_methods_skip.t .. ok
t/timing.t ..................... ok
t/todo.t ....................... ok
All tests successful.
Files=25, Tests=214, 19 wallclock secs ( 0.27 usr 0.27 sys + 10.71 cusr 1.60 csys = 12.85 CPU)
Result: PASS
------------------------------
PREREQUISITES
------------------------------
Prerequisite modules loaded:
requires:
Module Need Have
---------------------------- --------- --------
Benchmark 0 1.22
Carp 0 1.50
Class::MOP 0 2.2011
Exporter 0 5.72
File::Find 0 1.34
File::Spec 0 3.75
Import::Into 0 1.002005
JSON 0 2.97001
List::SomeUtils 0 0.56
List::Util 0 1.50
Module::Runtime 0 0.016
Module::Util 0 1.09
Moose 2.0000 2.2011
Moose::Role 2.0000 2.2011
Moose::Util 0 2.2011
Moose::Util::TypeConstraints 0 2.2011
MooseX::Getopt 0.71 0.72
MooseX::Getopt::Dashes 0 0.72
namespace::autoclean 0 0.28
Package::DeprecationManager 0.16 0.17
Parallel::ForkManager 0 1.19
perl 5.010000 5.024004
Scalar::Util 0 1.50
strict 0 1.11
Sub::Attribute 0 0.07
TAP::Formatter::Color 3.29 3.42
Test2 1.1302118 1.302140
Test2::API 0 1.302140
Test2::AsyncSubtest 0.000018 0.000115
Test2::IPC 0 1.302140
Test2::Tools::AsyncSubtest 0 0.000115
Test::Most 0 0.35
Try::Tiny 0 0.30
warnings 0 1.36
build_requires:
Module Need Have
---------------------------- --------- --------
ExtUtils::MakeMaker 0 7.34
File::Spec 0 3.75
File::Temp 0 0.2308
lib 0 0.63
Test2::Tools::Basic 0 0.000115
Test2::Tools::Class 0 0.000115
Test2::Tools::Compare 0 0.000115
Test2::Tools::Subtest 0 0.000115
Test2::V0 0 0.000115
Test::Builder 0 1.302140
Test::More 1.302015 1.302140
Test::Requires 0 0.10
Test::Warnings 0 0.026
configure_requires:
Module Need Have
---------------------------- --------- --------
ExtUtils::MakeMaker 0 7.34
opt_requires:
Module Need Have
---------------------------- --------- --------
Parallel::ForkManager v0.7.6 1.19
opt_build_requires:
Module Need Have
---------------------------- --------- --------
CPAN::Meta 2.120900 2.150010
Test::Output 0.0005 1.031
------------------------------
ENVIRONMENT AND OTHER CONTEXT
------------------------------
Environment variables:
LANG = C
PATH = /usr/local/bin:/usr/bin:/bin:/usr/local/sbin:/usr/sbin:/sbin:/home/cpansand/bin/linux-gnu:/home/cpansand/bin/sh:/home/cpansand/bin:/usr/games:/home/cpansand/devel:/home/eserte/src/srezic-misc/scripts
PERL5LIB =
PERL5OPT =
PERL5_CPANPLUS_IS_RUNNING = 22679
PERL5_CPAN_IS_RUNNING = 22679
PERL5_CPAN_IS_RUNNING_IN_RECURSION = 21751,22679
PERLDOC = -MPod::Perldoc::ToTextOverstrike
PERL_BATCH = yes
PERL_CANARY_STABILITY_NOPROMPT = 1
PERL_CPAN_REPORTER_CONFIG = /var/tmp/cpansmoker-1023/2018110317/cpanreporter_001_config.ini
PERL_EXTUTILS_AUTOINSTALL = --defaultdeps
PERL_USE_UNSAFE_INC = 1
SHELL = /usr/bin/zsh
TERM = screen
TMPDIR = /var/tmp/cpansmoker-1023/2018110317
Perl special variables (and OS-specific diagnostics, for MSWin32):
$^X = /opt/perl-5.24.4t/bin/perl
$UID/$EUID = 1023 / 1023
$GID = 1023 1023
$EGID = 1023 1023
Perl module toolchain versions installed:
Module Have
------------------- --------
CPAN 2.16
CPAN::Meta 2.150010
Cwd 3.75
ExtUtils::CBuilder 0.280230
ExtUtils::Command 7.34
ExtUtils::Install 2.14
ExtUtils::MakeMaker 7.34
ExtUtils::Manifest 1.71
ExtUtils::ParseXS 3.31
File::Spec 3.75
JSON 2.97001
JSON::PP 2.97001
Module::Build 0.4224
Module::Signature 0.83
Parse::CPAN::Meta 2.150010
Test::Harness 3.42
Test::More 1.302140
YAML 1.26
YAML::Syck 1.31
version 0.9923
--
Summary of my perl5 (revision 5 version 24 subversion 4) configuration:
Platform:
osname=linux, osvers=3.16.0-5-amd64, archname=x86_64-linux-thread-multi
uname='linux debian8 3.16.0-5-amd64 #1 smp debian 3.16.51-3+deb8u1 (2018-01-08) x86_64 gnulinux '
config_args='-ds -e -Dprefix=/opt/perl-5.24.4t -Dusethreads -Dcf_email=srezic@cpan.org'
hint=recommended, useposix=true, d_sigaction=define
useithreads=define, usemultiplicity=define
use64bitint=define, use64bitall=define, uselongdouble=undef
usemymalloc=n, bincompat5005=undef
Compiler:
cc='cc', ccflags ='-D_REENTRANT -D_GNU_SOURCE -fwrapv -fno-strict-aliasing -pipe -fstack-protector-strong -I/usr/local/include -D_LARGEFILE_SOURCE -D_FILE_OFFSET_BITS=64 -D_FORTIFY_SOURCE=2',
optimize='-O2',
cppflags='-D_REENTRANT -D_GNU_SOURCE -fwrapv -fno-strict-aliasing -pipe -fstack-protector-strong -I/usr/local/include'
ccversion='', gccversion='4.9.2', gccosandvers=''
intsize=4, longsize=8, ptrsize=8, doublesize=8, byteorder=12345678, doublekind=3
d_longlong=define, longlongsize=8, d_longdbl=define, longdblsize=16, longdblkind=3
ivtype='long', ivsize=8, nvtype='double', nvsize=8, Off_t='off_t', lseeksize=8
alignbytes=8, prototype=define
Linker and Libraries:
ld='cc', ldflags =' -fstack-protector-strong -L/usr/local/lib'
libpth=/usr/local/lib /usr/lib/gcc/x86_64-linux-gnu/4.9/include-fixed /usr/include/x86_64-linux-gnu /usr/lib /lib/x86_64-linux-gnu /lib/../lib /usr/lib/x86_64-linux-gnu /usr/lib/../lib /lib
libs=-lpthread -lnsl -lgdbm -ldb -ldl -lm -lcrypt -lutil -lc -lgdbm_compat
perllibs=-lpthread -lnsl -ldl -lm -lcrypt -lutil -lc
libc=libc-2.19.so, so=so, useshrplib=false, libperl=libperl.a
gnulibc_version='2.19'
Dynamic Linking:
dlsrc=dl_dlopen.xs, dlext=so, d_dlsymun=undef, ccdlflags='-Wl,-E'
cccdlflags='-fPIC', lddlflags='-shared -O2 -L/usr/local/lib -fstack-protector-strong'
Characteristics of this binary (from libperl):
Compile-time options: HAS_TIMES MULTIPLICITY PERLIO_LAYERS
PERL_COPY_ON_WRITE PERL_DONT_CREATE_GVSV
PERL_HASH_FUNC_ONE_AT_A_TIME_HARD
PERL_IMPLICIT_CONTEXT PERL_MALLOC_WRAP
PERL_PRESERVE_IVUV USE_64_BIT_ALL USE_64_BIT_INT
USE_ITHREADS USE_LARGE_FILES USE_LOCALE
USE_LOCALE_COLLATE USE_LOCALE_CTYPE
USE_LOCALE_NUMERIC USE_LOCALE_TIME USE_PERLIO
USE_PERL_ATOF USE_REENTRANT_API
Built under linux
Compiled at Apr 17 2018 04:57:43
%ENV:
PERL5LIB=""
PERL5OPT=""
PERL5_CPANPLUS_IS_RUNNING="22679"
PERL5_CPAN_IS_RUNNING="22679"
PERL5_CPAN_IS_RUNNING_IN_RECURSION="21751,22679"
PERLDOC="-MPod::Perldoc::ToTextOverstrike"
PERL_BATCH="yes"
PERL_CANARY_STABILITY_NOPROMPT="1"
PERL_CPAN_REPORTER_CONFIG="/var/tmp/cpansmoker-1023/2018110317/cpanreporter_001_config.ini"
PERL_EXTUTILS_AUTOINSTALL="--defaultdeps"
PERL_USE_UNSAFE_INC="1"
@INC:
/opt/perl-5.24.4t/lib/site_perl/5.24.4/x86_64-linux-thread-multi
/opt/perl-5.24.4t/lib/site_perl/5.24.4
/opt/perl-5.24.4t/lib/5.24.4/x86_64-linux-thread-multi
/opt/perl-5.24.4t/lib/5.24.4
.