Report for Microsoft-AdCenter-8.11

Back
From: metabase:user:3215efbe-2aae-11df-837a-5e0a49663a4f
Subject: PASS Microsoft-AdCenter-8.11 v5.16.1 GNU/Linux
Date: 2012-10-08T09:53:51Z

This distribution has been tested as part of the CPAN Testers
project, supporting the Perl programming language.  See
http://wiki.cpantesters.org/ for more information or email
questions to cpan-testers-discuss@perl.org


--
Dear Xerxes Tsang,

This is a computer-generated report for Microsoft-AdCenter-8.11
on perl 5.16.1, created by CPAN-Reporter-1.2006.

Thank you for uploading your work to CPAN.  Congratulations!
All tests were successful.

Sections of this report:

    * Tester comments
    * Program output
    * Prerequisites
    * Environment and other context

------------------------------
TESTER COMMENTS
------------------------------

Additional comments from tester:

this report is from an automated smoke testing program
and was not reviewed by a human for accuracy

------------------------------
PROGRAM OUTPUT
------------------------------

Output from '/usr/bin/make test':

PERL_DL_NONLAZY=1 /opt/perl/nothreads/5.16.1/bin/perl "-MExtUtils::Command::MM" "-e" "test_harness(0, 'blib/lib', 'blib/arch')" t/*.t
t/01_service.t ................................................................................... ok
t/v6_administration_service.t .................................................................... ok
t/v6_administration_service_ad_api_error.t ....................................................... ok
t/v6_administration_service_ad_api_fault_detail.t ................................................ ok
t/v6_administration_service_application_fault.t .................................................. ok
t/v6_administration_service_get_assigned_quota_response.t ........................................ ok
t/v6_administration_service_get_remaining_quota_response.t ....................................... ok
t/v6_campaign_management_service.t ............................................................... ok
t/v6_campaign_management_service_ad.t ............................................................ ok
t/v6_campaign_management_service_ad_api_error.t .................................................. ok
t/v6_campaign_management_service_ad_api_fault_detail.t ........................................... ok
t/v6_campaign_management_service_ad_group.t ...................................................... ok
t/v6_campaign_management_service_ad_group_info.t ................................................. ok
t/v6_campaign_management_service_ad_group_negative_keywords.t .................................... ok
t/v6_campaign_management_service_add_ad_groups_response.t ........................................ ok
t/v6_campaign_management_service_add_ads_response.t .............................................. ok
t/v6_campaign_management_service_add_behavioral_bids_response.t .................................. ok
t/v6_campaign_management_service_add_businesses_response.t ....................................... ok
t/v6_campaign_management_service_add_campaigns_response.t ........................................ ok
t/v6_campaign_management_service_add_keywords_response.t ......................................... ok
t/v6_campaign_management_service_add_segments_response.t ......................................... ok
t/v6_campaign_management_service_add_site_placements_response.t .................................. ok
t/v6_campaign_management_service_add_target_response.t ........................................... ok
t/v6_campaign_management_service_add_targets_to_library_response.t ............................... ok
t/v6_campaign_management_service_age_target.t .................................................... ok
t/v6_campaign_management_service_age_target_bid.t ................................................ ok
t/v6_campaign_management_service_api_fault_detail.t .............................................. ok
t/v6_campaign_management_service_application_fault.t ............................................. ok
t/v6_campaign_management_service_batch_error.t ................................................... ok
t/v6_campaign_management_service_behavioral_bid.t ................................................ ok
t/v6_campaign_management_service_behavioral_target.t ............................................. ok
t/v6_campaign_management_service_behavioral_target_bid.t ......................................... ok
t/v6_campaign_management_service_bid.t ........................................................... ok
t/v6_campaign_management_service_business.t ...................................................... ok
t/v6_campaign_management_service_business_image_icon.t ........................................... ok
t/v6_campaign_management_service_business_info.t ................................................. ok
t/v6_campaign_management_service_business_target.t ............................................... ok
t/v6_campaign_management_service_business_target_bid.t ........................................... ok
t/v6_campaign_management_service_campaign.t ...................................................... ok
t/v6_campaign_management_service_campaign_info.t ................................................. ok
t/v6_campaign_management_service_campaign_negative_keywords.t .................................... ok
t/v6_campaign_management_service_cash_back_info.t ................................................ ok
t/v6_campaign_management_service_city_target.t ................................................... ok
t/v6_campaign_management_service_city_target_bid.t ............................................... ok
t/v6_campaign_management_service_country_target.t ................................................ ok
t/v6_campaign_management_service_country_target_bid.t ............................................ ok
t/v6_campaign_management_service_date.t .......................................................... ok
t/v6_campaign_management_service_day_target.t .................................................... ok
t/v6_campaign_management_service_day_target_bid.t ................................................ ok
t/v6_campaign_management_service_day_time_interval.t ............................................. ok
t/v6_campaign_management_service_delete_ad_groups_response.t ..................................... ok
t/v6_campaign_management_service_delete_ads_response.t ........................................... ok
t/v6_campaign_management_service_delete_behavioral_bids_response.t ............................... ok
t/v6_campaign_management_service_delete_businesses_response.t .................................... ok
t/v6_campaign_management_service_delete_campaigns_response.t ..................................... ok
t/v6_campaign_management_service_delete_keywords_response.t ...................................... ok
t/v6_campaign_management_service_delete_segments_response.t ...................................... ok
t/v6_campaign_management_service_delete_site_placements_response.t ............................... ok
t/v6_campaign_management_service_delete_target_from_ad_group_response.t .......................... ok
t/v6_campaign_management_service_delete_target_from_campaign_response.t .......................... ok
t/v6_campaign_management_service_delete_target_response.t ........................................ ok
t/v6_campaign_management_service_delete_targets_from_library_response.t .......................... ok
t/v6_campaign_management_service_delete_users_from_segment_response.t ............................ ok
t/v6_campaign_management_service_dimension.t ..................................................... ok
t/v6_campaign_management_service_editorial_api_fault_detail.t .................................... ok
t/v6_campaign_management_service_editorial_error.t ............................................... ok
t/v6_campaign_management_service_gender_target.t ................................................. ok
t/v6_campaign_management_service_gender_target_bid.t ............................................. ok
t/v6_campaign_management_service_get_ad_groups_by_campaign_id_response.t ......................... ok
t/v6_campaign_management_service_get_ad_groups_by_ids_response.t ................................. ok
t/v6_campaign_management_service_get_ad_groups_info_by_campaign_id_response.t .................... ok
t/v6_campaign_management_service_get_ads_by_ad_group_id_response.t ............................... ok
t/v6_campaign_management_service_get_ads_by_editorial_status_response.t .......................... ok
t/v6_campaign_management_service_get_ads_by_ids_response.t ....................................... ok
t/v6_campaign_management_service_get_behavioral_bids_by_ad_group_id_response.t ................... ok
t/v6_campaign_management_service_get_behavioral_bids_by_ids_response.t ........................... ok
t/v6_campaign_management_service_get_businesses_by_ids_response.t ................................ ok
t/v6_campaign_management_service_get_businesses_info_response.t .................................. ok
t/v6_campaign_management_service_get_campaigns_by_account_id_response.t .......................... ok
t/v6_campaign_management_service_get_campaigns_by_ids_response.t ................................. ok
t/v6_campaign_management_service_get_campaigns_info_by_account_id_response.t ..................... ok
t/v6_campaign_management_service_get_custom_segments_response.t .................................. ok
t/v6_campaign_management_service_get_keyword_estimates_by_bids_response.t ........................ ok
t/v6_campaign_management_service_get_keywords_by_ad_group_id_response.t .......................... ok
t/v6_campaign_management_service_get_keywords_by_editorial_status_response.t ..................... ok
t/v6_campaign_management_service_get_keywords_by_ids_response.t .................................. ok
t/v6_campaign_management_service_get_negative_keywords_by_ad_group_ids_response.t ................ ok
t/v6_campaign_management_service_get_negative_keywords_by_campaign_ids_response.t ................ ok
t/v6_campaign_management_service_get_placement_details_for_urls_response.t ....................... ok
t/v6_campaign_management_service_get_segments_by_ids_response.t .................................. ok
t/v6_campaign_management_service_get_segments_response.t ......................................... ok
t/v6_campaign_management_service_get_site_placements_by_ad_group_id_response.t ................... ok
t/v6_campaign_management_service_get_site_placements_by_ids_response.t ........................... ok
t/v6_campaign_management_service_get_target_by_ad_group_id_response.t ............................ ok
t/v6_campaign_management_service_get_targets_by_ad_group_ids_response.t .......................... ok
t/v6_campaign_management_service_get_targets_by_campaign_ids_response.t .......................... ok
t/v6_campaign_management_service_get_targets_by_ids_response.t ................................... ok
t/v6_campaign_management_service_get_targets_info_from_library_response.t ........................ ok
t/v6_campaign_management_service_hour_target.t ................................................... ok
t/v6_campaign_management_service_hour_target_bid.t ............................................... ok
t/v6_campaign_management_service_hours_of_operation.t ............................................ ok
t/v6_campaign_management_service_impressions_per_day_range.t ..................................... ok
t/v6_campaign_management_service_keyword.t ....................................................... ok
t/v6_campaign_management_service_keyword_bid.t ................................................... ok
t/v6_campaign_management_service_keyword_estimate.t .............................................. ok
t/v6_campaign_management_service_location_target.t ............................................... ok
t/v6_campaign_management_service_match_type_estimate.t ........................................... ok
t/v6_campaign_management_service_media_type.t .................................................... ok
t/v6_campaign_management_service_metro_area_target.t ............................................. ok
t/v6_campaign_management_service_metro_area_target_bid.t ......................................... ok
t/v6_campaign_management_service_mobile_ad.t ..................................................... ok
t/v6_campaign_management_service_operation_error.t ............................................... ok
t/v6_campaign_management_service_pause_ad_groups_response.t ...................................... ok
t/v6_campaign_management_service_pause_ads_response.t ............................................ ok
t/v6_campaign_management_service_pause_behavioral_bids_response.t ................................ ok
t/v6_campaign_management_service_pause_campaigns_response.t ...................................... ok
t/v6_campaign_management_service_pause_keywords_response.t ....................................... ok
t/v6_campaign_management_service_pause_site_placements_response.t ................................ ok
t/v6_campaign_management_service_placement_detail.t .............................................. ok
t/v6_campaign_management_service_radius_target.t ................................................. ok
t/v6_campaign_management_service_radius_target_bid.t ............................................. ok
t/v6_campaign_management_service_resume_ad_groups_response.t ..................................... ok
t/v6_campaign_management_service_resume_ads_response.t ........................................... ok
t/v6_campaign_management_service_resume_behavioral_bids_response.t ............................... ok
t/v6_campaign_management_service_resume_campaigns_response.t ..................................... ok
t/v6_campaign_management_service_resume_keywords_response.t ...................................... ok
t/v6_campaign_management_service_resume_site_placements_response.t ............................... ok
t/v6_campaign_management_service_segment.t ....................................................... ok
t/v6_campaign_management_service_segment_target.t ................................................ ok
t/v6_campaign_management_service_segment_target_bid.t ............................................ ok
t/v6_campaign_management_service_set_negative_keywords_to_ad_groups_response.t ................... ok
t/v6_campaign_management_service_set_negative_keywords_to_campaigns_response.t ................... ok
t/v6_campaign_management_service_set_target_to_ad_group_response.t ............................... ok
t/v6_campaign_management_service_set_target_to_campaign_response.t ............................... ok
t/v6_campaign_management_service_set_users_to_segments_response.t ................................ ok
t/v6_campaign_management_service_site_placement.t ................................................ ok
t/v6_campaign_management_service_state_target.t .................................................. ok
t/v6_campaign_management_service_state_target_bid.t .............................................. ok
t/v6_campaign_management_service_submit_ad_group_for_approval_response.t ......................... ok
t/v6_campaign_management_service_target.t ........................................................ ok
t/v6_campaign_management_service_target_info.t ................................................... ok
t/v6_campaign_management_service_text_ad.t ....................................................... ok
t/v6_campaign_management_service_time_of_the_day.t ............................................... ok
t/v6_campaign_management_service_update_ad_groups_response.t ..................................... ok
t/v6_campaign_management_service_update_ads_response.t ........................................... ok
t/v6_campaign_management_service_update_behavioral_bids_response.t ............................... ok
t/v6_campaign_management_service_update_businesses_response.t .................................... ok
t/v6_campaign_management_service_update_campaigns_response.t ..................................... ok
t/v6_campaign_management_service_update_keywords_response.t ...................................... ok
t/v6_campaign_management_service_update_site_placements_response.t ............................... ok
t/v6_campaign_management_service_update_target_response.t ........................................ ok
t/v6_campaign_management_service_update_targets_in_library_response.t ............................ ok
t/v6_customer_management_service.t ............................................................... ok
t/v6_customer_management_service_ad_center_account.t ............................................. ok
t/v6_customer_management_service_ad_center_address.t ............................................. ok
t/v6_customer_management_service_ad_center_card_billing_statement.t .............................. ok
t/v6_customer_management_service_ad_center_card_billing_statement_entry.t ........................ ok
t/v6_customer_management_service_ad_center_card_invoice.t ........................................ ok
t/v6_customer_management_service_ad_center_card_invoice_entry.t .................................. ok
t/v6_customer_management_service_ad_center_card_invoice_handle.t ................................. ok
t/v6_customer_management_service_ad_center_card_invoice_header.t ................................. ok
t/v6_customer_management_service_ad_center_contact_info.t ........................................ ok
t/v6_customer_management_service_ad_center_credit_card.t ......................................... ok
t/v6_customer_management_service_ad_center_customer.t ............................................ ok
t/v6_customer_management_service_ad_center_payment_instrument.t .................................. ok
t/v6_customer_management_service_ad_center_sap.t ................................................. ok
t/v6_customer_management_service_ad_center_statement_entry.t ..................................... ok
t/v6_customer_management_service_ad_center_user.t ................................................ ok
t/v6_customer_management_service_api_user_auth_header.t .......................................... ok
t/v6_customer_management_service_card_invoice_response_msg.t ..................................... ok
t/v6_customer_management_service_credit_card_info_update_response_msg.t .......................... ok
t/v6_customer_management_service_customer_sign_up_response.t ..................................... ok
t/v6_customer_management_service_customer_sign_up_response_msg.t ................................. ok
t/v6_customer_management_service_customer_update_response_msg.t .................................. ok
t/v6_customer_management_service_error_info.t .................................................... ok
t/v6_customer_management_service_get_account_billing_info_response.t ............................. ok
t/v6_customer_management_service_get_account_billing_info_response_msg.t ......................... ok
t/v6_customer_management_service_get_accounts_by_ids_response.t .................................. ok
t/v6_customer_management_service_get_accounts_response.t ......................................... ok
t/v6_customer_management_service_get_card_invoice_response.t ..................................... ok
t/v6_customer_management_service_get_credit_card_info_response_msg.t ............................. ok
t/v6_customer_management_service_get_customer_response.t ......................................... ok
t/v6_customer_management_service_get_customer_response_msg.t ..................................... ok
t/v6_customer_management_service_get_payment_instrument_response.t ............................... ok
t/v6_customer_management_service_operation_result.t .............................................. ok
t/v6_customer_management_service_response_msg.t .................................................. ok
t/v6_customer_management_service_update_customer_response.t ...................................... ok
t/v6_customer_management_service_update_payment_instrument_response.t ............................ ok
t/v6_notification_management_service.t ........................................................... ok
t/v6_notification_management_service_account_closed_notification.t ............................... ok
t/v6_notification_management_service_account_signup_payment_receipt_notification.t ............... ok
t/v6_notification_management_service_api_user_auth_header.t ...................................... ok
t/v6_notification_management_service_approaching_credit_card_expiration_notification.t ........... ok
t/v6_notification_management_service_credit_card_expired_notification.t .......................... ok
t/v6_notification_management_service_credit_card_notification.t .................................. ok
t/v6_notification_management_service_editorial_rejection_notification.t .......................... ok
t/v6_notification_management_service_get_archived_notifications_response.t ....................... ok
t/v6_notification_management_service_get_notifications_by_type_response.t ........................ ok
t/v6_notification_management_service_get_notifications_response.t ................................ ok
t/v6_notification_management_service_new_customer_signup_notification.t .......................... ok
t/v6_notification_management_service_new_user_added_notification.t ............................... ok
t/v6_notification_management_service_notification.t .............................................. ok
t/v6_notification_management_service_unable_to_charge_credit_card_notification.t ................. ok
t/v6_notification_management_service_user_name_reminder_notification.t ........................... ok
t/v6_notification_management_service_user_notification.t ......................................... ok
t/v6_notification_management_service_user_password_reset_notification.t .......................... ok
t/v6_reporting_service.t ......................................................................... ok
t/v6_reporting_service_account_performance_report_filter.t ....................................... ok
t/v6_reporting_service_account_performance_report_request.t ...................................... ok
t/v6_reporting_service_account_report_scope.t .................................................... ok
t/v6_reporting_service_account_through_ad_group_report_scope.t ................................... ok
t/v6_reporting_service_account_through_campaign_report_scope.t ................................... ok
t/v6_reporting_service_ad_api_error.t ............................................................ ok
t/v6_reporting_service_ad_api_fault_detail.t ..................................................... ok
t/v6_reporting_service_ad_dynamic_text_performance_report_filter.t ............................... ok
t/v6_reporting_service_ad_dynamic_text_performance_report_request.t .............................. ok
t/v6_reporting_service_ad_group_performance_report_filter.t ...................................... ok
t/v6_reporting_service_ad_group_performance_report_request.t ..................................... ok
t/v6_reporting_service_ad_group_report_scope.t ................................................... ok
t/v6_reporting_service_ad_performance_report_filter.t ............................................ ok
t/v6_reporting_service_ad_performance_report_request.t ........................................... ok
t/v6_reporting_service_age_gender_demographic_report_filter.t .................................... ok
t/v6_reporting_service_age_gender_demographic_report_request.t ................................... ok
t/v6_reporting_service_api_fault_detail.t ........................................................ ok
t/v6_reporting_service_application_fault.t ....................................................... ok
t/v6_reporting_service_batch_error.t ............................................................. ok
t/v6_reporting_service_behavioral_performance_report_filter.t .................................... ok
t/v6_reporting_service_behavioral_performance_report_request.t ................................... ok
t/v6_reporting_service_behavioral_target_report_filter.t ......................................... ok
t/v6_reporting_service_behavioral_target_report_request.t ........................................ ok
t/v6_reporting_service_budget_summary_report_request.t ........................................... ok
t/v6_reporting_service_budget_summary_report_time.t .............................................. ok
t/v6_reporting_service_campaign_performance_report_filter.t ...................................... ok
t/v6_reporting_service_campaign_performance_report_request.t ..................................... ok
t/v6_reporting_service_campaign_report_scope.t ................................................... ok
t/v6_reporting_service_conversion_performance_report_filter.t .................................... ok
t/v6_reporting_service_conversion_performance_report_request.t ................................... ok
t/v6_reporting_service_date.t .................................................................... ok
t/v6_reporting_service_destination_url_performance_report_filter.t ............................... ok
t/v6_reporting_service_destination_url_performance_report_request.t .............................. ok
t/v6_reporting_service_goals_and_funnels_report_filter.t ......................................... ok
t/v6_reporting_service_goals_and_funnels_report_request.t ........................................ ok
t/v6_reporting_service_keyword_performance_report_filter.t ....................................... ok
t/v6_reporting_service_keyword_performance_report_request.t ...................................... ok
t/v6_reporting_service_metro_area_demographic_report_filter.t .................................... ok
t/v6_reporting_service_metro_area_demographic_report_request.t ................................... ok
t/v6_reporting_service_operation_error.t ......................................................... ok
t/v6_reporting_service_poll_generate_report_response.t ........................................... ok
t/v6_reporting_service_publisher_usage_performance_report_filter.t ............................... ok
t/v6_reporting_service_publisher_usage_performance_report_request.t .............................. ok
t/v6_reporting_service_report_request.t .......................................................... ok
t/v6_reporting_service_report_request_status.t ................................................... ok
t/v6_reporting_service_report_time.t ............................................................. ok
t/v6_reporting_service_search_query_performance_report_filter.t .................................. ok
t/v6_reporting_service_search_query_performance_report_request.t ................................. ok
t/v6_reporting_service_segmentation_report_filter.t .............................................. ok
t/v6_reporting_service_segmentation_report_request.t ............................................. ok
t/v6_reporting_service_site_performance_report_filter.t .......................................... ok
t/v6_reporting_service_site_performance_report_request.t ......................................... ok
t/v6_reporting_service_submit_generate_report_response.t ......................................... ok
t/v6_reporting_service_tactic_channel_report_filter.t ............................................ ok
t/v6_reporting_service_tactic_channel_report_request.t ........................................... ok
t/v6_reporting_service_traffic_sources_report_filter.t ........................................... ok
t/v6_reporting_service_traffic_sources_report_request.t .......................................... ok
t/v7_administration_service.t .................................................................... ok
t/v7_administration_service_ad_api_error.t ....................................................... ok
t/v7_administration_service_ad_api_fault_detail.t ................................................ ok
t/v7_administration_service_application_fault.t .................................................. ok
t/v7_administration_service_get_assigned_quota_response.t ........................................ ok
t/v7_administration_service_get_remaining_quota_response.t ....................................... ok
t/v7_campaign_management_service.t ............................................................... ok
t/v7_campaign_management_service_account_analytics_type.t ........................................ ok
t/v7_campaign_management_service_account_migration_statuses_info.t ............................... ok
t/v7_campaign_management_service_ad.t ............................................................ ok
t/v7_campaign_management_service_ad_api_error.t .................................................. ok
t/v7_campaign_management_service_ad_api_fault_detail.t ........................................... ok
t/v7_campaign_management_service_ad_group.t ...................................................... ok
t/v7_campaign_management_service_ad_group_info.t ................................................. ok
t/v7_campaign_management_service_ad_group_negative_keywords.t .................................... ok
t/v7_campaign_management_service_ad_group_network.t .............................................. ok
t/v7_campaign_management_service_add_ad_groups_response.t ........................................ ok
t/v7_campaign_management_service_add_ads_response.t .............................................. ok
t/v7_campaign_management_service_add_behavioral_bids_response.t .................................. ok
t/v7_campaign_management_service_add_businesses_response.t ....................................... ok
t/v7_campaign_management_service_add_campaigns_response.t ........................................ ok
t/v7_campaign_management_service_add_goals_response.t ............................................ ok
t/v7_campaign_management_service_add_keywords_response.t ......................................... ok
t/v7_campaign_management_service_add_segments_response.t ......................................... ok
t/v7_campaign_management_service_add_site_placements_response.t .................................. ok
t/v7_campaign_management_service_add_target_response.t ........................................... ok
t/v7_campaign_management_service_add_targets_to_library_response.t ............................... ok
t/v7_campaign_management_service_age_target.t .................................................... ok
t/v7_campaign_management_service_age_target_bid.t ................................................ ok
t/v7_campaign_management_service_analytics_api_fault_detail.t .................................... ok
t/v7_campaign_management_service_api_fault_detail.t .............................................. ok
t/v7_campaign_management_service_application_fault.t ............................................. ok
t/v7_campaign_management_service_batch_error.t ................................................... ok
t/v7_campaign_management_service_behavioral_bid.t ................................................ ok
t/v7_campaign_management_service_behavioral_target.t ............................................. ok
t/v7_campaign_management_service_behavioral_target_bid.t ......................................... ok
t/v7_campaign_management_service_bid.t ........................................................... ok
t/v7_campaign_management_service_business.t ...................................................... ok
t/v7_campaign_management_service_business_image_icon.t ........................................... ok
t/v7_campaign_management_service_business_info.t ................................................. ok
t/v7_campaign_management_service_business_target.t ............................................... ok
t/v7_campaign_management_service_business_target_bid.t ........................................... ok
t/v7_campaign_management_service_campaign.t ...................................................... ok
t/v7_campaign_management_service_campaign_info.t ................................................. ok
t/v7_campaign_management_service_campaign_negative_keywords.t .................................... ok
t/v7_campaign_management_service_cash_back_info.t ................................................ ok
t/v7_campaign_management_service_city_target.t ................................................... ok
t/v7_campaign_management_service_city_target_bid.t ............................................... ok
t/v7_campaign_management_service_country_target.t ................................................ ok
t/v7_campaign_management_service_country_target_bid.t ............................................ ok
t/v7_campaign_management_service_date.t .......................................................... ok
t/v7_campaign_management_service_day_target.t .................................................... ok
t/v7_campaign_management_service_day_target_bid.t ................................................ ok
t/v7_campaign_management_service_day_time_interval.t ............................................. ok
t/v7_campaign_management_service_delete_ad_groups_response.t ..................................... ok
t/v7_campaign_management_service_delete_ads_response.t ........................................... ok
t/v7_campaign_management_service_delete_behavioral_bids_response.t ............................... ok
t/v7_campaign_management_service_delete_businesses_response.t .................................... ok
t/v7_campaign_management_service_delete_campaigns_response.t ..................................... ok
t/v7_campaign_management_service_delete_goals_response.t ......................................... ok
t/v7_campaign_management_service_delete_keywords_response.t ...................................... ok
t/v7_campaign_management_service_delete_segments_response.t ...................................... ok
t/v7_campaign_management_service_delete_site_placements_response.t ............................... ok
t/v7_campaign_management_service_delete_target_from_ad_group_response.t .......................... ok
t/v7_campaign_management_service_delete_target_from_campaign_response.t .......................... ok
t/v7_campaign_management_service_delete_target_response.t ........................................ ok
t/v7_campaign_management_service_delete_targets_from_library_response.t .......................... ok
t/v7_campaign_management_service_delete_users_from_segment_response.t ............................ ok
t/v7_campaign_management_service_device_target.t ................................................. ok
t/v7_campaign_management_service_dimension.t ..................................................... ok
t/v7_campaign_management_service_editorial_api_fault_detail.t .................................... ok
t/v7_campaign_management_service_editorial_error.t ............................................... ok
t/v7_campaign_management_service_editorial_reason.t .............................................. ok
t/v7_campaign_management_service_editorial_reason_collection.t ................................... ok
t/v7_campaign_management_service_gender_target.t ................................................. ok
t/v7_campaign_management_service_gender_target_bid.t ............................................. ok
t/v7_campaign_management_service_get_account_migration_statuses_response.t ....................... ok
t/v7_campaign_management_service_get_ad_editorial_reasons_by_ids_response.t ...................... ok
t/v7_campaign_management_service_get_ad_groups_by_campaign_id_response.t ......................... ok
t/v7_campaign_management_service_get_ad_groups_by_ids_response.t ................................. ok
t/v7_campaign_management_service_get_ad_groups_info_by_campaign_id_response.t .................... ok
t/v7_campaign_management_service_get_ads_by_ad_group_id_response.t ............................... ok
t/v7_campaign_management_service_get_ads_by_editorial_status_response.t .......................... ok
t/v7_campaign_management_service_get_ads_by_ids_response.t ....................................... ok
t/v7_campaign_management_service_get_analytics_type_response.t ................................... ok
t/v7_campaign_management_service_get_behavioral_bids_by_ad_group_id_response.t ................... ok
t/v7_campaign_management_service_get_behavioral_bids_by_ids_response.t ........................... ok
t/v7_campaign_management_service_get_businesses_by_ids_response.t ................................ ok
t/v7_campaign_management_service_get_businesses_info_response.t .................................. ok
t/v7_campaign_management_service_get_campaigns_by_account_id_response.t .......................... ok
t/v7_campaign_management_service_get_campaigns_by_ids_response.t ................................. ok
t/v7_campaign_management_service_get_campaigns_info_by_account_id_response.t ..................... ok
t/v7_campaign_management_service_get_custom_segments_response.t .................................. ok
t/v7_campaign_management_service_get_goals_response.t ............................................ ok
t/v7_campaign_management_service_get_keyword_editorial_reasons_by_ids_response.t ................. ok
t/v7_campaign_management_service_get_keyword_estimates_by_bids_response.t ........................ ok
t/v7_campaign_management_service_get_keywords_by_ad_group_id_response.t .......................... ok
t/v7_campaign_management_service_get_keywords_by_editorial_status_response.t ..................... ok
t/v7_campaign_management_service_get_keywords_by_ids_response.t .................................. ok
t/v7_campaign_management_service_get_negative_keywords_by_ad_group_ids_response.t ................ ok
t/v7_campaign_management_service_get_negative_keywords_by_campaign_ids_response.t ................ ok
t/v7_campaign_management_service_get_networks_by_ad_group_ids_response.t ......................... ok
t/v7_campaign_management_service_get_normalized_strings_response.t ............................... ok
t/v7_campaign_management_service_get_placement_details_for_urls_response.t ....................... ok
t/v7_campaign_management_service_get_segments_by_ids_response.t .................................. ok
t/v7_campaign_management_service_get_segments_response.t ......................................... ok
t/v7_campaign_management_service_get_site_placements_by_ad_group_id_response.t ................... ok
t/v7_campaign_management_service_get_site_placements_by_ids_response.t ........................... ok
t/v7_campaign_management_service_get_target_by_ad_group_id_response.t ............................ ok
t/v7_campaign_management_service_get_targets_by_ad_group_ids_response.t .......................... ok
t/v7_campaign_management_service_get_targets_by_campaign_ids_response.t .......................... ok
t/v7_campaign_management_service_get_targets_by_ids_response.t ................................... ok
t/v7_campaign_management_service_get_targets_info_from_library_response.t ........................ ok
t/v7_campaign_management_service_goal.t .......................................................... ok
t/v7_campaign_management_service_goal_error.t .................................................... ok
t/v7_campaign_management_service_goal_result.t ................................................... ok
t/v7_campaign_management_service_hour_target.t ................................................... ok
t/v7_campaign_management_service_hour_target_bid.t ............................................... ok
t/v7_campaign_management_service_hours_of_operation.t ............................................ ok
t/v7_campaign_management_service_impressions_per_day_range.t ..................................... ok
t/v7_campaign_management_service_keyword.t ....................................................... ok
t/v7_campaign_management_service_keyword_bid.t ................................................... ok
t/v7_campaign_management_service_keyword_estimate.t .............................................. ok
t/v7_campaign_management_service_location_target.t ............................................... ok
t/v7_campaign_management_service_match_type_estimate.t ........................................... ok
t/v7_campaign_management_service_media_type.t .................................................... ok
t/v7_campaign_management_service_metro_area_target.t ............................................. ok
t/v7_campaign_management_service_metro_area_target_bid.t ......................................... ok
t/v7_campaign_management_service_migration_status_info.t ......................................... ok
t/v7_campaign_management_service_mobile_ad.t ..................................................... ok
t/v7_campaign_management_service_operation_error.t ............................................... ok
t/v7_campaign_management_service_pause_ad_groups_response.t ...................................... ok
t/v7_campaign_management_service_pause_ads_response.t ............................................ ok
t/v7_campaign_management_service_pause_behavioral_bids_response.t ................................ ok
t/v7_campaign_management_service_pause_campaigns_response.t ...................................... ok
t/v7_campaign_management_service_pause_keywords_response.t ....................................... ok
t/v7_campaign_management_service_pause_site_placements_response.t ................................ ok
t/v7_campaign_management_service_placement_detail.t .............................................. ok
t/v7_campaign_management_service_radius_target.t ................................................. ok
t/v7_campaign_management_service_radius_target_bid.t ............................................. ok
t/v7_campaign_management_service_resume_ad_groups_response.t ..................................... ok
t/v7_campaign_management_service_resume_ads_response.t ........................................... ok
t/v7_campaign_management_service_resume_behavioral_bids_response.t ............................... ok
t/v7_campaign_management_service_resume_campaigns_response.t ..................................... ok
t/v7_campaign_management_service_resume_keywords_response.t ...................................... ok
t/v7_campaign_management_service_resume_site_placements_response.t ............................... ok
t/v7_campaign_management_service_revenue_model.t ................................................. ok
t/v7_campaign_management_service_segment.t ....................................................... ok
t/v7_campaign_management_service_segment_target.t ................................................ ok
t/v7_campaign_management_service_segment_target_bid.t ............................................ ok
t/v7_campaign_management_service_set_analytics_type_response.t ................................... ok
t/v7_campaign_management_service_set_negative_keywords_to_ad_groups_response.t ................... ok
t/v7_campaign_management_service_set_negative_keywords_to_campaigns_response.t ................... ok
t/v7_campaign_management_service_set_networks_to_ad_groups_response.t ............................ ok
t/v7_campaign_management_service_set_target_to_ad_group_response.t ............................... ok
t/v7_campaign_management_service_set_target_to_campaign_response.t ............................... ok
t/v7_campaign_management_service_set_users_to_segments_response.t ................................ ok
t/v7_campaign_management_service_site_placement.t ................................................ ok
t/v7_campaign_management_service_state_target.t .................................................. ok
t/v7_campaign_management_service_state_target_bid.t .............................................. ok
t/v7_campaign_management_service_step.t .......................................................... ok
t/v7_campaign_management_service_submit_ad_group_for_approval_response.t ......................... ok
t/v7_campaign_management_service_target.t ........................................................ ok
t/v7_campaign_management_service_target_info.t ................................................... ok
t/v7_campaign_management_service_text_ad.t ....................................................... ok
t/v7_campaign_management_service_time_of_the_day.t ............................................... ok
t/v7_campaign_management_service_update_ad_groups_response.t ..................................... ok
t/v7_campaign_management_service_update_ads_response.t ........................................... ok
t/v7_campaign_management_service_update_behavioral_bids_response.t ............................... ok
t/v7_campaign_management_service_update_businesses_response.t .................................... ok
t/v7_campaign_management_service_update_campaigns_response.t ..................................... ok
t/v7_campaign_management_service_update_goals_response.t ......................................... ok
t/v7_campaign_management_service_update_keywords_response.t ...................................... ok
t/v7_campaign_management_service_update_site_placements_response.t ............................... ok
t/v7_campaign_management_service_update_target_response.t ........................................ ok
t/v7_campaign_management_service_update_targets_in_library_response.t ............................ ok
t/v7_customer_billing_service.t .................................................................. ok
t/v7_customer_billing_service_ad_api_error.t ..................................................... ok
t/v7_customer_billing_service_ad_api_fault_detail.t .............................................. ok
t/v7_customer_billing_service_add_insertion_order_response.t ..................................... ok
t/v7_customer_billing_service_api_batch_fault.t .................................................. ok
t/v7_customer_billing_service_api_fault.t ........................................................ ok
t/v7_customer_billing_service_application_fault.t ................................................ ok
t/v7_customer_billing_service_batch_error.t ...................................................... ok
t/v7_customer_billing_service_get_display_invoices_response.t .................................... ok
t/v7_customer_billing_service_get_insertion_orders_by_account_response.t ......................... ok
t/v7_customer_billing_service_get_invoices_info_response.t ....................................... ok
t/v7_customer_billing_service_get_invoices_response.t ............................................ ok
t/v7_customer_billing_service_get_kohioinvoices_response.t ....................................... ok
t/v7_customer_billing_service_insertion_order.t .................................................. ok
t/v7_customer_billing_service_invoice.t .......................................................... ok
t/v7_customer_billing_service_invoice_info.t ..................................................... ok
t/v7_customer_billing_service_operation_error.t .................................................. ok
t/v7_customer_billing_service_update_insertion_order_response.t .................................. ok
t/v7_customer_management_service.t ............................................................... ok
t/v7_customer_management_service_account.t ....................................................... ok
t/v7_customer_management_service_account_info.t .................................................. ok
t/v7_customer_management_service_ad_api_error.t .................................................. ok
t/v7_customer_management_service_ad_api_fault_detail.t ........................................... ok
t/v7_customer_management_service_add_account_response.t .......................................... ok
t/v7_customer_management_service_add_user_response.t ............................................. ok
t/v7_customer_management_service_address.t ....................................................... ok
t/v7_customer_management_service_advertiser_account.t ............................................ ok
t/v7_customer_management_service_api_fault.t ..................................................... ok
t/v7_customer_management_service_application_fault.t ............................................. ok
t/v7_customer_management_service_contact_info.t .................................................. ok
t/v7_customer_management_service_customer.t ...................................................... ok
t/v7_customer_management_service_customer_info.t ................................................. ok
t/v7_customer_management_service_delete_account_response.t ....................................... ok
t/v7_customer_management_service_delete_customer_response.t ...................................... ok
t/v7_customer_management_service_delete_user_response.t .......................................... ok
t/v7_customer_management_service_get_account_response.t .......................................... ok
t/v7_customer_management_service_get_accounts_info_response.t .................................... ok
t/v7_customer_management_service_get_customer_pilot_feature_response.t ........................... ok
t/v7_customer_management_service_get_customer_response.t ......................................... ok
t/v7_customer_management_service_get_customers_info_response.t ................................... ok
t/v7_customer_management_service_get_user_response.t ............................................. ok
t/v7_customer_management_service_get_users_info_response.t ....................................... ok
t/v7_customer_management_service_operation_error.t ............................................... ok
t/v7_customer_management_service_person_name.t ................................................... ok
t/v7_customer_management_service_publisher_account.t ............................................. ok
t/v7_customer_management_service_signup_customer_response.t ...................................... ok
t/v7_customer_management_service_update_account_response.t ....................................... ok
t/v7_customer_management_service_update_customer_response.t ...................................... ok
t/v7_customer_management_service_update_user_response.t .......................................... ok
t/v7_customer_management_service_update_user_roles_response.t .................................... ok
t/v7_customer_management_service_user.t .......................................................... ok
t/v7_customer_management_service_user_info.t ..................................................... ok
t/v7_reporting_service.t ......................................................................... ok
t/v7_reporting_service_account_performance_report_filter.t ....................................... ok
t/v7_reporting_service_account_performance_report_request.t ...................................... ok
t/v7_reporting_service_account_report_scope.t .................................................... ok
t/v7_reporting_service_account_through_ad_group_report_scope.t ................................... ok
t/v7_reporting_service_account_through_campaign_report_scope.t ................................... ok
t/v7_reporting_service_ad_api_error.t ............................................................ ok
t/v7_reporting_service_ad_api_fault_detail.t ..................................................... ok
t/v7_reporting_service_ad_dynamic_text_performance_report_filter.t ............................... ok
t/v7_reporting_service_ad_dynamic_text_performance_report_request.t .............................. ok
t/v7_reporting_service_ad_group_performance_report_filter.t ...................................... ok
t/v7_reporting_service_ad_group_performance_report_request.t ..................................... ok
t/v7_reporting_service_ad_group_report_scope.t ................................................... ok
t/v7_reporting_service_ad_performance_report_filter.t ............................................ ok
t/v7_reporting_service_ad_performance_report_request.t ........................................... ok
t/v7_reporting_service_age_gender_demographic_report_filter.t .................................... ok
t/v7_reporting_service_age_gender_demographic_report_request.t ................................... ok
t/v7_reporting_service_api_fault_detail.t ........................................................ ok
t/v7_reporting_service_application_fault.t ....................................................... ok
t/v7_reporting_service_batch_error.t ............................................................. ok
t/v7_reporting_service_behavioral_performance_report_filter.t .................................... ok
t/v7_reporting_service_behavioral_performance_report_request.t ................................... ok
t/v7_reporting_service_behavioral_target_report_filter.t ......................................... ok
t/v7_reporting_service_behavioral_target_report_request.t ........................................ ok
t/v7_reporting_service_budget_summary_report_request.t ........................................... ok
t/v7_reporting_service_budget_summary_report_time.t .............................................. ok
t/v7_reporting_service_campaign_performance_report_filter.t ...................................... ok
t/v7_reporting_service_campaign_performance_report_request.t ..................................... ok
t/v7_reporting_service_campaign_report_scope.t ................................................... ok
t/v7_reporting_service_conversion_performance_report_filter.t .................................... ok
t/v7_reporting_service_conversion_performance_report_request.t ................................... ok
t/v7_reporting_service_date.t .................................................................... ok
t/v7_reporting_service_destination_url_performance_report_filter.t ............................... ok
t/v7_reporting_service_destination_url_performance_report_request.t .............................. ok
t/v7_reporting_service_goals_and_funnels_report_filter.t ......................................... ok
t/v7_reporting_service_goals_and_funnels_report_request.t ........................................ ok
t/v7_reporting_service_keyword_performance_report_filter.t ....................................... ok
t/v7_reporting_service_keyword_performance_report_request.t ...................................... ok
t/v7_reporting_service_metro_area_demographic_report_filter.t .................................... ok
t/v7_reporting_service_metro_area_demographic_report_request.t ................................... ok
t/v7_reporting_service_negative_keyword_conflict_report_request.t ................................ ok
t/v7_reporting_service_operation_error.t ......................................................... ok
t/v7_reporting_service_poll_generate_report_response.t ........................................... ok
t/v7_reporting_service_publisher_usage_performance_report_filter.t ............................... ok
t/v7_reporting_service_publisher_usage_performance_report_request.t .............................. ok
t/v7_reporting_service_report_request.t .......................................................... ok
t/v7_reporting_service_report_request_status.t ................................................... ok
t/v7_reporting_service_report_time.t ............................................................. ok
t/v7_reporting_service_rich_ad_component_performance_report_filter.t ............................. ok
t/v7_reporting_service_rich_ad_component_performance_report_request.t ............................ ok
t/v7_reporting_service_search_query_performance_report_filter.t .................................. ok
t/v7_reporting_service_search_query_performance_report_request.t ................................. ok
t/v7_reporting_service_segmentation_report_filter.t .............................................. ok
t/v7_reporting_service_segmentation_report_request.t ............................................. ok
t/v7_reporting_service_share_of_voice_report_filter.t ............................................ ok
t/v7_reporting_service_share_of_voice_report_request.t ........................................... ok
t/v7_reporting_service_site_performance_report_filter.t .......................................... ok
t/v7_reporting_service_site_performance_report_request.t ......................................... ok
t/v7_reporting_service_submit_generate_report_response.t ......................................... ok
t/v7_reporting_service_tactic_channel_report_filter.t ............................................ ok
t/v7_reporting_service_tactic_channel_report_request.t ........................................... ok
t/v7_reporting_service_traffic_sources_report_filter.t ........................................... ok
t/v7_reporting_service_traffic_sources_report_request.t .......................................... ok
t/v8_ad_intelligence_service.t ................................................................... ok
t/v8_ad_intelligence_service_ad_api_error.t ...................................................... ok
t/v8_ad_intelligence_service_ad_api_fault_detail.t ............................................... ok
t/v8_ad_intelligence_service_api_fault_detail.t .................................................. ok
t/v8_ad_intelligence_service_application_fault.t ................................................. ok
t/v8_ad_intelligence_service_batch_error.t ....................................................... ok
t/v8_ad_intelligence_service_day_month_and_year.t ................................................ ok
t/v8_ad_intelligence_service_estimated_bid_and_traffic.t ......................................... ok
t/v8_ad_intelligence_service_estimated_position_and_traffic.t .................................... ok
t/v8_ad_intelligence_service_get_estimated_bid_by_keyword_ids_response.t ......................... ok
t/v8_ad_intelligence_service_get_estimated_bid_by_keywords_response.t ............................ ok
t/v8_ad_intelligence_service_get_estimated_position_by_keyword_ids_response.t .................... ok
t/v8_ad_intelligence_service_get_estimated_position_by_keywords_response.t ....................... ok
t/v8_ad_intelligence_service_get_historical_keyword_performance_by_device_response.t ............. ok
t/v8_ad_intelligence_service_get_historical_keyword_performance_response.t ....................... ok
t/v8_ad_intelligence_service_get_historical_search_count_by_device_response.t .................... ok
t/v8_ad_intelligence_service_get_historical_search_count_response.t .............................. ok
t/v8_ad_intelligence_service_get_keyword_categories_response.t ................................... ok
t/v8_ad_intelligence_service_get_keyword_demographics_response.t ................................. ok
t/v8_ad_intelligence_service_get_keyword_locations_response.t .................................... ok
t/v8_ad_intelligence_service_get_publisher_keyword_performance_response.t ........................ ok
t/v8_ad_intelligence_service_historical_search_count.t ........................................... ok
t/v8_ad_intelligence_service_historical_search_count_periodic.t .................................. ok
t/v8_ad_intelligence_service_keyword_and_confidence.t ............................................ ok
t/v8_ad_intelligence_service_keyword_category.t .................................................. ok
t/v8_ad_intelligence_service_keyword_category_result.t ........................................... ok
t/v8_ad_intelligence_service_keyword_demographic.t ............................................... ok
t/v8_ad_intelligence_service_keyword_demographic_result.t ........................................ ok
t/v8_ad_intelligence_service_keyword_estimated_bid.t ............................................. ok
t/v8_ad_intelligence_service_keyword_estimated_position.t ........................................ ok
t/v8_ad_intelligence_service_keyword_historical_performance.t .................................... ok
t/v8_ad_intelligence_service_keyword_historical_performance_by_device.t .......................... ok
t/v8_ad_intelligence_service_keyword_id_estimated_bid.t .......................................... ok
t/v8_ad_intelligence_service_keyword_id_estimated_position.t ..................................... ok
t/v8_ad_intelligence_service_keyword_kpi.t ....................................................... ok
t/v8_ad_intelligence_service_keyword_location.t .................................................. ok
t/v8_ad_intelligence_service_keyword_location_result.t ........................................... ok
t/v8_ad_intelligence_service_keyword_performance.t ............................................... ok
t/v8_ad_intelligence_service_keyword_search_count.t .............................................. ok
t/v8_ad_intelligence_service_keyword_search_count_by_device.t .................................... ok
t/v8_ad_intelligence_service_keyword_suggestion.t ................................................ ok
t/v8_ad_intelligence_service_month_and_year.t .................................................... ok
t/v8_ad_intelligence_service_operation_error.t ................................................... ok
t/v8_ad_intelligence_service_suggest_keywords_for_url_response.t ................................. ok
t/v8_ad_intelligence_service_suggest_keywords_from_existing_keywords_response.t .................. ok
t/v8_administration_service.t .................................................................... ok
t/v8_administration_service_ad_api_error.t ....................................................... ok
t/v8_administration_service_ad_api_fault_detail.t ................................................ ok
t/v8_administration_service_application_fault.t .................................................. ok
t/v8_administration_service_get_assigned_quota_response.t ........................................ ok
t/v8_administration_service_get_remaining_quota_response.t ....................................... ok
t/v8_bulk_service.t .............................................................................. ok
t/v8_bulk_service_ad_api_error.t ................................................................. ok
t/v8_bulk_service_ad_api_fault_detail.t .......................................................... ok
t/v8_bulk_service_api_fault_detail.t ............................................................. ok
t/v8_bulk_service_application_fault.t ............................................................ ok
t/v8_bulk_service_batch_error.t .................................................................. ok
t/v8_bulk_service_campaign_scope.t ............................................................... ok
t/v8_bulk_service_download_campaigns_by_account_ids_response.t ................................... ok
t/v8_bulk_service_download_campaigns_by_campaign_ids_response.t .................................. ok
t/v8_bulk_service_get_download_status_response.t ................................................. ok
t/v8_bulk_service_operation_error.t .............................................................. ok
t/v8_campaign_management_service.t ............................................................... ok
t/v8_campaign_management_service_account_analytics_type.t ........................................ ok
t/v8_campaign_management_service_account_migration_statuses_info.t ............................... ok
t/v8_campaign_management_service_ad.t ............................................................ ok
t/v8_campaign_management_service_ad_api_error.t .................................................. ok
t/v8_campaign_management_service_ad_api_fault_detail.t ........................................... ok
t/v8_campaign_management_service_ad_extension.t .................................................. ok
t/v8_campaign_management_service_ad_extension2.t ................................................. ok
t/v8_campaign_management_service_ad_extension_editorial_reason.t ................................. ok
t/v8_campaign_management_service_ad_extension_editorial_reason_collection.t ...................... ok
t/v8_campaign_management_service_ad_extension_id_to_campaign_id_association.t .................... ok
t/v8_campaign_management_service_ad_extension_identity.t ......................................... ok
t/v8_campaign_management_service_ad_group.t ...................................................... ok
t/v8_campaign_management_service_ad_group_ad_rotation.t .......................................... ok
t/v8_campaign_management_service_ad_group_negative_keywords.t .................................... ok
t/v8_campaign_management_service_ad_group_negative_sites.t ....................................... ok
t/v8_campaign_management_service_ad_rotation.t ................................................... ok
t/v8_campaign_management_service_add_ad_extensions_response.t .................................... ok
t/v8_campaign_management_service_add_ad_groups_response.t ........................................ ok
t/v8_campaign_management_service_add_ads_response.t .............................................. ok
t/v8_campaign_management_service_add_businesses_response.t ....................................... ok
t/v8_campaign_management_service_add_campaigns_response.t ........................................ ok
t/v8_campaign_management_service_add_goals_response.t ............................................ ok
t/v8_campaign_management_service_add_keywords_response.t ......................................... ok
t/v8_campaign_management_service_add_site_placements_response.t .................................. ok
t/v8_campaign_management_service_add_target_response.t ........................................... ok
t/v8_campaign_management_service_add_targets_to_library_response.t ............................... ok
t/v8_campaign_management_service_age_target.t .................................................... ok
t/v8_campaign_management_service_age_target_bid.t ................................................ ok
t/v8_campaign_management_service_analytics_api_fault_detail.t .................................... ok
t/v8_campaign_management_service_api_fault_detail.t .............................................. ok
t/v8_campaign_management_service_appeal_editorial_rejections_response.t .......................... ok
t/v8_campaign_management_service_application_fault.t ............................................. ok
t/v8_campaign_management_service_batch_error.t ................................................... ok
t/v8_campaign_management_service_bid.t ........................................................... ok
t/v8_campaign_management_service_business.t ...................................................... ok
t/v8_campaign_management_service_business_image_icon.t ........................................... ok
t/v8_campaign_management_service_business_info.t ................................................. ok
t/v8_campaign_management_service_business_target.t ............................................... ok
t/v8_campaign_management_service_business_target_bid.t ........................................... ok
t/v8_campaign_management_service_campaign.t ...................................................... ok
t/v8_campaign_management_service_campaign_ad_extension.t ......................................... ok
t/v8_campaign_management_service_campaign_ad_extension_collection.t .............................. ok
t/v8_campaign_management_service_campaign_negative_keywords.t .................................... ok
t/v8_campaign_management_service_campaign_negative_sites.t ....................................... ok
t/v8_campaign_management_service_campaign_scope.t ................................................ ok
t/v8_campaign_management_service_city_target.t ................................................... ok
t/v8_campaign_management_service_city_target_bid.t ............................................... ok
t/v8_campaign_management_service_country_target.t ................................................ ok
t/v8_campaign_management_service_country_target_bid.t ............................................ ok
t/v8_campaign_management_service_date.t .......................................................... ok
t/v8_campaign_management_service_day_target.t .................................................... ok
t/v8_campaign_management_service_day_target_bid.t ................................................ ok
t/v8_campaign_management_service_day_time_interval.t ............................................. ok
t/v8_campaign_management_service_delete_ad_extensions_from_campaigns_response.t .................. ok
t/v8_campaign_management_service_delete_ad_extensions_response.t ................................. ok
t/v8_campaign_management_service_delete_ad_groups_response.t ..................................... ok
t/v8_campaign_management_service_delete_ads_response.t ........................................... ok
t/v8_campaign_management_service_delete_businesses_response.t .................................... ok
t/v8_campaign_management_service_delete_campaigns_response.t ..................................... ok
t/v8_campaign_management_service_delete_goals_response.t ......................................... ok
t/v8_campaign_management_service_delete_keywords_response.t ...................................... ok
t/v8_campaign_management_service_delete_site_placements_response.t ............................... ok
t/v8_campaign_management_service_delete_target_from_ad_group_response.t .......................... ok
t/v8_campaign_management_service_delete_target_from_campaign_response.t .......................... ok
t/v8_campaign_management_service_delete_target_response.t ........................................ ok
t/v8_campaign_management_service_delete_targets_from_library_response.t .......................... ok
t/v8_campaign_management_service_device_os.t ..................................................... ok
t/v8_campaign_management_service_device_ostarget.t ............................................... ok
t/v8_campaign_management_service_device_target.t ................................................. ok
t/v8_campaign_management_service_dimension.t ..................................................... ok
t/v8_campaign_management_service_download_campaign_hierarchy_response.t .......................... ok
t/v8_campaign_management_service_editorial_api_fault_detail.t .................................... ok
t/v8_campaign_management_service_editorial_error.t ............................................... ok
t/v8_campaign_management_service_editorial_reason.t .............................................. ok
t/v8_campaign_management_service_editorial_reason_collection.t ................................... ok
t/v8_campaign_management_service_entity.t ........................................................ ok
t/v8_campaign_management_service_entity_to_exclusions_association.t .............................. ok
t/v8_campaign_management_service_excluded_geo_location.t ......................................... ok
t/v8_campaign_management_service_excluded_radius_location.t ...................................... ok
t/v8_campaign_management_service_excluded_radius_target.t ........................................ ok
t/v8_campaign_management_service_exclusion.t ..................................................... ok
t/v8_campaign_management_service_exclusion_to_entity_association.t ............................... ok
t/v8_campaign_management_service_gender_target.t ................................................. ok
t/v8_campaign_management_service_gender_target_bid.t ............................................. ok
t/v8_campaign_management_service_get_account_migration_statuses_response.t ....................... ok
t/v8_campaign_management_service_get_ad_editorial_reasons_by_ids_response.t ...................... ok
t/v8_campaign_management_service_get_ad_extensions_by_campaign_ids_response.t .................... ok
t/v8_campaign_management_service_get_ad_extensions_by_ids_response.t ............................. ok
t/v8_campaign_management_service_get_ad_extensions_editorial_reasons_by_campaign_ids_response.t .. ok
t/v8_campaign_management_service_get_ad_groups_by_campaign_id_response.t ......................... ok
t/v8_campaign_management_service_get_ad_groups_by_ids_response.t ................................. ok
t/v8_campaign_management_service_get_ad_rotation_by_ad_group_ids_response.t ...................... ok
t/v8_campaign_management_service_get_ads_by_ad_group_id_response.t ............................... ok
t/v8_campaign_management_service_get_ads_by_editorial_status_response.t .......................... ok
t/v8_campaign_management_service_get_ads_by_ids_response.t ....................................... ok
t/v8_campaign_management_service_get_analytics_type_response.t ................................... ok
t/v8_campaign_management_service_get_businesses_by_ids_response.t ................................ ok
t/v8_campaign_management_service_get_businesses_info_response.t .................................. ok
t/v8_campaign_management_service_get_campaign_ad_extensions_response.t ........................... ok
t/v8_campaign_management_service_get_campaigns_by_account_id_response.t .......................... ok
t/v8_campaign_management_service_get_campaigns_by_ids_response.t ................................. ok
t/v8_campaign_management_service_get_destination_url_by_keyword_ids_response.t ................... ok
t/v8_campaign_management_service_get_device_ostargets_by_ids_response.t .......................... ok
t/v8_campaign_management_service_get_download_status_response.t .................................. ok
t/v8_campaign_management_service_get_editorial_reasons_by_ids_response.t ......................... ok
t/v8_campaign_management_service_get_exclusions_by_associated_entity_ids_response.t .............. ok
t/v8_campaign_management_service_get_goals_response.t ............................................ ok
t/v8_campaign_management_service_get_keyword_editorial_reasons_by_ids_response.t ................. ok
t/v8_campaign_management_service_get_keywords_by_ad_group_id_response.t .......................... ok
t/v8_campaign_management_service_get_keywords_by_editorial_status_response.t ..................... ok
t/v8_campaign_management_service_get_keywords_by_ids_response.t .................................. ok
t/v8_campaign_management_service_get_negative_keywords_by_ad_group_ids_response.t ................ ok
t/v8_campaign_management_service_get_negative_keywords_by_campaign_ids_response.t ................ ok
t/v8_campaign_management_service_get_negative_sites_by_ad_group_ids_response.t ................... ok
t/v8_campaign_management_service_get_negative_sites_by_campaign_ids_response.t ................... ok
t/v8_campaign_management_service_get_normalized_strings_response.t ............................... ok
t/v8_campaign_management_service_get_placement_details_for_urls_response.t ....................... ok
t/v8_campaign_management_service_get_site_placements_by_ad_group_id_response.t ................... ok
t/v8_campaign_management_service_get_site_placements_by_ids_response.t ........................... ok
t/v8_campaign_management_service_get_target_by_ad_group_id_response.t ............................ ok
t/v8_campaign_management_service_get_targets_by_ad_group_ids_response.t .......................... ok
t/v8_campaign_management_service_get_targets_by_campaign_ids_response.t .......................... ok
t/v8_campaign_management_service_get_targets_by_ids_response.t ................................... ok
t/v8_campaign_management_service_get_targets_info_from_library_response.t ........................ ok
t/v8_campaign_management_service_goal.t .......................................................... ok
t/v8_campaign_management_service_goal_error.t .................................................... ok
t/v8_campaign_management_service_goal_result.t ................................................... ok
t/v8_campaign_management_service_hour_target.t ................................................... ok
t/v8_campaign_management_service_hour_target_bid.t ............................................... ok
t/v8_campaign_management_service_hours_of_operation.t ............................................ ok
t/v8_campaign_management_service_impressions_per_day_range.t ..................................... ok
t/v8_campaign_management_service_keyword.t ....................................................... ok
t/v8_campaign_management_service_keyword_destination_url.t ....................................... ok
t/v8_campaign_management_service_location_exclusion.t ............................................ ok
t/v8_campaign_management_service_location_target.t ............................................... ok
t/v8_campaign_management_service_media_type.t .................................................... ok
t/v8_campaign_management_service_metro_area_target.t ............................................. ok
t/v8_campaign_management_service_metro_area_target_bid.t ......................................... ok
t/v8_campaign_management_service_migration_status_info.t ......................................... ok
t/v8_campaign_management_service_mobile_ad.t ..................................................... ok
t/v8_campaign_management_service_operation_error.t ............................................... ok
t/v8_campaign_management_service_pause_ad_groups_response.t ...................................... ok
t/v8_campaign_management_service_pause_ads_response.t ............................................ ok
t/v8_campaign_management_service_pause_campaigns_response.t ...................................... ok
t/v8_campaign_management_service_pause_keywords_response.t ....................................... ok
t/v8_campaign_management_service_pause_site_placements_response.t ................................ ok
t/v8_campaign_management_service_phone_extension.t ............................................... ok
t/v8_campaign_management_service_placement_detail.t .............................................. ok
t/v8_campaign_management_service_publisher_country.t ............................................. ok
t/v8_campaign_management_service_radius_target.t ................................................. ok
t/v8_campaign_management_service_radius_target_bid.t ............................................. ok
t/v8_campaign_management_service_resume_ad_groups_response.t ..................................... ok
t/v8_campaign_management_service_resume_ads_response.t ........................................... ok
t/v8_campaign_management_service_resume_campaigns_response.t ..................................... ok
t/v8_campaign_management_service_resume_keywords_response.t ...................................... ok
t/v8_campaign_management_service_resume_site_placements_response.t ............................... ok
t/v8_campaign_management_service_revenue_model.t ................................................. ok
t/v8_campaign_management_service_set_ad_extensions_to_campaigns_response.t ....................... ok
t/v8_campaign_management_service_set_ad_rotation_to_ad_groups_response.t ......................... ok
t/v8_campaign_management_service_set_analytics_type_response.t ................................... ok
t/v8_campaign_management_service_set_campaign_ad_extensions_response.t ........................... ok
t/v8_campaign_management_service_set_destination_url_to_keywords_response.t ...................... ok
t/v8_campaign_management_service_set_exclusions_to_associated_entities_response.t ................ ok
t/v8_campaign_management_service_set_negative_keywords_to_ad_groups_response.t ................... ok
t/v8_campaign_management_service_set_negative_keywords_to_campaigns_response.t ................... ok
t/v8_campaign_management_service_set_negative_sites_to_ad_groups_response.t ...................... ok
t/v8_campaign_management_service_set_negative_sites_to_campaigns_response.t ...................... ok
t/v8_campaign_management_service_set_target_to_ad_group_response.t ............................... ok
t/v8_campaign_management_service_set_target_to_campaign_response.t ............................... ok
t/v8_campaign_management_service_site_link.t ..................................................... ok
t/v8_campaign_management_service_site_links_ad_extension.t ....................................... ok
t/v8_campaign_management_service_site_placement.t ................................................ ok
t/v8_campaign_management_service_state_target.t .................................................. ok
t/v8_campaign_management_service_state_target_bid.t .............................................. ok
t/v8_campaign_management_service_step.t .......................................................... ok
t/v8_campaign_management_service_submit_ad_group_for_approval_response.t ......................... ok
t/v8_campaign_management_service_target.t ........................................................ ok
t/v8_campaign_management_service_target_association.t ............................................ ok
t/v8_campaign_management_service_target_info.t ................................................... ok
t/v8_campaign_management_service_text_ad.t ....................................................... ok
t/v8_campaign_management_service_time_of_the_day.t ............................................... ok
t/v8_campaign_management_service_update_ad_groups_response.t ..................................... ok
t/v8_campaign_management_service_update_ads_response.t ........................................... ok
t/v8_campaign_management_service_update_businesses_response.t .................................... ok
t/v8_campaign_management_service_update_campaigns_response.t ..................................... ok
t/v8_campaign_management_service_update_device_ostargets_response.t .............................. ok
t/v8_campaign_management_service_update_goals_response.t ......................................... ok
t/v8_campaign_management_service_update_keywords_response.t ...................................... ok
t/v8_campaign_management_service_update_site_placements_response.t ............................... ok
t/v8_campaign_management_service_update_target_response.t ........................................ ok
t/v8_campaign_management_service_update_targets_in_library_response.t ............................ ok
t/v8_customer_billing_service.t .................................................................. ok
t/v8_customer_billing_service_ad_api_error.t ..................................................... ok
t/v8_customer_billing_service_ad_api_fault_detail.t .............................................. ok
t/v8_customer_billing_service_add_insertion_order_response.t ..................................... ok
t/v8_customer_billing_service_api_batch_fault.t .................................................. ok
t/v8_customer_billing_service_api_fault.t ........................................................ ok
t/v8_customer_billing_service_application_fault.t ................................................ ok
t/v8_customer_billing_service_batch_error.t ...................................................... ok
t/v8_customer_billing_service_get_account_monthly_spend_response.t ............................... ok
t/v8_customer_billing_service_get_display_invoices_response.t .................................... ok
t/v8_customer_billing_service_get_insertion_orders_by_account_response.t ......................... ok
t/v8_customer_billing_service_get_invoices_info_response.t ....................................... ok
t/v8_customer_billing_service_get_invoices_response.t ............................................ ok
t/v8_customer_billing_service_get_kohioinvoices_response.t ....................................... ok
t/v8_customer_billing_service_insertion_order.t .................................................. ok
t/v8_customer_billing_service_invoice.t .......................................................... ok
t/v8_customer_billing_service_invoice_info.t ..................................................... ok
t/v8_customer_billing_service_operation_error.t .................................................. ok
t/v8_customer_billing_service_update_insertion_order_response.t .................................. ok
t/v8_customer_management_service.t ............................................................... ok
t/v8_customer_management_service_accept_request_to_manage_accounts_response.t .................... ok
t/v8_customer_management_service_account.t ....................................................... ok
t/v8_customer_management_service_account_info.t .................................................. ok
t/v8_customer_management_service_account_info_with_customer_data.t ............................... ok
t/v8_customer_management_service_ad_api_error.t .................................................. ok
t/v8_customer_management_service_ad_api_fault_detail.t ........................................... ok
t/v8_customer_management_service_add_account_response.t .......................................... ok
t/v8_customer_management_service_add_prepay_account_response.t ................................... ok
t/v8_customer_management_service_add_user_response.t ............................................. ok
t/v8_customer_management_service_address.t ....................................................... ok
t/v8_customer_management_service_advertiser_account.t ............................................ ok
t/v8_customer_management_service_api_fault.t ..................................................... ok
t/v8_customer_management_service_application_fault.t ............................................. ok
t/v8_customer_management_service_cancel_request_to_manage_accounts_response.t .................... ok
t/v8_customer_management_service_contact_info.t .................................................. ok
t/v8_customer_management_service_customer.t ...................................................... ok
t/v8_customer_management_service_customer_info.t ................................................. ok
t/v8_customer_management_service_date.t .......................................................... ok
t/v8_customer_management_service_decline_request_to_manage_accounts_response.t ................... ok
t/v8_customer_management_service_delete_account_response.t ....................................... ok
t/v8_customer_management_service_delete_customer_response.t ...................................... ok
t/v8_customer_management_service_delete_user_response.t .......................................... ok
t/v8_customer_management_service_find_accounts_or_customers_info_response.t ...................... ok
t/v8_customer_management_service_find_accounts_response.t ........................................ ok
t/v8_customer_management_service_get_accessible_customer_response.t .............................. ok
t/v8_customer_management_service_get_account_response.t .......................................... ok
t/v8_customer_management_service_get_accounts_info_response.t .................................... ok
t/v8_customer_management_service_get_current_user_response.t ..................................... ok
t/v8_customer_management_service_get_customer_pilot_feature_response.t ........................... ok
t/v8_customer_management_service_get_customer_response.t ......................................... ok
t/v8_customer_management_service_get_customers_info_response.t ................................... ok
t/v8_customer_management_service_get_pilot_features_countries_response.t ......................... ok
t/v8_customer_management_service_get_request_to_manage_accounts_infos_response.t ................. ok
t/v8_customer_management_service_get_request_to_manage_accounts_response.t ....................... ok
t/v8_customer_management_service_get_user_response.t ............................................. ok
t/v8_customer_management_service_get_users_info_response.t ....................................... ok
t/v8_customer_management_service_manage_accounts_request.t ....................................... ok
t/v8_customer_management_service_manage_accounts_request_info.t .................................. ok
t/v8_customer_management_service_map_account_id_to_external_account_ids_response.t ............... ok
t/v8_customer_management_service_map_customer_id_to_external_customer_id_response.t .............. ok
t/v8_customer_management_service_operation_error.t ............................................... ok
t/v8_customer_management_service_person_name.t ................................................... ok
t/v8_customer_management_service_pilot_feature.t ................................................. ok
t/v8_customer_management_service_publisher_account.t ............................................. ok
t/v8_customer_management_service_send_request_to_manage_accounts_response.t ...................... ok
t/v8_customer_management_service_send_request_to_stop_managing_accounts_response.t ............... ok
t/v8_customer_management_service_signup_customer_response.t ...................................... ok
t/v8_customer_management_service_update_account_response.t ....................................... ok
t/v8_customer_management_service_update_customer_response.t ...................................... ok
t/v8_customer_management_service_update_prepay_account_response.t ................................ ok
t/v8_customer_management_service_update_user_response.t .......................................... ok
t/v8_customer_management_service_update_user_roles_response.t .................................... ok
t/v8_customer_management_service_upgrade_customer_to_agency_response.t ........................... ok
t/v8_customer_management_service_user.t .......................................................... ok
t/v8_customer_management_service_user_info.t ..................................................... ok
t/v8_notification_service.t ...................................................................... ok
t/v8_notification_service_account_notification.t ................................................. ok
t/v8_notification_service_ad_api_error.t ......................................................... ok
t/v8_notification_service_ad_api_fault_detail.t .................................................. ok
t/v8_notification_service_api_fault.t ............................................................ ok
t/v8_notification_service_application_fault.t .................................................... ok
t/v8_notification_service_budget_depleted_campaign_info.t ........................................ ok
t/v8_notification_service_budget_depleted_notification.t ......................................... ok
t/v8_notification_service_campaign_info.t ........................................................ ok
t/v8_notification_service_credit_card_pending_expiration_notification.t .......................... ok
t/v8_notification_service_editorial_rejection_notification.t ..................................... ok
t/v8_notification_service_expired_credit_card_notification.t ..................................... ok
t/v8_notification_service_expired_insertion_order_notification.t ................................. ok
t/v8_notification_service_get_archived_notifications_response.t .................................. ok
t/v8_notification_service_get_notifications_response.t ........................................... ok
t/v8_notification_service_low_budget_balance_campaign_info.t ..................................... ok
t/v8_notification_service_low_budget_balance_notification.t ...................................... ok
t/v8_notification_service_notification.t ......................................................... ok
t/v8_notification_service_operation_error.t ...................................................... ok
t/v8_optimizer_service.t ......................................................................... ok
t/v8_optimizer_service_ad_api_error.t ............................................................ ok
t/v8_optimizer_service_ad_api_fault_detail.t ..................................................... ok
t/v8_optimizer_service_api_fault_detail.t ........................................................ ok
t/v8_optimizer_service_application_fault.t ....................................................... ok
t/v8_optimizer_service_apply_budget_opportunities_response.t ..................................... ok
t/v8_optimizer_service_apply_opportunities_response.t ............................................ ok
t/v8_optimizer_service_batch_error.t ............................................................. ok
t/v8_optimizer_service_bid_opportunity.t ......................................................... ok
t/v8_optimizer_service_budget_opportunity.t ...................................................... ok
t/v8_optimizer_service_get_bid_opportunities_response.t .......................................... ok
t/v8_optimizer_service_get_budget_opportunities_response.t ....................................... ok
t/v8_optimizer_service_operation_error.t ......................................................... ok
t/v8_optimizer_service_opportunity.t ............................................................. ok
t/v8_reporting_service.t ......................................................................... ok
t/v8_reporting_service_account_performance_report_filter.t ....................................... ok
t/v8_reporting_service_account_performance_report_request.t ...................................... ok
t/v8_reporting_service_account_report_scope.t .................................................... ok
t/v8_reporting_service_account_through_ad_group_report_scope.t ................................... ok
t/v8_reporting_service_account_through_campaign_report_scope.t ................................... ok
t/v8_reporting_service_ad_api_error.t ............................................................ ok
t/v8_reporting_service_ad_api_fault_detail.t ..................................................... ok
t/v8_reporting_service_ad_dynamic_text_performance_report_filter.t ............................... ok
t/v8_reporting_service_ad_dynamic_text_performance_report_request.t .............................. ok
t/v8_reporting_service_ad_extension_by_ads_report_request.t ...................................... ok
t/v8_reporting_service_ad_extension_by_keyword_report_request.t .................................. ok
t/v8_reporting_service_ad_extension_dimension_report_request.t ................................... ok
t/v8_reporting_service_ad_group_performance_report_filter.t ...................................... ok
t/v8_reporting_service_ad_group_performance_report_request.t ..................................... ok
t/v8_reporting_service_ad_group_report_scope.t ................................................... ok
t/v8_reporting_service_ad_performance_report_filter.t ............................................ ok
t/v8_reporting_service_ad_performance_report_request.t ........................................... ok
t/v8_reporting_service_age_gender_demographic_report_filter.t .................................... ok
t/v8_reporting_service_age_gender_demographic_report_request.t ................................... ok
t/v8_reporting_service_api_fault_detail.t ........................................................ ok
t/v8_reporting_service_application_fault.t ....................................................... ok
t/v8_reporting_service_batch_error.t ............................................................. ok
t/v8_reporting_service_behavioral_performance_report_filter.t .................................... ok
t/v8_reporting_service_behavioral_performance_report_request.t ................................... ok
t/v8_reporting_service_behavioral_target_report_filter.t ......................................... ok
t/v8_reporting_service_behavioral_target_report_request.t ........................................ ok
t/v8_reporting_service_budget_summary_report_request.t ........................................... ok
t/v8_reporting_service_budget_summary_report_time.t .............................................. ok
t/v8_reporting_service_campaign_performance_report_filter.t ...................................... ok
t/v8_reporting_service_campaign_performance_report_request.t ..................................... ok
t/v8_reporting_service_campaign_report_scope.t ................................................... ok
t/v8_reporting_service_conversion_performance_report_filter.t .................................... ok
t/v8_reporting_service_conversion_performance_report_request.t ................................... ok
t/v8_reporting_service_date.t .................................................................... ok
t/v8_reporting_service_destination_url_performance_report_filter.t ............................... ok
t/v8_reporting_service_destination_url_performance_report_request.t .............................. ok
t/v8_reporting_service_goals_and_funnels_report_filter.t ......................................... ok
t/v8_reporting_service_goals_and_funnels_report_request.t ........................................ ok
t/v8_reporting_service_keyword_migration_report_request.t ........................................ ok
t/v8_reporting_service_keyword_performance_report_filter.t ....................................... ok
t/v8_reporting_service_keyword_performance_report_request.t ...................................... ok
t/v8_reporting_service_metro_area_demographic_report_filter.t .................................... ok
t/v8_reporting_service_metro_area_demographic_report_request.t ................................... ok
t/v8_reporting_service_negative_keyword_conflict_report_request.t ................................ ok
t/v8_reporting_service_operation_error.t ......................................................... ok
t/v8_reporting_service_poll_generate_report_response.t ........................................... ok
t/v8_reporting_service_publisher_usage_performance_report_filter.t ............................... ok
t/v8_reporting_service_publisher_usage_performance_report_request.t .............................. ok
t/v8_reporting_service_report_request.t .......................................................... ok
t/v8_reporting_service_report_request_status.t ................................................... ok
t/v8_reporting_service_report_time.t ............................................................. ok
t/v8_reporting_service_rich_ad_component_performance_report_filter.t ............................. ok
t/v8_reporting_service_rich_ad_component_performance_report_request.t ............................ ok
t/v8_reporting_service_search_campaign_change_history_report_filter.t ............................ ok
t/v8_reporting_service_search_campaign_change_history_report_request.t ........................... ok
t/v8_reporting_service_search_query_performance_report_filter.t .................................. ok
t/v8_reporting_service_search_query_performance_report_request.t ................................. ok
t/v8_reporting_service_segmentation_report_filter.t .............................................. ok
t/v8_reporting_service_segmentation_report_request.t ............................................. ok
t/v8_reporting_service_share_of_voice_report_filter.t ............................................ ok
t/v8_reporting_service_share_of_voice_report_request.t ........................................... ok
t/v8_reporting_service_site_performance_report_filter.t .......................................... ok
t/v8_reporting_service_site_performance_report_request.t ......................................... ok
t/v8_reporting_service_submit_generate_report_response.t ......................................... ok
t/v8_reporting_service_tactic_channel_report_filter.t ............................................ ok
t/v8_reporting_service_tactic_channel_report_request.t ........................................... ok
t/v8_reporting_service_traffic_sources_report_filter.t ........................................... ok
t/v8_reporting_service_traffic_sources_report_request.t .......................................... ok
All tests successful.
Files=986, Tests=3647, 167 wallclock secs ( 2.03 usr  0.96 sys + 147.64 cusr 11.97 csys = 162.60 CPU)
Result: PASS

------------------------------
PREREQUISITES
------------------------------

Prerequisite modules loaded:

requires:

    Module                    Need Have   
    ------------------------- ---- -------
    Class::Accessor::Chained  0    0.01   
    Crypt::SSLeay             0    0.64   
    Data::Dumper              0    2.136  
    DateTime::Format::ISO8601 0    0.08   
    DateTime::Format::W3CDTF  0    0.06   
    Scalar::Util              0    1.25   
    SOAP::Lite                0.71 0.715  
    Test::Class               0    0.37   
    Test::More                0    0.98   

build_requires:

    Module                    Need Have   
    ------------------------- ---- -------
    ExtUtils::MakeMaker       0    6.63_02

configure_requires:

    Module                    Need Have   
    ------------------------- ---- -------
    ExtUtils::MakeMaker       0    6.63_02


------------------------------
ENVIRONMENT AND OTHER CONTEXT
------------------------------

Environment variables:

    AUTOMATED_TESTING = 1
    LANG = C
    PATH = /opt/perl/nothreads/5.16.1/bin:/usr/local/sbin:/usr/local/bin:/usr/sbin:/usr/bin:/sbin:/bin:/usr/games
    PERL5LIB = 
    PERL5OPT = 
    PERL5_CPANPLUS_IS_RUNNING = 25588
    PERL5_CPAN_IS_RUNNING = 25588
    PERL5_CPAN_IS_RUNNING_IN_RECURSION = 17854,25588
    PERL_CR_SMOKER_CURRENT = Microsoft-AdCenter-8.11
    PERL_EXTUTILS_AUTOINSTALL = --defaultdeps
    PERL_MM_USE_DEFAULT = 1
    SHELL = /bin/bash
    TERM = screen

Perl special variables (and OS-specific diagnostics, for MSWin32):

    $^X = /opt/perl/nothreads/5.16.1/bin/perl
    $UID/$EUID = 1000 / 1000
    $GID = 1000 4 24 27 30 46 112 113 1000
    $EGID = 1000 4 24 27 30 46 112 113 1000

Perl module toolchain versions installed:

    Module              Have    
    ------------------- --------
    CPAN                1.9800  
    CPAN::Meta          2.120921
    Cwd                 3.39_02 
    ExtUtils::CBuilder  0.280206
    ExtUtils::Command   1.17    
    ExtUtils::Install   1.58    
    ExtUtils::MakeMaker 6.63_02 
    ExtUtils::Manifest  1.61    
    ExtUtils::ParseXS   3.16    
    File::Spec          3.39_02 
    JSON                2.53    
    JSON::PP            2.27200 
    Module::Build       0.4003  
    Module::Signature   n/a     
    Parse::CPAN::Meta   1.4404  
    Test::Harness       3.25    
    Test::More          0.98    
    YAML                0.84    
    YAML::Syck          1.21    
    version             0.9901  


--

Summary of my perl5 (revision 5 version 16 subversion 1) configuration:
   
  Platform:
    osname=linux, osvers=3.2.0-31-virtual, archname=x86_64-linux
    uname='linux cpansmoker 3.2.0-31-virtual #50-ubuntu smp fri sep 7 16:36:36 utc 2012 x86_64 x86_64 x86_64 gnulinux '
    config_args='-des -Dprefix=/opt/perl/nothreads/5.16.1'
    hint=recommended, useposix=true, d_sigaction=define
    useithreads=undef, usemultiplicity=undef
    useperlio=define, d_sfio=undef, uselargefiles=define, usesocks=undef
    use64bitint=define, use64bitall=define, uselongdouble=undef
    usemymalloc=n, bincompat5005=undef
  Compiler:
    cc='cc', ccflags ='-fno-strict-aliasing -pipe -fstack-protector -I/usr/local/include -D_LARGEFILE_SOURCE -D_FILE_OFFSET_BITS=64',
    optimize='-O2',
    cppflags='-fno-strict-aliasing -pipe -fstack-protector -I/usr/local/include'
    ccversion='', gccversion='4.6.3', gccosandvers=''
    intsize=4, longsize=8, ptrsize=8, doublesize=8, byteorder=12345678
    d_longlong=define, longlongsize=8, d_longdbl=define, longdblsize=16
    ivtype='long', ivsize=8, nvtype='double', nvsize=8, Off_t='off_t', lseeksize=8
    alignbytes=8, prototype=define
  Linker and Libraries:
    ld='cc', ldflags =' -fstack-protector -L/usr/local/lib'
    libpth=/usr/local/lib /lib/x86_64-linux-gnu /lib/../lib /usr/lib/x86_64-linux-gnu /usr/lib/../lib /lib /usr/lib
    libs=-lnsl -lgdbm -ldb -ldl -lm -lcrypt -lutil -lc -lgdbm_compat
    perllibs=-lnsl -ldl -lm -lcrypt -lutil -lc
    libc=, so=so, useshrplib=false, libperl=libperl.a
    gnulibc_version='2.15'
  Dynamic Linking:
    dlsrc=dl_dlopen.xs, dlext=so, d_dlsymun=undef, ccdlflags='-Wl,-E'
    cccdlflags='-fPIC', lddlflags='-shared -O2 -L/usr/local/lib -fstack-protector'


Characteristics of this binary (from libperl): 
  Compile-time options: HAS_TIMES PERLIO_LAYERS PERL_DONT_CREATE_GVSV
                        PERL_MALLOC_WRAP PERL_PRESERVE_IVUV USE_64_BIT_ALL
                        USE_64_BIT_INT USE_LARGE_FILES USE_LOCALE
                        USE_LOCALE_COLLATE USE_LOCALE_CTYPE
                        USE_LOCALE_NUMERIC USE_PERLIO USE_PERL_ATOF
  Built under linux
  Compiled at Oct  7 2012 11:40:56
  %ENV:
    PERL5LIB=""
    PERL5OPT=""
    PERL5_CPANPLUS_IS_RUNNING="25588"
    PERL5_CPAN_IS_RUNNING="25588"
    PERL5_CPAN_IS_RUNNING_IN_RECURSION="17854,25588"
    PERL_CR_SMOKER_CURRENT="Microsoft-AdCenter-8.11"
    PERL_EXTUTILS_AUTOINSTALL="--defaultdeps"
    PERL_MM_USE_DEFAULT="1"
  @INC:
    /opt/perl/nothreads/5.16.1/lib/site_perl/5.16.1/x86_64-linux
    /opt/perl/nothreads/5.16.1/lib/site_perl/5.16.1
    /opt/perl/nothreads/5.16.1/lib/5.16.1/x86_64-linux
    /opt/perl/nothreads/5.16.1/lib/5.16.1
    .