Data-Pulp v0.01 Perl 5 v5.12.1 i386-freebsd
        
            - Status
 
            - Pass
 
            - From
 
            - Slaven Rezić (SREZIC)
 
            - Dist
 
            - 
                Data-Pulp v0.01
            
 
            - Platform
 
            - Perl 5 v5.12.1 i386-freebsd
 
            - Date
 
            - 2010-09-01 15:32:00
 
            - ID
 
            - 10001dee-b5de-11df-87a6-d2c230d982fc
 
        
        This distribution has been tested as part of the CPAN Testers
project, supporting the Perl programming language.  See
http://wiki.cpantesters.org/ for more information or email
questions to cpan-testers-discuss@perl.org
--
Dear Robert Krimen,
This is a computer-generated report for Data-Pulp-0.01
on perl 5.12.1, created by CPAN-Reporter-1.18.
Thank you for uploading your work to CPAN.  Congratulations!
All tests were successful.
Sections of this report:
    * Tester comments
    * Program output
    * Prerequisites
    * Environment and other context
------------------------------
TESTER COMMENTS
------------------------------
Additional comments from tester:
none provided
------------------------------
PROGRAM OUTPUT
------------------------------
Output from '/usr/bin/make test':
PERL_DL_NONLAZY=1 /usr/home/cpansand/var/ctps/5122_rc1/install/perl-5.12.1/bin/perl5.12.1 "-MExtUtils::Command::MM" "-e" "test_harness(0, 'inc', 'blib/lib', 'blib/arch')" t/00-load.t t/01-basic.t t/02-set.t t/03-sugar.t t/04-exception.t t/05-if.t
# Testing Data::Pulp 0.01, Perl 5.012001, /usr/home/cpansand/var/ctps/5122_rc1/install/perl-5.12.1/bin/perl5.12.1
t/00-load.t ....... ok
t/01-basic.t ...... ok
t/02-set.t ........ ok
t/03-sugar.t ...... ok
t/04-exception.t .. ok
t/05-if.t ......... ok
All tests successful.
Files=6, Tests=35,  5 wallclock secs ( 0.05 usr  0.02 sys +  2.83 cusr  0.26 csys =  3.16 CPU)
Result: PASS
------------------------------
PREREQUISITES
------------------------------
Prerequisite modules loaded:
requires:
    Module                   Need Have 
    ------------------------ ---- -----
    Carp::Clan::Share        0    0.013
    ExtUtils::MakeMaker      6.42 6.56 
    List::Enumerator         0    0.07 
    Moose                    0    1.12 
    MooseX::AttributeHelpers 0    0.23 
    Scalar::Util             0    1.22 
    Test::Most               0    0.22 
configure_requires:
    Module                   Need Have 
    ------------------------ ---- -----
    ExtUtils::MakeMaker      6.42 6.56 
------------------------------
ENVIRONMENT AND OTHER CONTEXT
------------------------------
Environment variables:
    DBIC_NO_WARN_BAD_PERL = 1
    PATH = /usr/local/bin:/usr/X11R6/bin:/usr/X11/bin:/usr/perl5.8.0/bin:/usr/bin:/bin:/usr/local/sbin:/usr/sbin:/sbin:/usr/local/pilot/bin:/home/cpansand/bin/freebsd8.0:/home/cpansand/bin/sh:/home/cpansand/bin:/usr/X386/bin:/usr/games:/home/cpansand/devel:/usr/home/e/eserte/src/perl/CPAN-Testers-ParallelSmoker/utils
    PERL5LIB = 
    PERL5OPT = 
    PERL5_CPANPLUS_IS_RUNNING = 77928
    PERL5_CPAN_IS_RUNNING = 77928
    PERL5_CPAN_IS_RUNNING_IN_RECURSION = 65169,77928
    PERL_BATCH = yes
    PERL_CPAN_REPORTER_DIR = /home/cpansand/var/ctps/5122_rc1/config/perl-5.12.1/cpanreporter
    PERL_EXTUTILS_AUTOINSTALL = --defaultdeps
    PERL_HTML_DISPLAY_CLASS = HTML::Display::Mozilla
    SHELL = /usr/local/bin/zsh
    TERM = xterm
    TMPDIR = /tmp/cpansmoker-1023
Perl special variables (and OS-specific diagnostics, for MSWin32):
    $^X = /usr/home/cpansand/var/ctps/5122_rc1/install/perl-5.12.1/bin/perl5.12.1
    $UID/$EUID = 1023 / 1023
    $GID = 1023 1023
    $EGID = 1023 1023
Perl module toolchain versions installed:
    Module              Have   
    ------------------- -------
    CPAN                1.94_56
    Cwd                 3.31   
    ExtUtils::CBuilder  0.27   
    ExtUtils::Command   1.16   
    ExtUtils::Install   1.55   
    ExtUtils::MakeMaker 6.56   
    ExtUtils::Manifest  1.57   
    ExtUtils::ParseXS   2.2206 
    File::Spec          3.31   
    Module::Build       0.3603 
    Module::Signature   n/a    
    Test::Harness       3.17   
    Test::More          0.94   
    YAML                0.71   
    YAML::Syck          1.14   
    version             0.82   
--
Summary of my perl5 (revision 5 version 12 subversion 1) configuration:
   
  Platform:
    osname=freebsd, osvers=8.0-release, archname=i386-freebsd
    uname='freebsd biokovo.herceg.de 8.0-release freebsd 8.0-release #0: sat nov 21 15:48:17 utc 2009 root@almeida.cse.buffalo.edu:usrobjusrsrcsysgeneric i386 '
    config_args='-ds -e -Dprefix=/home/cpansand/var/ctps/5122_rc1/install/perl-5.12.1'
    hint=recommended, useposix=true, d_sigaction=define
    useithreads=undef, usemultiplicity=undef
    useperlio=define, d_sfio=undef, uselargefiles=define, usesocks=undef
    use64bitint=undef, use64bitall=undef, uselongdouble=undef
    usemymalloc=n, bincompat5005=undef
  Compiler:
    cc='cc', ccflags ='-DHAS_FPSETMASK -DHAS_FLOATINGPOINT_H -fno-strict-aliasing -pipe -fstack-protector -I/usr/local/include',
    optimize='-O',
    cppflags='-DHAS_FPSETMASK -DHAS_FLOATINGPOINT_H -fno-strict-aliasing -pipe -fstack-protector -I/usr/local/include'
    ccversion='', gccversion='4.2.1 20070719  [FreeBSD]', gccosandvers=''
    intsize=4, longsize=4, ptrsize=4, doublesize=8, byteorder=1234
    d_longlong=define, longlongsize=8, d_longdbl=define, longdblsize=12
    ivtype='long', ivsize=4, nvtype='double', nvsize=8, Off_t='off_t', lseeksize=8
    alignbytes=4, prototype=define
  Linker and Libraries:
    ld='cc', ldflags ='-Wl,-E  -fstack-protector -L/usr/local/lib'
    libpth=/usr/lib /usr/local/lib
    libs=-lgdbm -lm -lcrypt -lutil -lc
    perllibs=-lm -lcrypt -lutil -lc
    libc=, so=so, useshrplib=false, libperl=libperl.a
    gnulibc_version=''
  Dynamic Linking:
    dlsrc=dl_dlopen.xs, dlext=so, d_dlsymun=undef, ccdlflags=' '
    cccdlflags='-DPIC -fPIC', lddlflags='-shared  -L/usr/local/lib -fstack-protector'
Characteristics of this binary (from libperl): 
  Compile-time options: PERL_DONT_CREATE_GVSV PERL_MALLOC_WRAP
                        USE_LARGE_FILES USE_PERLIO USE_PERL_ATOF
  Built under freebsd
  Compiled at Aug 31 2010 23:17:19
  %ENV:
    PERL5LIB=""
    PERL5OPT=""
    PERL5_CPANPLUS_IS_RUNNING="77928"
    PERL5_CPAN_IS_RUNNING="77928"
    PERL5_CPAN_IS_RUNNING_IN_RECURSION="65169,77928"
    PERL_BATCH="yes"
    PERL_CPAN_REPORTER_DIR="/home/cpansand/var/ctps/5122_rc1/config/perl-5.12.1/cpanreporter"
    PERL_EXTUTILS_AUTOINSTALL="--defaultdeps"
    PERL_HTML_DISPLAY_CLASS="HTML::Display::Mozilla"
  @INC:
    /home/cpansand/var/ctps/5122_rc1/install/perl-5.12.1/lib/site_perl/5.12.1/i386-freebsd
    /home/cpansand/var/ctps/5122_rc1/install/perl-5.12.1/lib/site_perl/5.12.1
    /home/cpansand/var/ctps/5122_rc1/install/perl-5.12.1/lib/5.12.1/i386-freebsd
    /home/cpansand/var/ctps/5122_rc1/install/perl-5.12.1/lib/5.12.1
    .