Test-Class-Moose v0.92 Perl 5 v5.22.4 aarch64-linux-thread-multi
- Status
- Pass
- From
- Nigel Horne
- Dist
-
Test-Class-Moose v0.92
- Platform
- Perl 5 v5.22.4 aarch64-linux-thread-multi
- Date
- 2018-03-12 13:19:58
- ID
- 0fc63c7c-25f8-11e8-9b7e-eae5f92120d8
This distribution has been tested as part of the CPAN Testers
project, supporting the Perl programming language. See
http://wiki.cpantesters.org/ for more information or email
questions to cpan-testers-discuss@perl.org
--
Dear Dave Rolsky,
This is a computer-generated report for Test-Class-Moose-0.92
on perl 5.22.4, created by CPAN-Reporter-1.2018.
Thank you for uploading your work to CPAN. Congratulations!
All tests were successful.
Sections of this report:
* Tester comments
* Program output
* Prerequisites
* Environment and other context
------------------------------
TESTER COMMENTS
------------------------------
Additional comments from tester:
none provided
------------------------------
PROGRAM OUTPUT
------------------------------
Output from '/usr/bin/make test':
PERL_DL_NONLAZY=1 "/home/njh/perl5/perlbrew/perls/perl-5.22.4/bin/perl5.22.4" "-MExtUtils::Command::MM" "-MTest::Harness" "-e" "undef *Test::Harness::Switches; test_harness(0, 'blib/lib', 'blib/arch')" t/*.t
#
# Versions for all modules listed in MYMETA.json (including optional ones):
#
# === Configure Requires ===
#
# Module Want Have
# ------------------- ---- ----
# ExtUtils::MakeMaker any 7.30
#
# === Build Requires ===
#
# Module Want Have
# ------------------- ---- ----
# ExtUtils::MakeMaker any 7.30
#
# === Test Requires ===
#
# Module Want Have
# --------------------- -------- --------
# ExtUtils::MakeMaker any 7.30
# File::Spec any 3.56_02
# File::Temp any 0.2304
# Test2::Tools::Basic any 0.000072
# Test2::Tools::Class any 0.000072
# Test2::Tools::Compare any 0.000072
# Test2::Tools::Subtest any 0.000072
# Test2::V0 any 0.000072
# Test::Builder any 1.302086
# Test::More 1.302015 1.302086
# Test::Requires any 0.10
# Test::Warnings any 0.026
# lib any 0.63
#
# === Test Recommends ===
#
# Module Want Have
# ------------ -------- --------
# CPAN::Meta 2.120900 2.150001
# Test::Output 0.0005 1.031
#
# === Runtime Requires ===
#
# Module Want Have
# ---------------------------- --------- --------
# Benchmark any 1.2
# Carp any 1.36
# Class::MOP any 2.2006
# Exporter any 5.72
# File::Find any 1.29
# File::Spec any 3.56_02
# Import::Into any 1.002005
# JSON any 2.94
# List::SomeUtils any 0.54
# List::Util any 1.48
# Module::Runtime any 0.015
# Module::Util any 1.09
# Moose 2.0000 2.2006
# Moose::Role 2.0000 2.2006
# Moose::Util any 2.2006
# Moose::Util::TypeConstraints any 2.2006
# MooseX::Getopt 0.71 0.71
# MooseX::Getopt::Dashes any 0.71
# Package::DeprecationManager 0.16 0.17
# Parallel::ForkManager any 1.19
# Scalar::Util any 1.48
# Sub::Attribute any 0.06
# TAP::Formatter::Color 3.29 3.35_01
# Test2 1.1302118 1.302086
# Test2::API any 1.302086
# Test2::AsyncSubtest 0.000018 0.000018
# Test2::IPC any 1.302086
# Test2::Tools::AsyncSubtest any 0.000018
# Test::Most any 0.35
# Try::Tiny any 0.28
# namespace::autoclean any 0.28
# strict any 1.09
# warnings any 1.34
#
# === Runtime Recommends ===
#
# Module Want Have
# --------------------- ------ ----
# Parallel::ForkManager v0.7.6 1.19
#
t/00-report-prereqs.t .......... ok
t/bare.t ....................... ok
t/autouse.t .................... ok
t/environment.t ................ ok
t/basic.t ...................... ok
t/executor_roles.t ............. ok
t/cli.t ........................ ok
t/load.t ....................... ok
t/include_classes.t ............ ok
t/include_exclude.t ............ ok
t/no_tests_run.t ............... ok
t/non_randomize_classes.t ...... ok
[32m.[0m[32m[32m.[0m[32m.[0m.[0m[32m.[0m[32m[32m.[0m[32m.[0m[32m.[0m.[0m[32m[32m.[0m.[0m[32m[32m.[0m.[0m[32m.[0m[32m.[0m[32m.[0m[32m.[0m[32m.[0m[32m.[0m[32m.[0m[32m.[0m[32m[31m.[0mX[0m[31mX[0m[32m.[0m[32m.[0mt/plans.t ...................... ok
t/process_name.t ............... ok
t/parameterized.t .............. ok
t/parallel.t ................... ok
t/reportpassed.t ............... ok
t/tags.t ....................... ok
t/skip.t ....................... ok
t/test_class_is_not_loaded.t ... ok
t/test_control_methods.t ....... ok
t/test_control_methods_skip.t .. ok
t/todo.t ....................... ok
t/timing.t ..................... ok
All tests successful.
Files=24, Tests=209, 28 wallclock secs ( 1.19 usr 0.14 sys + 54.86 cusr 3.52 csys = 59.71 CPU)
Result: PASS
------------------------------
PREREQUISITES
------------------------------
Prerequisite modules loaded:
requires:
Module Need Have
---------------------------- --------- --------
Benchmark 0 1.2
Carp 0 1.36
Class::MOP 0 2.2006
Exporter 0 5.72
File::Find 0 1.29
File::Spec 0 3.56_02
Import::Into 0 1.002005
JSON 0 2.94
List::SomeUtils 0 0.54
List::Util 0 1.48
Module::Runtime 0 0.015
Module::Util 0 1.09
Moose 2.0000 2.2006
Moose::Role 2.0000 2.2006
Moose::Util 0 2.2006
Moose::Util::TypeConstraints 0 2.2006
MooseX::Getopt 0.71 0.71
MooseX::Getopt::Dashes 0 0.71
namespace::autoclean 0 0.28
Package::DeprecationManager 0.16 0.17
Parallel::ForkManager 0 1.19
perl 5.010000 5.022004
Scalar::Util 0 1.48
strict 0 1.09
Sub::Attribute 0 0.06
TAP::Formatter::Color 3.29 3.35_01
Test2 1.1302118 1.302086
Test2::API 0 1.302086
Test2::AsyncSubtest 0.000018 0.000018
Test2::IPC 0 1.302086
Test2::Tools::AsyncSubtest 0 0.000018
Test::Most 0 0.35
Try::Tiny 0 0.28
warnings 0 1.34
build_requires:
Module Need Have
---------------------------- --------- --------
ExtUtils::MakeMaker 0 7.30
File::Spec 0 3.56_02
File::Temp 0 0.2304
lib 0 0.63
Test2::Tools::Basic 0 0.000072
Test2::Tools::Class 0 0.000072
Test2::Tools::Compare 0 0.000072
Test2::Tools::Subtest 0 0.000072
Test2::V0 0 0.000072
Test::Builder 0 1.302086
Test::More 1.302015 1.302086
Test::Requires 0 0.10
Test::Warnings 0 0.026
configure_requires:
Module Need Have
---------------------------- --------- --------
ExtUtils::MakeMaker 0 7.30
------------------------------
ENVIRONMENT AND OTHER CONTEXT
------------------------------
Environment variables:
HARNESS_OPTIONS = c:j4
LANG = en_US.UTF-8
LANGUAGE = en_US.UTF-8
LC_ALL = en_US.UTF-8
PATH = /home/njh/perl5/perlbrew/bin:/home/njh/perl5/perlbrew/perls/perl-5.22.4/bin:/home/njh/bin:/usr/local/bin:/usr/bin:/bin:/usr/local/games:/usr/games
PERL5LIB =
PERL5OPT =
PERL5_CPANPLUS_IS_RUNNING = 26970
PERL5_CPAN_IS_RUNNING = 26970
PERLBREW_HOME = /home/njh/.perlbrew
PERLBREW_MANPATH = /home/njh/perl5/perlbrew/perls/perl-5.22.4/man
PERLBREW_PATH = /home/njh/perl5/perlbrew/bin:/home/njh/perl5/perlbrew/perls/perl-5.22.4/bin
PERLBREW_PERL = perl-5.22.4
PERLBREW_ROOT = /home/njh/perl5/perlbrew
PERLBREW_SHELLRC_VERSION = 0.82
PERLBREW_VERSION = 0.82
SHELL = /bin/bash
TERM = xterm-256color
TMPDIR = /tmp
Perl special variables (and OS-specific diagnostics, for MSWin32):
$^X = /home/njh/perl5/perlbrew/perls/perl-5.22.4/bin/perl5.22.4
$UID/$EUID = 1000 / 1000
$GID = 1000 1000
$EGID = 1000 1000
Perl module toolchain versions installed:
Module Have
------------------- ----------
CPAN 2.16
CPAN::Meta 2.150001
Cwd 3.56_02
ExtUtils::CBuilder 0.280221
ExtUtils::Command 7.30
ExtUtils::Install 2.06
ExtUtils::MakeMaker 7.30
ExtUtils::Manifest 1.70
ExtUtils::ParseXS 3.28
File::Spec 3.56_02
JSON 2.94
JSON::PP 2.27300_01
Module::Build 0.4224
Module::Signature n/a
Parse::CPAN::Meta 1.4414_001
Test::Harness 3.35_01
Test::More 1.302086
YAML 1.24
YAML::Syck 1.30
version 0.9909
--
Summary of my perl5 (revision 5 version 22 subversion 4) configuration:
Platform:
osname=linux, osvers=4.9.23-std-1, archname=aarch64-linux-thread-multi
uname='linux scaleway 4.9.23-std-1 #1 smp mon apr 24 13:18:14 utc 2017 aarch64 gnulinux '
config_args='-de -Dprefix=/home/njh/perl5/perlbrew/perls/perl-5.22.4 -Duseithreads -Dusemultiplicity -Dusedevel -Accflags=-O2 -W -Wformat=2 -Wswitch -Wshadow -Wwrite-strings -Wuninitialized -Wall -pipe -fomit-frame-pointer -D_FORTIFY_SOURCE=2 -Wpointer-arith -Wstrict-prototypes -fstack-protector -Wstack-protector -Wextra -Wbad-function-cast -Wcast-align -Wcast-qual -Wdisabled-optimization -Wendif-labels -Wfloat-equal -Wformat-nonliteral -Winline -Wmissing-declarations -Wmissing-prototypes -Wnested-externs -Wpointer-arith -Wundef -Wformat-security -march=armv8-a+crc -Aeval:scriptdir=/home/njh/perl5/perlbrew/perls/perl-5.22.4/bin'
hint=recommended, useposix=true, d_sigaction=define
useithreads=define, usemultiplicity=define
use64bitint=define, use64bitall=define, uselongdouble=undef
usemymalloc=n, bincompat5005=undef
Compiler:
cc='cc', ccflags ='-D_REENTRANT -D_GNU_SOURCE -O2 -W -Wformat=2 -Wswitch -Wshadow -Wwrite-strings -Wuninitialized -Wall -pipe -fomit-frame-pointer -D_FORTIFY_SOURCE=2 -Wpointer-arith -Wstrict-prototypes -fstack-protector -Wstack-protector -Wextra -Wbad-function-cast -Wcast-align -Wcast-qual -Wdisabled-optimization -Wendif-labels -Wfloat-equal -Wformat-nonliteral -Winline -Wmissing-declarations -Wmissing-prototypes -Wnested-externs -Wpointer-arith -Wundef -Wformat-security -march=armv8-a+crc -fwrapv -fno-strict-aliasing -fstack-protector-strong -I/usr/local/include -D_LARGEFILE_SOURCE -D_FILE_OFFSET_BITS=64',
optimize='-O2',
cppflags='-D_REENTRANT -D_GNU_SOURCE -O2 -W -Wformat=2 -Wswitch -Wshadow -Wwrite-strings -Wuninitialized -Wall -pipe -fomit-frame-pointer -D_FORTIFY_SOURCE=2 -Wpointer-arith -Wstrict-prototypes -fstack-protector -Wstack-protector -Wextra -Wbad-function-cast -Wcast-align -Wcast-qual -Wdisabled-optimization -Wendif-labels -Wfloat-equal -Wformat-nonliteral -Winline -Wmissing-declarations -Wmissing-prototypes -Wnested-externs -Wpointer-arith -Wundef -Wformat-security -march=armv8-a+crc -fwrapv -fno-strict-aliasing -fstack-protector-strong -I/usr/local/include'
ccversion='', gccversion='6.3.0 20170516', gccosandvers=''
intsize=4, longsize=8, ptrsize=8, doublesize=8, byteorder=12345678, doublekind=3
d_longlong=define, longlongsize=8, d_longdbl=define, longdblsize=16, longdblkind=1
ivtype='long', ivsize=8, nvtype='double', nvsize=8, Off_t='off_t', lseeksize=8
alignbytes=8, prototype=define
Linker and Libraries:
ld='cc', ldflags =' -fstack-protector-strong -L/usr/local/lib'
libpth=/usr/local/lib /usr/lib/gcc/aarch64-linux-gnu/6/include-fixed /usr/include/aarch64-linux-gnu /usr/lib /lib/aarch64-linux-gnu /lib/../lib /usr/lib/aarch64-linux-gnu /usr/lib/../lib /lib
libs=-lpthread -lnsl -lgdbm -ldb -ldl -lm -lcrypt -lutil -lc -lgdbm_compat
perllibs=-lpthread -lnsl -ldl -lm -lcrypt -lutil -lc
libc=libc-2.24.so, so=so, useshrplib=false, libperl=libperl.a
gnulibc_version='2.24'
Dynamic Linking:
dlsrc=dl_dlopen.xs, dlext=so, d_dlsymun=undef, ccdlflags='-Wl,-E'
cccdlflags='-fPIC', lddlflags='-shared -O2 -L/usr/local/lib -fstack-protector-strong'
Characteristics of this binary (from libperl):
Compile-time options: HAS_TIMES MULTIPLICITY PERLIO_LAYERS
PERL_DONT_CREATE_GVSV
PERL_HASH_FUNC_ONE_AT_A_TIME_HARD
PERL_IMPLICIT_CONTEXT PERL_MALLOC_WRAP
PERL_NEW_COPY_ON_WRITE PERL_PRESERVE_IVUV
PERL_USE_DEVEL USE_64_BIT_ALL USE_64_BIT_INT
USE_ITHREADS USE_LARGE_FILES USE_LOCALE
USE_LOCALE_COLLATE USE_LOCALE_CTYPE
USE_LOCALE_NUMERIC USE_LOCALE_TIME USE_PERLIO
USE_PERL_ATOF USE_REENTRANT_API
Locally applied patches:
Devel::PatchPerl 1.48
Built under linux
Compiled at Jul 19 2017 11:52:37
%ENV:
PERL5LIB=""
PERL5OPT=""
PERL5_CPANPLUS_IS_RUNNING="26970"
PERL5_CPAN_IS_RUNNING="26970"
PERLBREW_HOME="/home/njh/.perlbrew"
PERLBREW_MANPATH="/home/njh/perl5/perlbrew/perls/perl-5.22.4/man"
PERLBREW_PATH="/home/njh/perl5/perlbrew/bin:/home/njh/perl5/perlbrew/perls/perl-5.22.4/bin"
PERLBREW_PERL="perl-5.22.4"
PERLBREW_ROOT="/home/njh/perl5/perlbrew"
PERLBREW_SHELLRC_VERSION="0.82"
PERLBREW_VERSION="0.82"
@INC:
/home/njh/perl5/perlbrew/perls/perl-5.22.4/lib/site_perl/5.22.4/aarch64-linux-thread-multi
/home/njh/perl5/perlbrew/perls/perl-5.22.4/lib/site_perl/5.22.4
/home/njh/perl5/perlbrew/perls/perl-5.22.4/lib/5.22.4/aarch64-linux-thread-multi
/home/njh/perl5/perlbrew/perls/perl-5.22.4/lib/5.22.4
.