Imager v1.024_005 Perl 5 v5.38.2 OpenBSD.amd64-openbsd-thread-multi
- Status
- Pass
- From
- David Cantrell (DCANTRELL)
- Dist
-
Imager v1.024_005
- Platform
- Perl 5 v5.38.2 OpenBSD.amd64-openbsd-thread-multi
- Date
- 2024-04-28 05:20:42
- ID
- 0efe1cee-051f-11ef-8108-e7e1f5bf69c9
This distribution has been tested as part of the CPAN Testers
project, supporting the Perl programming language. See
http://wiki.cpantesters.org/ for more information or email
questions to cpan-testers-discuss@perl.org
--
Dear Tony Cook,
This is a computer-generated report for Imager-1.024_005
on perl 5.38.2, created by CPAN-Reporter-1.2019.
Thank you for uploading your work to CPAN. Congratulations!
All tests were successful.
Sections of this report:
* Tester comments
* Program output
* Prerequisites
* Environment and other context
------------------------------
TESTER COMMENTS
------------------------------
Additional comments from tester:
this report is from an automated smoke testing program
and was not reviewed by a human for accuracy
------------------------------
PROGRAM OUTPUT
------------------------------
Output from '/usr/bin/make test':
"/home/david/cpantesting/perl-5.38.2/bin/perl" -MExtUtils::Command::MM -e 'cp_nonempty' -- Imager.bs blib/arch/auto/Imager/Imager.bs 644
"/home/david/cpantesting/perl-5.38.2/bin/perl" -MExtUtils::Command::MM -e 'cp_nonempty' -- CountColor.bs ../blib/arch/auto/Imager/CountColor/CountColor.bs 644
"/home/david/cpantesting/perl-5.38.2/bin/perl" -MExtUtils::Command::MM -e 'cp_nonempty' -- DynTest.bs ../blib/arch/auto/Imager/Filter/DynTest/DynTest.bs 644
"/home/david/cpantesting/perl-5.38.2/bin/perl" -MExtUtils::Command::MM -e 'cp_nonempty' -- FT2.bs ../blib/arch/auto/Imager/Font/FT2/FT2.bs 644
"/home/david/cpantesting/perl-5.38.2/bin/perl" -MExtUtils::Command::MM -e 'cp_nonempty' -- Flines.bs ../blib/arch/auto/Imager/Filter/Flines/Flines.bs 644
"/home/david/cpantesting/perl-5.38.2/bin/perl" -MExtUtils::Command::MM -e 'cp_nonempty' -- ICO.bs ../blib/arch/auto/Imager/File/ICO/ICO.bs 644
"/home/david/cpantesting/perl-5.38.2/bin/perl" -MExtUtils::Command::MM -e 'cp_nonempty' -- JPEG.bs ../blib/arch/auto/Imager/File/JPEG/JPEG.bs 644
"/home/david/cpantesting/perl-5.38.2/bin/perl" -MExtUtils::Command::MM -e 'cp_nonempty' -- Mandelbrot.bs ../blib/arch/auto/Imager/Filter/Mandelbrot/Mandelbrot.bs 644
"/home/david/cpantesting/perl-5.38.2/bin/perl" -MExtUtils::Command::MM -e 'cp_nonempty' -- PNG.bs ../blib/arch/auto/Imager/File/PNG/PNG.bs 644
"/home/david/cpantesting/perl-5.38.2/bin/perl" -MExtUtils::Command::MM -e 'cp_nonempty' -- SGI.bs ../blib/arch/auto/Imager/File/SGI/SGI.bs 644
"/home/david/cpantesting/perl-5.38.2/bin/perl" -MExtUtils::Command::MM -e 'cp_nonempty' -- CountColor.bs ../blib/arch/auto/Imager/CountColor/CountColor.bs 644
PERL_DL_NONLAZY=1 "/home/david/cpantesting/perl-5.38.2/bin/perl" "-MExtUtils::Command::MM" "-MTest::Harness" "-e" "undef *Test::Harness::Switches; test_harness(0, '../blib/lib', '../blib/arch')" t/*.t
t/t00countcolor.t .. ok
All tests successful.
Files=1, Tests=9, 1 wallclock secs ( 0.04 usr 0.02 sys + 0.16 cusr 0.09 csys = 0.31 CPU)
Result: PASS
"/home/david/cpantesting/perl-5.38.2/bin/perl" -MExtUtils::Command::MM -e 'cp_nonempty' -- DynTest.bs ../blib/arch/auto/Imager/Filter/DynTest/DynTest.bs 644
PERL_DL_NONLAZY=1 "/home/david/cpantesting/perl-5.38.2/bin/perl" "-MExtUtils::Command::MM" "-MTest::Harness" "-e" "undef *Test::Harness::Switches; test_harness(0, '../blib/lib', '../blib/arch')" t/*.t
t/t00dyntest.t .. ok
All tests successful.
Files=1, Tests=4, 1 wallclock secs ( 0.03 usr 0.02 sys + 0.27 cusr 0.04 csys = 0.36 CPU)
Result: PASS
"/home/david/cpantesting/perl-5.38.2/bin/perl" -MExtUtils::Command::MM -e 'cp_nonempty' -- FT2.bs ../blib/arch/auto/Imager/Font/FT2/FT2.bs 644
PERL_DL_NONLAZY=1 "/home/david/cpantesting/perl-5.38.2/bin/perl" "-MExtUtils::Command::MM" "-MTest::Harness" "-e" "undef *Test::Harness::Switches; test_harness(0, '../blib/lib', '../blib/arch')" t/*.t
FreeType2 runtime 2.13.0 compile-time 2.13.0
t/t10ft2.t ..... ok
t/t20thread.t .. ok
t/t90std.t ..... ok
All tests successful.
Files=3, Tests=234, 13 wallclock secs ( 0.11 usr 0.02 sys + 1.72 cusr 3.90 csys = 5.75 CPU)
Result: PASS
"/home/david/cpantesting/perl-5.38.2/bin/perl" -MExtUtils::Command::MM -e 'cp_nonempty' -- Flines.bs ../blib/arch/auto/Imager/Filter/Flines/Flines.bs 644
PERL_DL_NONLAZY=1 "/home/david/cpantesting/perl-5.38.2/bin/perl" "-MExtUtils::Command::MM" "-MTest::Harness" "-e" "undef *Test::Harness::Switches; test_harness(0, '../blib/lib', '../blib/arch')" t/*.t
t/t00flines.t .. ok
All tests successful.
Files=1, Tests=3, 1 wallclock secs ( 0.05 usr 0.01 sys + 0.20 cusr 0.08 csys = 0.34 CPU)
Result: PASS
"/home/david/cpantesting/perl-5.38.2/bin/perl" -MExtUtils::Command::MM -e 'cp_nonempty' -- ICO.bs ../blib/arch/auto/Imager/File/ICO/ICO.bs 644
PERL_DL_NONLAZY=1 "/home/david/cpantesting/perl-5.38.2/bin/perl" "-MExtUtils::Command::MM" "-MTest::Harness" "-e" "undef *Test::Harness::Switches; test_harness(0, '../blib/lib', '../blib/arch')" t/*.t
t/t10icon.t ......... ok
t/t20readone.t ...... ok
t/t21readmult.t ..... ok
t/t30cursor.t ....... ok
t/t40readcurone.t ... ok
t/t41curmultread.t .. ok
t/t50readfail.t ..... ok
t/t60writefail.t .... ok
t/t70icosing.t ...... ok
t/t71icomult.t ...... ok
t/t72cursing.t ...... ok
t/t73curmult.t ...... ok
All tests successful.
Files=12, Tests=253, 8 wallclock secs ( 0.15 usr 0.05 sys + 2.64 cusr 0.75 csys = 3.59 CPU)
Result: PASS
"/home/david/cpantesting/perl-5.38.2/bin/perl" -MExtUtils::Command::MM -e 'cp_nonempty' -- JPEG.bs ../blib/arch/auto/Imager/File/JPEG/JPEG.bs 644
PERL_DL_NONLAZY=1 "/home/david/cpantesting/perl-5.38.2/bin/perl" "-MExtUtils::Command::MM" "-MTest::Harness" "-e" "undef *Test::Harness::Switches; test_harness(0, '../blib/lib', '../blib/arch')" t/*.t
t/t00load.t ... ok
# libjpeg version: libjpeg-turbo version 2.1.5.1 api 62
t/t10jpeg.t ... ok
t/t20limit.t .. ok
All tests successful.
Files=3, Tests=188, 9 wallclock secs ( 0.06 usr 0.05 sys + 1.93 cusr 2.27 csys = 4.31 CPU)
Result: PASS
"/home/david/cpantesting/perl-5.38.2/bin/perl" -MExtUtils::Command::MM -e 'cp_nonempty' -- Mandelbrot.bs ../blib/arch/auto/Imager/Filter/Mandelbrot/Mandelbrot.bs 644
PERL_DL_NONLAZY=1 "/home/david/cpantesting/perl-5.38.2/bin/perl" "-MExtUtils::Command::MM" "-MTest::Harness" "-e" "undef *Test::Harness::Switches; test_harness(0, '../blib/lib', '../blib/arch')" t/*.t
t/t00mandel.t .. ok
All tests successful.
Files=1, Tests=3, 1 wallclock secs ( 0.04 usr 0.02 sys + 0.17 cusr 0.04 csys = 0.27 CPU)
Result: PASS
"/home/david/cpantesting/perl-5.38.2/bin/perl" -MExtUtils::Command::MM -e 'cp_nonempty' -- PNG.bs ../blib/arch/auto/Imager/File/PNG/PNG.bs 644
PERL_DL_NONLAZY=1 "/home/david/cpantesting/perl-5.38.2/bin/perl" "-MExtUtils::Command::MM" "-MTest::Harness" "-e" "undef *Test::Harness::Switches; test_harness(0, '../blib/lib', '../blib/arch')" t/*.t
t/00load.t .. ok
# Library version 10639
t/10png.t ... ok
All tests successful.
Files=2, Tests=260, 6 wallclock secs ( 0.06 usr 0.06 sys + 1.34 cusr 0.51 csys = 1.97 CPU)
Result: PASS
"/home/david/cpantesting/perl-5.38.2/bin/perl" -MExtUtils::Command::MM -e 'cp_nonempty' -- SGI.bs ../blib/arch/auto/Imager/File/SGI/SGI.bs 644
PERL_DL_NONLAZY=1 "/home/david/cpantesting/perl-5.38.2/bin/perl" "-MExtUtils::Command::MM" "-MTest::Harness" "-e" "undef *Test::Harness::Switches; test_harness(0, '../blib/lib', '../blib/arch')" t/*.t
t/00load.t ... ok
t/10read.t ... ok
t/20write.t .. ok
t/30limit.t .. ok
All tests successful.
Files=4, Tests=175, 5 wallclock secs ( 0.16 usr 0.11 sys + 1.23 cusr 1.17 csys = 2.67 CPU)
Result: PASS
PERL_DL_NONLAZY=1 "/home/david/cpantesting/perl-5.38.2/bin/perl" "-MExtUtils::Command::MM" "-MTest::Harness" "-e" "undef *Test::Harness::Switches; test_harness(0, 'blib/lib', 'blib/arch')" t/*.t t/*/*.t
t/000-load.t ......................... ok
t/100-base/010-introvert.t ........... ok
t/100-base/020-color.t ............... ok
t/100-base/030-countc.t .............. ok
t/100-base/040-extra8.t .............. ok
t/100-base/050-data8.t ............... ok
t/100-base/100-linear.t .............. ok
t/100-base/800-tr18561.t ............. ok
t/100-base/801-tr18561b.t ............ ok
t/150-type/020-sixteen.t ............. ok
t/150-type/030-double.t .............. ok
t/150-type/040-palette.t ............. ok
t/150-type/050-float.t ............... ok
t/150-type/060-lin16.t ............... ok
t/150-type/070-lindbl.t .............. ok
t/150-type/100-masked.t .............. ok
t/150-type/300-extra16.t ............. ok
t/150-type/310-extradbl.t ............ ok
t/150-type/320-extramask.t ........... ok
t/200-file/010-iolayer.t ............. ok
t/200-file/100-files.t ............... ok
t/200-file/200-nojpeg.t .............. skipped: have jpeg support - this tests the lack of it
t/200-file/210-nopng.t ............... skipped: png available, and this tests the lack of it
t/200-file/220-nogif.t ............... ok
t/200-file/230-notiff.t .............. ok
t/200-file/300-raw.t ................. ok
t/200-file/310-pnm.t ................. ok
t/200-file/320-bmp.t ................. ok
t/200-file/330-tga.t ................. ok
t/200-file/400-basic.t ............... ok
t/200-file/450-preload.t ............. ok
t/250-draw/010-draw.t ................ ok
t/250-draw/020-flood.t ............... ok
t/250-draw/030-paste.t ............... ok
t/250-draw/040-rubthru.t ............. ok
t/250-draw/050-polyaa.t .............. ok
t/250-draw/060-polypoly.t ............ ok
t/250-draw/100-fill.t ................ ok
t/250-draw/200-compose.t ............. ok
t/300-transform/010-scale.t .......... ok
t/300-transform/020-combine.t ........ ok
t/300-transform/030-copyflip.t ....... ok
t/300-transform/040-crop.t ........... ok
t/300-transform/050-convert.t ........ ok
t/300-transform/060-map.t ............ ok
t/300-transform/200-trimcolorlist.t .. ok
t/300-transform/210-trim.t ........... ok
t/300-transform/500-trans.t .......... skipped: No Affix::Infix2Postfix
t/300-transform/600-trans2.t ......... ok
t/300-transform/610-postfix.t ........ ok
t/300-transform/620-infix.t .......... ok
t/300-transform/630-assem.t .......... ok
t/350-font/010-font.t ................ ok
t/350-font/020-tt.t .................. ok
t/350-font/030-ttoo.t ................ ok
t/350-font/040-ttstd.t ............... skipped: No tt available
t/350-font/100-texttools.t ........... ok
t/400-filter/010-filters.t ........... ok
t/400-filter/020-autolevels.t ........ ok
t/450-api/100-inline.t ............... skipped: Inline required for testing API
t/450-api/110-inlinectx.t ............ skipped: Inline required for testing API
t/450-api/130-cpp.t .................. skipped: Inline::CPP required for testing C++ compatibility
t/850-thread/010-base.t .............. ok
t/850-thread/100-error.t ............. ok
t/850-thread/110-log.t ............... ok
t/900-util/010-test.t ................ ok
t/900-util/020-error.t ............... ok
t/900-util/030-log.t ................. ok
t/900-util/040-limit.t ............... ok
t/900-util/050-matrix.t .............. ok
t/900-util/060-extutil.t ............. ok
t/900-util/060-hlines.t .............. ok
t/950-kwalitee/010-pod.t ............. ok
t/950-kwalitee/020-samples.t ......... ok
t/950-kwalitee/030-podcover.t ........ skipped: Test::Pod::Coverage 1.08 required for POD coverage
t/950-kwalitee/040-strict.t .......... ok
t/950-kwalitee/050-meta.t ............ ok
t/950-kwalitee/060-podstruct.t ....... ok
t/950-kwalitee/070-mymeta.t .......... ok
t/950-kwalitee/080-nousevars.t ....... ok
All tests successful.
Files=80, Tests=8996, 140 wallclock secs ( 1.39 usr 1.08 sys + 28.39 cusr 18.46 csys = 49.32 CPU)
Result: PASS
------------------------------
PREREQUISITES
------------------------------
Prerequisite modules loaded:
requires:
Module Need Have
------------------- ---- --------
Exporter 5.57 5.78
Scalar::Util 1.00 1.63
Test::More 0.99 1.302198
XSLoader 0 0.24
build_requires:
Module Need Have
------------------- ---- --------
ExtUtils::MakeMaker 0 7.70
Test::More 0.99 1.302198
configure_requires:
Module Need Have
------------------- ---- --------
ExtUtils::MakeMaker 0 7.70
------------------------------
ENVIRONMENT AND OTHER CONTEXT
------------------------------
Environment variables:
AUTOMATED_TESTING = 1
NONINTERACTIVE_TESTING = 1
PATH = /home/david/perl5/perlbrew/bin:/home/david/perl5/perlbrew/perls/perl-5.32.0/bin:/home/david/bin:/bin:/sbin:/usr/bin:/usr/sbin:/usr/X11R6/bin:/usr/local/bin:/usr/local/sbin:/usr/games:/home/david/.fzf/bin
PERL = 5.38.2
PERL5LIB =
PERL5OPT =
PERL5_CPANPLUS_IS_RUNNING = 44821
PERL5_CPAN_IS_RUNNING = 44821
PERLBREW_HOME = /home/david/.perlbrew
PERLBREW_MANPATH = /home/david/perl5/perlbrew/perls/perl-5.32.0/man
PERLBREW_PATH = /home/david/perl5/perlbrew/bin:/home/david/perl5/perlbrew/perls/perl-5.32.0/bin
PERLBREW_PERL = perl-5.32.0
PERLBREW_ROOT = /home/david/perl5/perlbrew
PERLBREW_SHELLRC_VERSION = 0.92
PERLBREW_VERSION = 0.92
PERLVER = 5.38.2
PERL_INLINE_DIRECTORY = /home/david/.Inline-5.38.2
PERL_MM_USE_DEFAULT = 1
PERL_USE_UNSAFE_INC = 0
SHELL = /usr/local/bin/bash
TERM = screen
Perl special variables (and OS-specific diagnostics, for MSWin32):
$^X = /home/david/cpantesting/perl-5.38.2/bin/perl
$UID/$EUID = 1000 / 1000
$GID = 1000 1000 0
$EGID = 1000 1000 0
Perl module toolchain versions installed:
Module Have
------------------- --------
CPAN 2.36
CPAN::Meta 2.150010
Cwd 3.89
ExtUtils::CBuilder 0.280236
ExtUtils::Command 7.70
ExtUtils::Install 2.22
ExtUtils::MakeMaker 7.70
ExtUtils::Manifest 1.75
ExtUtils::ParseXS 3.51
File::Spec 3.88
JSON 4.10
JSON::PP 4.16
Module::Build 0.4234
Module::Signature n/a
Parse::CPAN::Meta 2.150010
Test2 1.302198
Test::Harness 3.48
Test::More 1.302198
YAML 1.31
YAML::Syck n/a
version 0.9930
--
Summary of my perl5 (revision 5 version 38 subversion 2) configuration:
Platform:
osname=openbsd
osvers=7.4
archname=OpenBSD.amd64-openbsd-thread-multi
uname='openbsd cpantesting-openbsd 7.4 generic#3 amd64 '
config_args='-de -Dprefix=/home/david/cpantesting/perl-5.38.2 -Dusethreads'
hint=recommended
useposix=true
d_sigaction=define
useithreads=define
usemultiplicity=define
use64bitint=define
use64bitall=define
uselongdouble=undef
usemymalloc=n
default_inc_excludes_dot=define
Compiler:
cc='cc'
ccflags ='-pthread -fno-strict-aliasing -pipe -fstack-protector-strong -I/usr/local/include'
optimize='-O2'
cppflags='-pthread -fno-strict-aliasing -pipe -fstack-protector-strong -I/usr/local/include'
ccversion=''
gccversion='OpenBSD Clang 13.0.0'
gccosandvers=''
intsize=4
longsize=8
ptrsize=8
doublesize=8
byteorder=12345678
doublekind=3
d_longlong=define
longlongsize=8
d_longdbl=define
longdblsize=16
longdblkind=3
ivtype='long'
ivsize=8
nvtype='double'
nvsize=8
Off_t='off_t'
lseeksize=8
alignbytes=8
prototype=define
Linker and Libraries:
ld='cc'
ldflags ='-pthread -Wl,-E -fstack-protector-strong -L/usr/local/lib'
libpth=/usr/lib/clang/13.0.0/lib /usr/lib /usr/local/lib
libs=-lpthread -lm -lutil -lc
perllibs=-lpthread -lm -lutil -lc
libc=/usr/lib/libc.so.97.1
so=so
useshrplib=false
libperl=libperl.a
gnulibc_version=''
Dynamic Linking:
dlsrc=dl_dlopen.xs
dlext=so
d_dlsymun=undef
ccdlflags=' '
cccdlflags='-DPIC -fPIC '
lddlflags='-shared -fPIC -L/usr/local/lib -fstack-protector-strong'
Characteristics of this binary (from libperl):
Compile-time options:
HAS_LONG_DOUBLE
HAS_STRTOLD
HAS_TIMES
MULTIPLICITY
PERLIO_LAYERS
PERL_COPY_ON_WRITE
PERL_DONT_CREATE_GVSV
PERL_HASH_FUNC_SIPHASH13
PERL_HASH_USE_SBOX32
PERL_MALLOC_WRAP
PERL_OP_PARENT
PERL_PRESERVE_IVUV
PERL_USE_SAFE_PUTENV
USE_64_BIT_ALL
USE_64_BIT_INT
USE_ITHREADS
USE_LARGE_FILES
USE_LOCALE
USE_LOCALE_COLLATE
USE_LOCALE_CTYPE
USE_LOCALE_NUMERIC
USE_LOCALE_TIME
USE_PERLIO
USE_PERL_ATOF
USE_REENTRANT_API
Built under openbsd
Compiled at Apr 23 2024 20:44:31
%ENV:
PERL="5.38.2"
PERL5LIB=""
PERL5OPT=""
PERL5_CPANPLUS_IS_RUNNING="44821"
PERL5_CPAN_IS_RUNNING="44821"
PERLBREW_HOME="/home/david/.perlbrew"
PERLBREW_MANPATH="/home/david/perl5/perlbrew/perls/perl-5.32.0/man"
PERLBREW_PATH="/home/david/perl5/perlbrew/bin:/home/david/perl5/perlbrew/perls/perl-5.32.0/bin"
PERLBREW_PERL="perl-5.32.0"
PERLBREW_ROOT="/home/david/perl5/perlbrew"
PERLBREW_SHELLRC_VERSION="0.92"
PERLBREW_VERSION="0.92"
PERLVER="5.38.2"
PERL_INLINE_DIRECTORY="/home/david/.Inline-5.38.2"
PERL_MM_USE_DEFAULT="1"
PERL_USE_UNSAFE_INC="0"
@INC:
/home/david/cpantesting/perl-5.38.2/lib/site_perl/5.38.2/OpenBSD.amd64-openbsd-thread-multi
/home/david/cpantesting/perl-5.38.2/lib/site_perl/5.38.2
/home/david/cpantesting/perl-5.38.2/lib/5.38.2/OpenBSD.amd64-openbsd-thread-multi
/home/david/cpantesting/perl-5.38.2/lib/5.38.2