Report for Riak-Light-0.12

Back
From: metabase:user:314402c4-2aae-11df-837a-5e0a49663a4f
Subject: PASS Riak-Light-0.12 v5.20.1 FreeBSD
Date: 2015-10-06T16:26:55Z

This distribution has been tested as part of the CPAN Testers
project, supporting the Perl programming language.  See
http://wiki.cpantesters.org/ for more information or email
questions to cpan-testers-discuss@perl.org


--
Dear Weborama SA,

This is a computer-generated report for Riak-Light-0.12
on perl 5.20.1, created by CPAN-Reporter-1.2015.

Thank you for uploading your work to CPAN.  Congratulations!
All tests were successful.

Sections of this report:

    * Tester comments
    * Program output
    * Prerequisites
    * Environment and other context

------------------------------
TESTER COMMENTS
------------------------------

Additional comments from tester:

none provided

------------------------------
PROGRAM OUTPUT
------------------------------

Output from './Build test':

t/01_load.t .................... ok
autodie will be disable in the next version at (eval 72) line 109.
this feature will be disabled in the next version, you should use just timeout instead at (eval 72) line 237.
this feature will be disabled in the next version, you should use just timeout instead at (eval 72) line 250.
t/02_class_test.t .............. ok
t/03_real_riak_test.t .......... skipped: variable RIAK_PBC_HOST is not defined
t/04_client_tests.t ............ ok
t/05_driver_tests.t ............ ok
t/06_connector_tests.t ......... ok
t/07_socket_test.t ............. ok
autodie will be disable in the next version at (eval 72) line 109.
autodie will be disable in the next version at (eval 72) line 109.
autodie will be disable in the next version at (eval 72) line 109.
t/08_autodie.t ................. ok
t/09_test_notimeout.t .......... ok
this feature will be disabled in the next version, you should use just timeout instead at (eval 82) line 250.
Not Safe: can clobber previous alarm at (eval 81) line 181.
Not Safe: can clobber previous alarm at (eval 81) line 181.
t/10_timeout_alarm.t ........... ok
this feature will be disabled in the next version, you should use just timeout instead at (eval 82) line 250.
Not Safe: can clobber previous alarm at (eval 81) line 181.
Not Safe: can clobber previous alarm at (eval 81) line 181.
t/11_timeout_Time_Out.t ........ ok
this feature will be disabled in the next version, you should use just timeout instead at (eval 82) line 250.
t/12_timeout_setsockopt.t ...... ok
this feature will be disabled in the next version, you should use just timeout instead at (eval 79) line 250.
t/13_timeout_select.t .......... ok
this feature will be disabled in the next version, you should use just timeout instead at (eval 79) line 250.
t/14_timeout_select_on_read.t .. ok
t/15_secondary_indexes.t ....... skipped: variable RIAK_PBC_HOST is not defined
t/16_map_reduce.t .............. skipped: variable RIAK_PBC_HOST is not defined
t/17_2i_map_reduce.t ........... skipped: variable RIAK_PBC_HOST is not defined
t/20_pid_test.t ................ ok
t/80_extra_parameters.t ........ ok
t/90_client_id.t ............... skipped: variable RIAK_PBC_HOST is not defined
t/99_memory_lead.t ............. skipped: variable RIAK_PBC_HOST is not defined
t/99_no_namespace_autoclean.t .. ok
t/99_test_util.t ............... ok
All tests successful.
Files=23, Tests=59, 16 wallclock secs ( 0.13 usr  0.14 sys +  8.53 cusr  1.66 csys = 10.47 CPU)
Result: PASS

------------------------------
PREREQUISITES
------------------------------

Prerequisite modules loaded:

requires:

    Module                  Need   Have      
    ----------------------- ------ ----------
    Carp                    0      1.36      
    Const::Fast             0      0.014     
    Google::ProtocolBuffers 0      0.11      
    JSON                    0      2.90      
    Moo                     0      2.000002  
    perl                    5.012  5.020001  
    Time::Out               0      0.11      
    Type::Params            0      1.000005  
    Types::Standard         0      1.000005  

build_requires:

    Module                  Need   Have      
    ----------------------- ------ ----------
    Module::Build           0.3601 0.4214    
    Test::Exception         0      0.40      
    Test::MockModule        0      0.09      
    Test::MockObject        0      1.20150527
    Test::More              0      1.001014  
    Test::TCP               0      2.13      

configure_requires:

    Module                  Need   Have      
    ----------------------- ------ ----------
    ExtUtils::MakeMaker     6.30   7.10      
    Module::Build           0.3601 0.4214    


------------------------------
ENVIRONMENT AND OTHER CONTEXT
------------------------------

Environment variables:

    LC_ALL = de_DE.ISO8859-1
    PATH = /usr/local/bin:/usr/bin:/bin:/usr/local/sbin:/usr/sbin:/sbin:/home/cpansand/bin/freebsd10.0:/home/cpansand/bin/sh:/home/cpansand/bin:/usr/games:/home/cpansand/devel:/home/eserte/src/srezic-misc/scripts
    PERL5LIB = /home/cpansand/.cpan/build/2015100618/CatalystX-DebugFilter-0.13-6cTuWs/blib/arch:/home/cpansand/.cpan/build/2015100618/CatalystX-DebugFilter-0.13-6cTuWs/blib/lib
    PERL5OPT = 
    PERL5_CPANPLUS_IS_RUNNING = 5453
    PERL5_CPAN_IS_RUNNING = 5453
    PERL5_CPAN_IS_RUNNING_IN_RECURSION = 5415,5453
    PERLDOC = -MPod::Perldoc::ToTextOverstrike
    PERL_BATCH = yes
    PERL_CANARY_STABILITY_NOPROMPT = 1
    PERL_CPAN_REPORTER_CONFIG = /var/tmp/cpansmoker-1023/2015100618/cpanreporter_000_config.ini
    PERL_EXTUTILS_AUTOINSTALL = --defaultdeps
    SHELL = /usr/local/bin/zsh
    TERM = screen
    TMPDIR = /var/tmp/cpansmoker-1023/2015100618

Perl special variables (and OS-specific diagnostics, for MSWin32):

    $^X = /usr/perl5.20.1p/bin/perl5.20.1
    $UID/$EUID = 1023 / 1023
    $GID = 1023 1023
    $EGID = 1023 1023

Perl module toolchain versions installed:

    Module              Have    
    ------------------- --------
    CPAN                2.10    
    CPAN::Meta          2.150005
    Cwd                 3.48    
    ExtUtils::CBuilder  0.280217
    ExtUtils::Command   7.10    
    ExtUtils::Install   1.67    
    ExtUtils::MakeMaker 7.10    
    ExtUtils::Manifest  1.70    
    ExtUtils::ParseXS   3.24    
    File::Spec          3.48    
    JSON                2.90    
    JSON::PP            2.27203 
    Module::Build       0.4214  
    Module::Signature   0.79    
    Parse::CPAN::Meta   1.4414  
    Test::Harness       3.35    
    Test::More          1.001014
    YAML                1.15    
    YAML::Syck          1.29    
    version             0.9912  


--

Summary of my perl5 (revision 5 version 20 subversion 1) configuration:
   
  Platform:
    osname=freebsd, osvers=10.1-release, archname=amd64-freebsd
    uname='freebsd cvrsnica-freebsd-101.herceg.de 10.1-release freebsd 10.1-release #0 r274401: tue nov 11 21:02:49 utc 2014 root@releng1.nyi.freebsd.org:usrobjusrsrcsysgeneric amd64 '
    config_args='-ds -e -Dprefix=/usr/perl5.20.1p'
    hint=recommended, useposix=true, d_sigaction=define
    useithreads=undef, usemultiplicity=undef
    use64bitint=define, use64bitall=define, uselongdouble=undef
    usemymalloc=n, bincompat5005=undef
  Compiler:
    cc='cc', ccflags ='-DHAS_FPSETMASK -DHAS_FLOATINGPOINT_H -fno-strict-aliasing -pipe -fstack-protector -I/usr/local/include',
    optimize='-O',
    cppflags='-DHAS_FPSETMASK -DHAS_FLOATINGPOINT_H -fno-strict-aliasing -pipe -fstack-protector -I/usr/local/include'
    ccversion='', gccversion='4.2.1 Compatible FreeBSD Clang 3.4.1 (tags/RELEASE_34/dot1-final 208032)', gccosandvers=''
    intsize=4, longsize=8, ptrsize=8, doublesize=8, byteorder=12345678
    d_longlong=define, longlongsize=8, d_longdbl=define, longdblsize=16
    ivtype='long', ivsize=8, nvtype='double', nvsize=8, Off_t='off_t', lseeksize=8
    alignbytes=8, prototype=define
  Linker and Libraries:
    ld='cc', ldflags ='-pthread -Wl,-E  -fstack-protector -L/usr/local/lib'
    libpth=/usr/lib /usr/local/lib /usr/include/clang/3.4.1 /usr/lib
    libs=-lm -lcrypt -lutil -lc
    perllibs=-lm -lcrypt -lutil -lc
    libc=, so=so, useshrplib=false, libperl=libperl.a
    gnulibc_version=''
  Dynamic Linking:
    dlsrc=dl_dlopen.xs, dlext=so, d_dlsymun=undef, ccdlflags=' '
    cccdlflags='-DPIC -fPIC', lddlflags='-shared  -L/usr/local/lib -fstack-protector'


Characteristics of this binary (from libperl): 
  Compile-time options: HAS_TIMES PERLIO_LAYERS PERL_DONT_CREATE_GVSV
                        PERL_HASH_FUNC_ONE_AT_A_TIME_HARD PERL_MALLOC_WRAP
                        PERL_NEW_COPY_ON_WRITE PERL_PRESERVE_IVUV
                        USE_64_BIT_ALL USE_64_BIT_INT USE_LARGE_FILES
                        USE_LOCALE USE_LOCALE_COLLATE USE_LOCALE_CTYPE
                        USE_LOCALE_NUMERIC USE_PERLIO USE_PERL_ATOF
  Built under freebsd
  Compiled at Jan 29 2015 08:45:50
  %ENV:
    PERL5LIB="/home/cpansand/.cpan/build/2015100618/CatalystX-DebugFilter-0.13-6cTuWs/blib/arch:/home/cpansand/.cpan/build/2015100618/CatalystX-DebugFilter-0.13-6cTuWs/blib/lib"
    PERL5OPT=""
    PERL5_CPANPLUS_IS_RUNNING="5453"
    PERL5_CPAN_IS_RUNNING="5453"
    PERL5_CPAN_IS_RUNNING_IN_RECURSION="5415,5453"
    PERLDOC="-MPod::Perldoc::ToTextOverstrike"
    PERL_BATCH="yes"
    PERL_CANARY_STABILITY_NOPROMPT="1"
    PERL_CPAN_REPORTER_CONFIG="/var/tmp/cpansmoker-1023/2015100618/cpanreporter_000_config.ini"
    PERL_EXTUTILS_AUTOINSTALL="--defaultdeps"
  @INC:
    /home/cpansand/.cpan/build/2015100618/CatalystX-DebugFilter-0.13-6cTuWs/blib/arch
    /home/cpansand/.cpan/build/2015100618/CatalystX-DebugFilter-0.13-6cTuWs/blib/lib
    /usr/perl5.20.1p/lib/site_perl/5.20.1/amd64-freebsd
    /usr/perl5.20.1p/lib/site_perl/5.20.1
    /usr/perl5.20.1p/lib/5.20.1/amd64-freebsd
    /usr/perl5.20.1p/lib/5.20.1
    .