Report for Catalyst-Plugin-Authorization-ACL-0.15

Back
From: metabase:user:6bef3b2c-d81f-11df-b48f-1f30c15cd99a
Subject: PASS Catalyst-Plugin-Authorization-ACL-0.15 v5.12.2 Mac OS X
Date: 2010-10-19T07:39:51Z

This distribution has been tested as part of the CPAN Testers
project, supporting the Perl programming language.  See
http://wiki.cpantesters.org/ for more information or email
questions to cpan-testers-discuss@perl.org


--
Dear Rafael Kitover,

This is a computer-generated report for Catalyst-Plugin-Authorization-ACL-0.15
on perl 5.12.2, created by CPAN-Reporter-1.1803.

Thank you for uploading your work to CPAN.  Congratulations!
All tests were successful.

Sections of this report:

    * Tester comments
    * Program output
    * Prerequisites
    * Environment and other context

------------------------------
TESTER COMMENTS
------------------------------

Additional comments from tester:

none provided

------------------------------
PROGRAM OUTPUT
------------------------------

Output from '/usr/bin/make test':

PERL_DL_NONLAZY=1 /Users/greeneg/Lang/Perl/bin/perl "-MExtUtils::Command::MM" "-e" "test_harness(0, 'inc', 'blib/lib', 'blib/arch')" t/01use.t t/02pod.t t/live_app.t t/more_live_app.t
t/01use.t .......... ok
t/02pod.t .......... skipped: set TEST_POD to enable this test
t/live_app.t ....... ok
t/more_live_app.t .. ok
All tests successful.
Files=4, Tests=112,  3 wallclock secs ( 0.04 usr  0.01 sys +  2.32 cusr  0.19 csys =  2.56 CPU)
Result: PASS

------------------------------
PREREQUISITES
------------------------------

Prerequisite modules loaded:

requires:

    Module                                   Need    Have   
    ---------------------------------------- ------- -------
    Catalyst::Plugin::Authentication         0       0.10016
    Catalyst::Plugin::Authorization::Roles   0       0.08   
    Catalyst::Plugin::Session                0       0.31   
    Catalyst::Plugin::Session::State::Cookie 0       0.17   
    Catalyst::Runtime                        5.80013 5.80029
    Class::Data::Inheritable                 0       0.08   
    Class::Throwable                         0       0.11   
    ExtUtils::MakeMaker                      6.42    6.56   
    Moose                                    0       1.16   
    MRO::Compat                              0       0.11   
    namespace::autoclean                     0       0.11   
    Test::More                               0       0.96   
    Test::WWW::Mechanize::Catalyst           0       0.52   
    Tree::Simple                             0       1.18   
    Tree::Simple::Visitor::FindByPath        0       0.03   
    Tree::Simple::Visitor::GetAllDescendents 0       0.02   

configure_requires:

    Module                                   Need    Have   
    ---------------------------------------- ------- -------
    ExtUtils::MakeMaker                      6.42    6.56   


------------------------------
ENVIRONMENT AND OTHER CONTEXT
------------------------------

Environment variables:

    LANG = en_US.UTF-8
    PATH = /Users/greeneg/Lang/Perl/bin:/Users/greeneg/Lang/Perl/sbin:/opt/local/bin:/opt/local/sbin:/Users/greeneg/Lang/Perl/bin:/Users/greeneg/Lang/Perl/sbin:/opt/local/bin:/opt/local/sbin:/Users/greeneg/Lang/Perl/bin:/Users/greeneg/Lang/Perl/sbin:/usr/bin:/bin:/usr/sbin:/sbin:/usr/local/bin:/opt/X11/bin:/usr/X11/bin
    PERL5LIB = 
    PERL5OPT = 
    PERL5_CPANPLUS_IS_RUNNING = 62232
    PERL5_CPAN_IS_RUNNING = 62232
    SHELL = /bin/bash
    TERM = xterm-color
    TMPDIR = /var/folders/GX/GXgNPnDOHd8O6Hsb-1Jq+k+++TI/-Tmp-/

Perl special variables (and OS-specific diagnostics, for MSWin32):

    $^X = /Users/greeneg/Lang/Perl/bin/perl
    $UID/$EUID = 501 / 501
    $GID = 20 20 404 204 100 98 81 80 79 61 12 402 401 405 403 217 101
    $EGID = 20 20 404 204 100 98 81 80 79 61 12 402 401 405 403 217 101

Perl module toolchain versions installed:

    Module              Have   
    ------------------- -------
    CPAN                1.94_56
    Cwd                 3.33   
    ExtUtils::CBuilder  0.2703 
    ExtUtils::Command   1.16   
    ExtUtils::Install   1.55   
    ExtUtils::MakeMaker 6.56   
    ExtUtils::Manifest  1.58   
    ExtUtils::ParseXS   2.2206 
    File::Spec          3.33   
    Module::Build       0.3607 
    Module::Signature   0.66   
    Test::Harness       3.22   
    Test::More          0.96   
    YAML                0.72   
    YAML::Syck          1.15   
    version             0.83   


--

Summary of my perl5 (revision 5 version 12 subversion 2) configuration:
   
  Platform:
    osname=darwin, osvers=10.4.0, archname=darwin-thread-multi-ld-2level
    uname='darwin skuld.tolharadys.net 10.4.0 darwin kernel version 10.4.0: fri apr 23 18:28:53 pdt 2010; root:xnu-1504.7.4~1release_i386 i386 '
    config_args=''
    hint=recommended, useposix=true, d_sigaction=define
    useithreads=define, usemultiplicity=define
    useperlio=define, d_sfio=undef, uselargefiles=define, usesocks=undef
    use64bitint=define, use64bitall=define, uselongdouble=define
    usemymalloc=n, bincompat5005=undef
  Compiler:
    cc='cc', ccflags ='-fno-common -DPERL_DARWIN -no-cpp-precomp -fno-strict-aliasing -pipe -fstack-protector -I/opt/local/include',
    optimize='-O3',
    cppflags='-no-cpp-precomp -fno-common -DPERL_DARWIN -no-cpp-precomp -fno-strict-aliasing -pipe -fstack-protector -I/opt/local/include'
    ccversion='', gccversion='4.2.1 (Apple Inc. build 5664)', gccosandvers=''
    intsize=4, longsize=8, ptrsize=8, doublesize=8, byteorder=12345678
    d_longlong=define, longlongsize=8, d_longdbl=define, longdblsize=16
    ivtype='long', ivsize=8, nvtype='long double', nvsize=16, Off_t='off_t', lseeksize=8
    alignbytes=8, prototype=define
  Linker and Libraries:
    ld='env MACOSX_DEPLOYMENT_TARGET=10.3 cc', ldflags =' -fstack-protector -L/opt/local/lib'
    libpth=/opt/local/lib /usr/lib
    libs=-lgdbm -ldbm -ldl -lm -lutil -lc
    perllibs=-ldl -lm -lutil -lc
    libc=/usr/lib/libc.dylib, so=dylib, useshrplib=true, libperl=libperl.dylib
    gnulibc_version=''
  Dynamic Linking:
    dlsrc=dl_dlopen.xs, dlext=bundle, d_dlsymun=undef, ccdlflags=' '
    cccdlflags=' ', lddlflags=' -bundle -undefined dynamic_lookup -L/opt/local/lib -fstack-protector'


Characteristics of this binary (from libperl): 
  Compile-time options: MULTIPLICITY PERL_DONT_CREATE_GVSV
                        PERL_IMPLICIT_CONTEXT PERL_MALLOC_WRAP USE_64_BIT_ALL
                        USE_64_BIT_INT USE_ITHREADS USE_LARGE_FILES
                        USE_LONG_DOUBLE USE_PERLIO USE_PERL_ATOF
  Built under darwin
  Compiled at Oct 14 2010 20:50:24
  %ENV:
    PERL5LIB=""
    PERL5OPT=""
    PERL5_CPANPLUS_IS_RUNNING="62232"
    PERL5_CPAN_IS_RUNNING="62232"
  @INC:
    /Users/greeneg/Lang/Perl/lib/perl5/site_perl/5.12.2/darwin-thread-multi-ld-2level
    /Users/greeneg/Lang/Perl/lib/perl5/site_perl/5.12.2
    /Users/greeneg/Lang/Perl/lib/perl5/5.12.2/darwin-thread-multi-ld-2level
    /Users/greeneg/Lang/Perl/lib/perl5/5.12.2
    /Users/greeneg/Lang/Perl/lib/perl5/site_perl/5.12.1/darwin-thread-multi-ld-2level
    /Users/greeneg/Lang/Perl/lib/perl5/site_perl/5.12.1
    /Users/greeneg/Lang/Perl/lib/perl5/site_perl
    .