Net-Amazon-S3 v0.97 Perl 5 v5.22.2 x86_64-linux

Status
Pass
From
Slaven Rezić (SREZIC)
Dist
Net-Amazon-S3 v0.97
Platform
Perl 5 v5.22.2 x86_64-linux
Date
2020-10-09 14:45:21
ID
0e7bdc8c-0a3e-11eb-bcb3-a6131f24ea8f
This distribution has been tested as part of the CPAN Testers
project, supporting the Perl programming language.  See
http://wiki.cpantesters.org/ for more information or email
questions to cpan-testers-discuss@perl.org


--
Dear Branislav Zahradnik,

This is a computer-generated report for Net-Amazon-S3-0.97
on perl 5.22.2, created by CPAN-Reporter-1.2018.

Thank you for uploading your work to CPAN.  Congratulations!
All tests were successful.

Sections of this report:

    * Tester comments
    * Program output
    * Prerequisites
    * Environment and other context

------------------------------
TESTER COMMENTS
------------------------------

Additional comments from tester:

none provided

------------------------------
PROGRAM OUTPUT
------------------------------

Output from '/usr/bin/make test':

PERL_DL_NONLAZY=1 "/opt/perl-5.22.2/bin/perl" "-MExtUtils::Command::MM" "-MTest::Harness" "-e" "undef *Test::Harness::Switches; test_harness(0, 'blib/lib', 'blib/arch')" t/*.t
t/01api.t ................................ skipped: Testing this module for real costs money. Enable it by setting true value to env variable AMAZON_S3_EXPENSIVE_TESTS
t/02client.t ............................. skipped: Testing this module for real costs money.
t/03token.t .............................. skipped: Need these vars in ENV: AWS_ACCESS_KEY_ID, AWS_ACCESS_KEY_SECRET, AWS_ACCESS_TOKEN
t/acl-set.t .............................. ok
t/api-bucket-acl-get.t ................... ok
t/api-bucket-acl-set.t ................... ok
t/api-bucket-create.t .................... ok
t/api-bucket-delete.t .................... ok
t/api-bucket-objects-delete.t ............ ok
t/api-bucket-objects-list.t .............. ok
t/api-bucket-tags-add.t .................. ok
t/api-bucket-tags-delete.t ............... ok
t/api-build-bucket.t ..................... ok
t/api-construct.t ........................ ok
t/api-object-acl-get.t ................... ok
t/api-object-acl-set.t ................... ok
t/api-object-create.t .................... ok
t/api-object-delete.t .................... ok
t/api-object-fetch.t ..................... ok
t/api-object-head.t ...................... ok
t/api-object-tags-add.t .................. ok
t/api-object-tags-delete.t ............... ok
t/api-service-buckets-list.t ............. ok
t/author-eol.t ........................... skipped: these tests are for testing by the author
t/client-bucket-acl-get.t ................ ok
t/client-bucket-acl-set.t ................ ok
t/client-bucket-create.t ................. ok
t/client-bucket-delete.t ................. ok
t/client-bucket-objects-delete.t ......... ok
t/client-bucket-objects-list.t ........... ok
t/client-bucket-tags-add.t ............... ok
t/client-bucket-tags-delete.t ............ ok
t/client-construct.t ..................... ok
t/client-object-acl-set.t ................ ok
t/client-object-create.t ................. ok
t/client-object-delete.t ................. ok
t/client-object-fetch.t .................. ok
t/client-object-tags-add.t ............... ok
t/client-object-tags-delete.t ............ ok
t/client-service-buckets-list.t .......... ok
t/error-handler-x.t ...................... ok
t/issue-39-content-length-0.t ............ ok
t/issue-88-non-standard-service-port.t ... ok
t/query-string-authentication-uri.t ...... ok
t/request.t .............................. ok
t/response.t ............................. ok
t/s3-operation-bucket-acl-fetch.t ........ ok
t/s3-operation-bucket-acl-set.t .......... ok
t/s3-operation-bucket-create.t ........... ok
t/s3-operation-bucket-delete.t ........... ok
t/s3-operation-bucket-location.t ......... ok
t/s3-operation-bucket-tags-add.t ......... ok
t/s3-operation-bucket-tags-delete.t ...... ok
t/s3-operation-buckets-list.t ............ ok
t/s3-operation-object-acl-fetch.t ........ ok
t/s3-operation-object-acl-set.t .......... ok
t/s3-operation-object-add.t .............. ok
t/s3-operation-object-copy.t ............. ok
t/s3-operation-object-delete.t ........... ok
t/s3-operation-object-fetch.t ............ ok
t/s3-operation-object-head.t ............. ok
t/s3-operation-object-restore.t .......... ok
t/s3-operation-object-tags-add.t ......... ok
t/s3-operation-object-tags-delete.t ...... ok
t/s3-operation-object-upload-abort.t ..... ok
t/s3-operation-object-upload-complete.t .. ok
t/s3-operation-object-upload-create.t .... ok
t/s3-operation-object-upload-part.t ...... ok
t/s3-operation-objects-delete.t .......... ok
t/s3-operation-objects-list.t ............ ok
t/s3-request-bucket-acl-fetch.t .......... ok
t/s3-request-bucket-acl-set.t ............ ok
t/s3-request-bucket-create.t ............. ok
t/s3-request-bucket-delete.t ............. ok
t/s3-request-bucket-location.t ........... ok
t/s3-request-bucket-objects-delete.t ..... ok
t/s3-request-bucket-objects-list.t ....... ok
t/s3-request-bucket-tags-add.t ........... ok
t/s3-request-bucket-tags-delete.t ........ ok
t/s3-request-object-acl-fetch.t .......... ok
t/s3-request-object-acl-set.t ............ ok
t/s3-request-object-add.t ................ ok
t/s3-request-object-delete.t ............. ok
t/s3-request-object-fetch.t .............. ok
t/s3-request-object-restore.t ............ ok
t/s3-request-object-tags-add.t ........... ok
t/s3-request-object-tags-delete.t ........ ok
t/s3-request-object-upload-abort.t ....... ok
t/s3-request-object-upload-complete.t .... ok
t/s3-request-object-upload-create.t ...... ok
t/s3-request-object-upload-part.t ........ ok
t/s3-request-object-upload-parts.t ....... ok
t/s3-request-service-buckets-list.t ...... ok
t/s3-response-object-upload-create.t ..... ok
t/s3-response-service-buckets-list.t ..... ok
t/signature-v4-with-security-token.t ..... ok
t/utils-parse-arguments.t ................ ok
t/vendor-amazon.t ........................ ok
t/vendor-generic.t ....................... ok
t/vendor-info.t .......................... ok
All tests successful.
Files=100, Tests=523, 67 wallclock secs ( 0.13 usr  0.16 sys + 58.58 cusr  3.87 csys = 62.74 CPU)
Result: PASS

------------------------------
PREREQUISITES
------------------------------

Prerequisite modules loaded:

requires:

    Module                                 Need     Have      
    -------------------------------------- -------- ----------
    Carp                                   0        1.38      
    constant                               0        1.33      
    Data::Stream::Bulk::Callback           0        0.11      
    DateTime::Format::HTTP                 0        0.42      
    Digest::HMAC_SHA1                      0        1.03      
    Digest::MD5                            0        2.54      
    Digest::MD5::File                      0        0.08      
    Digest::SHA                            0        5.96      
    Exporter::Tiny                         0        0.042     
    File::Find::Rule                       0        0.34      
    File::stat                             0        1.07      
    Getopt::Long                           0        2.49      
    Hash::Util                             0        0.18      
    HTTP::Date                             0        6.02      
    HTTP::Response                         0        6.11      
    HTTP::Status                           0        6.11      
    IO::File                               1.14     1.16      
    LWP                                    6.03     6.15      
    LWP::UserAgent::Determined             0        1.07      
    MIME::Base64                           0        3.15      
    MIME::Types                            0        2.13      
    Moose                                  0.85     2.1805    
    Moose::Meta::Class                     0        2.1805    
    Moose::Object                          0        2.1805    
    Moose::Role                            0        2.1805    
    Moose::Util                            0        2.1805    
    Moose::Util::TypeConstraints           0        2.1805    
    MooseX::Role::Parameterized            0        1.09      
    MooseX::StrictConstructor              0.16     0.19      
    MooseX::Types::DateTime::MoreCoercions 0.07     0.15      
    namespace::clean                       0        0.27      
    parent                                 0        0.232     
    Path::Class                            0        0.37      
    Pod::Usage                             0        1.69      
    Ref::Util                              0        0.101     
    Regexp::Common                         0        2016060801
    Safe::Isa                              0        1.000005  
    Scalar::Util                           0        1.45      
    sort                                   0        2.02      
    strict                                 0        1.09      
    Sub::Override                          0        0.09      
    Term::Encoding                         0        0.02      
    Term::ProgressBar::Simple              0        0.03      
    Test::Deep                             v0.111.0 1.120     
    Test::LWP::UserAgent                   0        0.030     
    Test::More                             0        1.302052  
    Time::Piece                            0        1.31      
    URI                                    0        1.71      
    URI::Escape                            0        3.31      
    URI::QueryParam                        0        1.71      
    warnings                               0        1.34      
    XML::LibXML                            0        2.0128    
    XML::LibXML::XPathContext              0        2.0128    

build_requires:

    Module                                 Need     Have      
    -------------------------------------- -------- ----------
    ExtUtils::MakeMaker                    0        7.24      
    File::Temp                             0        0.2304    
    FindBin                                0        1.51      
    HTTP::Request                          0        6.11      
    lib                                    0        0.63      
    LWP::Simple                            0        6.15      
    Test::Deep                             v0.111.0 1.120     
    Test::Exception                        0        0.43      
    Test::MockTime                         0        0.15      
    Test::Warnings                         0        0.026     
    utf8                                   0        1.17      
    vars                                   0        1.03      

configure_requires:

    Module                                 Need     Have      
    -------------------------------------- -------- ----------
    ExtUtils::MakeMaker                    0        7.24      


------------------------------
ENVIRONMENT AND OTHER CONTEXT
------------------------------

Environment variables:

    LANG = en_US.UTF-8
    LANGUAGE = en_US:en
    LC_ALL = en_US.UTF-8
    PATH = /usr/local/bin:/usr/bin:/bin:/usr/local/sbin:/usr/sbin:/sbin:/home/cpansand/bin/linux-gnu:/home/cpansand/bin/sh:/home/cpansand/bin:/usr/games:/home/cpansand/devel:/home/eserte/src/srezic-misc/scripts
    PERL5LIB = 
    PERL5OPT = 
    PERL5_CPANPLUS_IS_RUNNING = 19200
    PERL5_CPAN_IS_RUNNING = 19200
    PERL5_CPAN_IS_RUNNING_IN_RECURSION = 18507,19200
    PERLDOC = -MPod::Perldoc::ToTextOverstrike
    PERL_BATCH = yes
    PERL_CANARY_STABILITY_NOPROMPT = 1
    PERL_CPAN_REPORTER_CONFIG = /var/tmp/cpansmoker-1023/2020100916/cpanreporter_000_config.ini
    PERL_EXTUTILS_AUTOINSTALL = --defaultdeps
    PERL_USE_UNSAFE_INC = 1
    SHELL = /bin/zsh
    TERM = screen
    TMPDIR = /var/tmp/cpansmoker-1023/2020100916

Perl special variables (and OS-specific diagnostics, for MSWin32):

    $^X = /opt/perl-5.22.2/bin/perl
    $UID/$EUID = 1023 / 1023
    $GID = 1023 1023
    $EGID = 1023 1023

Perl module toolchain versions installed:

    Module              Have    
    ------------------- --------
    CPAN                2.16    
    CPAN::Meta          2.150010
    Cwd                 3.62    
    ExtUtils::CBuilder  0.280221
    ExtUtils::Command   7.24    
    ExtUtils::Install   2.04    
    ExtUtils::MakeMaker 7.24    
    ExtUtils::Manifest  1.70    
    ExtUtils::ParseXS   3.28    
    File::Spec          3.62    
    JSON                2.90    
    JSON::PP            2.27300 
    Module::Build       0.4220  
    Module::Signature   0.81    
    Parse::CPAN::Meta   2.150010
    Test::Harness       3.35    
    Test::More          1.302052
    YAML                1.17    
    YAML::Syck          1.29    
    version             0.9917  


--

Summary of my perl5 (revision 5 version 22 subversion 2) configuration:
   
  Platform:
    osname=linux, osvers=3.2.0-4-amd64, archname=x86_64-linux
    uname='linux cvrsnica-wheezy 3.2.0-4-amd64 #1 smp debian 3.2.54-2 x86_64 gnulinux '
    config_args='-ds -e -Dprefix=/opt/perl-5.22.2 -Dcf_email=srezic@cpan.org'
    hint=recommended, useposix=true, d_sigaction=define
    useithreads=undef, usemultiplicity=undef
    use64bitint=define, use64bitall=define, uselongdouble=undef
    usemymalloc=n, bincompat5005=undef
  Compiler:
    cc='cc', ccflags ='-fwrapv -fno-strict-aliasing -pipe -fstack-protector -I/usr/local/include -D_LARGEFILE_SOURCE -D_FILE_OFFSET_BITS=64 -D_FORTIFY_SOURCE=2',
    optimize='-O2',
    cppflags='-fwrapv -fno-strict-aliasing -pipe -fstack-protector -I/usr/local/include'
    ccversion='', gccversion='4.7.2', gccosandvers=''
    intsize=4, longsize=8, ptrsize=8, doublesize=8, byteorder=12345678, doublekind=3
    d_longlong=define, longlongsize=8, d_longdbl=define, longdblsize=16, longdblkind=3
    ivtype='long', ivsize=8, nvtype='double', nvsize=8, Off_t='off_t', lseeksize=8
    alignbytes=8, prototype=define
  Linker and Libraries:
    ld='cc', ldflags =' -fstack-protector -L/usr/local/lib'
    libpth=/usr/local/lib /usr/lib/gcc/x86_64-linux-gnu/4.7/include-fixed /usr/include/x86_64-linux-gnu /usr/lib /lib/x86_64-linux-gnu /lib/../lib /usr/lib/x86_64-linux-gnu /usr/lib/../lib /lib
    libs=-lpthread -lnsl -ldb -ldl -lm -lcrypt -lutil -lc
    perllibs=-lpthread -lnsl -ldl -lm -lcrypt -lutil -lc
    libc=libc-2.13.so, so=so, useshrplib=false, libperl=libperl.a
    gnulibc_version='2.13'
  Dynamic Linking:
    dlsrc=dl_dlopen.xs, dlext=so, d_dlsymun=undef, ccdlflags='-Wl,-E'
    cccdlflags='-fPIC', lddlflags='-shared -O2 -L/usr/local/lib -fstack-protector'


Characteristics of this binary (from libperl): 
  Compile-time options: HAS_TIMES PERLIO_LAYERS PERL_DONT_CREATE_GVSV
                        PERL_HASH_FUNC_ONE_AT_A_TIME_HARD PERL_MALLOC_WRAP
                        PERL_NEW_COPY_ON_WRITE PERL_PRESERVE_IVUV
                        USE_64_BIT_ALL USE_64_BIT_INT USE_LARGE_FILES
                        USE_LOCALE USE_LOCALE_COLLATE USE_LOCALE_CTYPE
                        USE_LOCALE_NUMERIC USE_LOCALE_TIME USE_PERLIO
                        USE_PERL_ATOF
  Built under linux
  Compiled at May 29 2016 23:41:57
  %ENV:
    PERL5LIB=""
    PERL5OPT=""
    PERL5_CPANPLUS_IS_RUNNING="19200"
    PERL5_CPAN_IS_RUNNING="19200"
    PERL5_CPAN_IS_RUNNING_IN_RECURSION="18507,19200"
    PERLDOC="-MPod::Perldoc::ToTextOverstrike"
    PERL_BATCH="yes"
    PERL_CANARY_STABILITY_NOPROMPT="1"
    PERL_CPAN_REPORTER_CONFIG="/var/tmp/cpansmoker-1023/2020100916/cpanreporter_000_config.ini"
    PERL_EXTUTILS_AUTOINSTALL="--defaultdeps"
    PERL_USE_UNSAFE_INC="1"
  @INC:
    /opt/perl-5.22.2/lib/site_perl/5.22.2/x86_64-linux
    /opt/perl-5.22.2/lib/site_perl/5.22.2
    /opt/perl-5.22.2/lib/5.22.2/x86_64-linux
    /opt/perl-5.22.2/lib/5.22.2
    .