Report for Padre-0.98

Back
From: metabase:user:44baa983-6bf6-1014-9a1d-e6daa5296772
Subject: PASS Padre-0.98 v5.12.3 Mac OS X
Date: 2013-05-02T12:01:42Z

This distribution has been tested as part of the CPAN Testers
project, supporting the Perl programming language.  See
http://wiki.cpantesters.org/ for more information or email
questions to cpan-testers-discuss@perl.org


--
Dear Peter Lavender,

This is a computer-generated report for Padre-0.98
on perl 5.12.3, created by CPAN-Reporter-1.2009.

Thank you for uploading your work to CPAN.  Congratulations!
All tests were successful.

Sections of this report:

    * Tester comments
    * Program output
    * Prerequisites
    * Environment and other context

------------------------------
TESTER COMMENTS
------------------------------

Additional comments from tester:

none provided

------------------------------
PROGRAM OUTPUT
------------------------------

Output from '/usr/bin/make test':

blib/lib/auto/share/dist/Padre/locale -> blib/lib/auto/share/dist/Padre/locale
blib/lib/auto/share/dist/Padre/locale/ko.po -> blib/lib/auto/share/dist/Padre/locale/ko.mo
blib/lib/auto/share/dist/Padre/locale/no.po -> blib/lib/auto/share/dist/Padre/locale/no.mo
blib/lib/auto/share/dist/Padre/locale/cz.po -> blib/lib/auto/share/dist/Padre/locale/cz.mo
blib/lib/auto/share/dist/Padre/locale/hu.po -> blib/lib/auto/share/dist/Padre/locale/hu.mo
blib/lib/auto/share/dist/Padre/locale/he.po -> blib/lib/auto/share/dist/Padre/locale/he.mo
blib/lib/auto/share/dist/Padre/locale/de.po -> blib/lib/auto/share/dist/Padre/locale/de.mo
blib/lib/auto/share/dist/Padre/locale/nl-nl.po -> blib/lib/auto/share/dist/Padre/locale/nl-nl.mo
blib/lib/auto/share/dist/Padre/locale/it-it.po -> blib/lib/auto/share/dist/Padre/locale/it-it.mo
blib/lib/auto/share/dist/Padre/locale/es-es.po -> blib/lib/auto/share/dist/Padre/locale/es-es.mo
blib/lib/auto/share/dist/Padre/locale/pl.po -> blib/lib/auto/share/dist/Padre/locale/pl.mo
blib/lib/auto/share/dist/Padre/locale/fa.po -> blib/lib/auto/share/dist/Padre/locale/fa.mo
blib/lib/auto/share/dist/Padre/locale/zh-tw.po -> blib/lib/auto/share/dist/Padre/locale/zh-tw.mo
blib/lib/auto/share/dist/Padre/locale/ar.po -> blib/lib/auto/share/dist/Padre/locale/ar.mo
blib/lib/auto/share/dist/Padre/locale/zh-cn.po -> blib/lib/auto/share/dist/Padre/locale/zh-cn.mo
blib/lib/auto/share/dist/Padre/locale/ru.po -> blib/lib/auto/share/dist/Padre/locale/ru.mo
blib/lib/auto/share/dist/Padre/locale/fr.po -> blib/lib/auto/share/dist/Padre/locale/fr.mo
blib/lib/auto/share/dist/Padre/locale/tr.po -> blib/lib/auto/share/dist/Padre/locale/tr.mo
blib/lib/auto/share/dist/Padre/locale/ja.po -> blib/lib/auto/share/dist/Padre/locale/ja.mo
blib/lib/auto/share/dist/Padre/locale/pt-br.po -> blib/lib/auto/share/dist/Padre/locale/pt-br.mo
-blib/lib/auto/share/dist/Padre/locale/messages.pot
make[1]: Nothing to be done for `all'.
PERL_DL_NONLAZY=1 /usr/burak/bin/perl "-MExtUtils::Command::MM" "-e" "test_harness(0, 'inc', 'blib/lib', 'blib/arch')" t/*.t t/perl/*.t t/python/*.t t/ruby/*.t t/java/*.t t/csharp/*.t
t/01_compile.t ............. skipped: Needs DISPLAY
t/02_new.t ................. skipped: Needs DISPLAY
t/03_db.t .................. skipped: Needs DISPLAY
t/04_config.t .............. ok
t/05_project.t ............. skipped: Needs DISPLAY
t/06_utils.t ............... skipped: Needs DISPLAY
t/07_version.t ............. skipped: Needs DISPLAY
t/08_style.t ............... skipped: Needs DISPLAY
t/09_search.t .............. ok
t/10_delta.t ............... skipped: Needs DISPLAY
t/11_svn.t ................. skipped: Not in an SVN checkout
t/12_mime.t ................ ok
t/13_findinfiles.t ......... ok
t/14_warnings.t ............ ok
t/15_locale.t .............. skipped: Needs DISPLAY
t/16_locale_format.t ....... ok
t/17_messages.t ............ ok
t/18_newline.t ............. skipped: Needs DISPLAY
t/19_search.t .............. skipped: Needs DISPLAY
t/20_comment.t ............. ok
t/21_sloc.t ................ ok
t/31_task_queue.t .......... skipped: Needs DISPLAY
t/32_task_worker.t ......... skipped: Needs DISPLAY
t/33_task_chain.t .......... skipped: Needs DISPLAY
t/34_task_master.t ......... skipped: Needs DISPLAY
t/35_task_handle.t ......... skipped: Needs DISPLAY
t/36_task_eval.t ........... skipped: Needs DISPLAY
t/37_task_signal.t ......... skipped: Needs DISPLAY
t/38_task_manager.t ........ skipped: Needs DISPLAY
t/39_task_nothreads.t ...... skipped: Needs DISPLAY
t/40_display.t ............. skipped: Needs DISPLAY
t/41_editor.t .............. skipped: Needs DISPLAY
t/42_document.t ............ skipped: Needs DISPLAY
t/43_frame_html.t .......... skipped: Needs DISPLAY
t/50_browser.t ............. skipped: Needs DISPLAY
t/61_directory_path.t ...... ok
t/74_history_combobox.t .... skipped: Needs DISPLAY
t/75_autocomplete.t ........ skipped: Needs DISPLAY
t/76_preferences.t ......... skipped: Needs DISPLAY
t/82_plugin_manager.t ...... skipped: Needs DISPLAY
t/83_autosave.t ............ ok
t/85_commandline.t ......... ok
t/90_autocomplete.t ........ ok
t/91_vi.t .................. skipped: Needs DISPLAY
t/92_padre_file.t .......... ok
t/93_padre_filename_win.t .. ok
t/94_padre_file_remote.t ... ok
t/95_edit_patch.t .......... skipped: Needs DISPLAY
t/96_help_about.t .......... skipped: Needs DISPLAY
t/97_debug_debugger.t ...... skipped: Needs DISPLAY
t/98_debug_breakpoints.t ... skipped: Needs DISPLAY
t/99_debug_debugoutput.t ... skipped: Needs DISPLAY
t/csharp/functionlist.t .... skipped: Needs DISPLAY
t/java/functionlist.t ...... skipped: Needs DISPLAY
t/perl/functionlist.t ...... skipped: Needs DISPLAY
t/perl/general.t ........... skipped: Needs DISPLAY
t/perl/project.t ........... ok
t/perl/project_temp.t ...... ok
t/perl/starter.t ........... ok
t/perl/syntax.t ............ skipped: Needs DISPLAY
t/python/functionlist.t .... skipped: Needs DISPLAY
t/ruby/functionlist.t ...... skipped: Needs DISPLAY
All tests successful.
Files=62, Tests=1678,  9 wallclock secs ( 0.38 usr  0.21 sys +  3.48 cusr  0.67 csys =  4.74 CPU)
Result: PASS
make[1]: Nothing to be done for `test'.

------------------------------
PREREQUISITES
------------------------------

Prerequisite modules loaded:

requires:

    Module                   Need     Have      
    ------------------------ -------- ----------
    Algorithm::Diff          1.19     1.1902    
    App::cpanminus           0.9923   1.6006    
    B::Deparse               0        0.9701    
    Capture::Tiny            0.06     0.22      
    CGI                      3.47     3.63      
    Class::Adapter           1.05     1.08      
    Class::Inspector         1.22     1.28      
    Class::XSAccessor        1.13     1.16      
    Cwd                      3.2701   3.40      
    Data::Dumper             2.101    2.131     
    DBD::SQLite              1.35     1.37      
    DBI                      1.58     1.623     
  ! Debug::Client            0.24     0.20      
    Devel::Dumpvar           0.04     1.06      
    Devel::Refactor          0.05     0.05      
    Encode                   2.26     2.49      
    ExtUtils::MakeMaker      6.56     6.64      
    ExtUtils::Manifest       1.56     1.61      
    File::Basename           0        2.78      
    File::Copy::Recursive    0.37     0.38      
    File::Find::Rule         0.30     0.33      
    File::Glob               0        1.07      
    File::HomeDir            0.91     1.00      
    File::Path               2.08     2.09      
    File::pushd              1.00     1.004     
    File::Remove             1.40     1.52      
    File::ShareDir           1.00     1.03      
    File::Spec               3.2701   3.40      
    File::Spec::Functions    3.2701   3.40      
    File::Temp               0.20     0.2301    
    File::Which              1.08     1.09      
    FindBin                  0        1.50      
    Getopt::Long             0        2.38      
    HTML::Entities           3.57     3.69      
    HTML::Parser             3.58     3.69      
    IO::Scalar               2.110    2.110     
    IO::Socket               1.30     1.31      
    IO::String               1.08     1.08      
    IPC::Open2               0        1.03      
    IPC::Open3               0        1.05      
    IPC::Run                 0.83     0.92      
    JSON::XS                 2.29     2.32      
    List::MoreUtils          0.22     0.33      
    List::Util               1.18     1.27      
    LWP                      5.815    6.05      
    LWP::UserAgent           5.815    6.05      
    Module::Build            0.3603   0.4003    
    Module::CoreList         2.22     2.82      
    Module::Manifest         0.07     1.08      
    Module::Starter          1.60     1.60      
    ORLite                   1.98     1.98      
    ORLite::Migrate          1.10     1.10      
    Params::Util             0.33     1.07      
  ! Parse::ErrorString::Perl 0.14     broken    
    Parse::ExuberantCTags    1.00     1.02      
    perl                     5.008005 5.012003  
    POD2::Base               0.043    0.043     
    Pod::Abstract            0.16     0.20      
    Pod::Functions           0        1.04      
    Pod::Perldoc             3.15     3.19      
    Pod::POM                 0.17     0.25      
    Pod::Simple              3.07     3.26      
    Pod::Simple::XHTML       3.04     3.26      
    POSIX                    0        1.19      
    PPI                      1.215    1.215     
    PPIx::EditorTools        0.18     0.18      
    PPIx::Regexp             0.011    0.033     
    Probe::Perl              0.01     0.02      
    Sort::Versions           1.5      1.5       
    Storable                 2.16     2.39      
    Template::Tiny           0.11     1.12      
    Term::ReadLine           0        1.10      
    Text::Balanced           2.01     2.02      
    Text::Diff               1.41     1.41      
    Text::FindIndent         0.10     0.10      
    Text::Patch              1.8      1.8       
    threads                  1.71     1.86      
    threads::shared          1.33     1.43      
    Time::HiRes              1.9718   1.9725    
    URI                      0        1.60      
    version                  0.80     0.9902    
    Wx                       0.9916   0.9921    
    Wx::Perl::ProcessStream  0.32     0.32      
  ! Wx::Scintilla            0.39     0.3801    
    YAML::Tiny               1.32     1.51      

build_requires:

    Module                   Need     Have      
    ------------------------ -------- ----------
    Alien::wxWidgets         0.62     0.62      
    ExtUtils::Embed          1.250601 1.28      
    ExtUtils::MakeMaker      6.59     6.64      
    Locale::Msgfmt           0.15     0.15      
    Test::Exception          0.27     0.31      
    Test::MockObject         1.09     1.20120301
    Test::More               0.98     0.98      
    Test::NoWarnings         1.04     1.04      
    Test::Script             1.07     1.07      
    Test::Warn               0.24     0.24      

configure_requires:

    Module                   Need     Have      
    ------------------------ -------- ----------
    Alien::wxWidgets         0.62     0.62      
    ExtUtils::Embed          1.250601 1.28      
    ExtUtils::MakeMaker      6.59     6.64      


------------------------------
ENVIRONMENT AND OTHER CONTEXT
------------------------------

Environment variables:

    LC_CTYPE = UTF-8
    PATH = /usr/bin:/bin:/usr/sbin:/sbin:/usr/local/bin:/usr/local/MacGPG2/bin:/opt/local/bin:/home/burakgursoy/bin:/Users/burakgursoy/bin
    PERL5LIB = 
    PERL5OPT = 
    PERL5_CPANPLUS_IS_RUNNING = 1236
    PERL5_CPAN_IS_RUNNING = 1236
    SHELL = /bin/bash
    TERM = xterm-256color

Perl special variables (and OS-specific diagnostics, for MSWin32):

    $^X = /usr/burak/bin/perl
    $UID/$EUID = 0 / 0
    $GID = 0 0 1 2 3 4 5 8 9 12 20 29 61 80
    $EGID = 0 0 1 2 3 4 5 8 9 12 20 29 61 80

Perl module toolchain versions installed:

    Module              Have    
    ------------------- --------
    CPAN                2.00    
    CPAN::Meta          2.120921
    Cwd                 3.40    
    ExtUtils::CBuilder  0.280205
    ExtUtils::Command   1.17    
    ExtUtils::Install   1.55    
    ExtUtils::MakeMaker 6.64    
    ExtUtils::Manifest  1.61    
    ExtUtils::ParseXS   3.18    
    File::Spec          3.40    
    JSON                2.53    
    JSON::PP            2.27200 
    Module::Build       0.4003  
    Module::Signature   n/a     
    Parse::CPAN::Meta   1.4404  
    Test::Harness       3.26    
    Test::More          0.98    
    YAML                0.84    
    YAML::Syck          1.25    
    version             0.9902  


--

Summary of my perl5 (revision 5 version 12 subversion 3) configuration:
   
  Platform:
    osname=darwin, osvers=10.6.0, archname=darwin-thread-multi-2level
    uname='darwin burak.local 10.6.0 darwin kernel version 10.6.0: wed nov 10 18:13:17 pst 2010; root:xnu-1504.9.26~3release_i386 i386 '
    config_args=''
    hint=recommended, useposix=true, d_sigaction=define
    useithreads=define, usemultiplicity=define
    useperlio=define, d_sfio=undef, uselargefiles=define, usesocks=undef
    use64bitint=define, use64bitall=define, uselongdouble=undef
    usemymalloc=n, bincompat5005=undef
  Compiler:
    cc='cc', ccflags ='-fno-common -DPERL_DARWIN -no-cpp-precomp -fno-strict-aliasing -pipe -fstack-protector -I/usr/local/include -I/opt/local/include',
    optimize='-O3',
    cppflags='-no-cpp-precomp -fno-common -DPERL_DARWIN -no-cpp-precomp -fno-strict-aliasing -pipe -fstack-protector -I/usr/local/include -I/opt/local/include'
    ccversion='', gccversion='4.2.1 (Apple Inc. build 5664)', gccosandvers=''
    intsize=4, longsize=8, ptrsize=8, doublesize=8, byteorder=12345678
    d_longlong=define, longlongsize=8, d_longdbl=define, longdblsize=16
    ivtype='long', ivsize=8, nvtype='double', nvsize=8, Off_t='off_t', lseeksize=8
    alignbytes=8, prototype=define
  Linker and Libraries:
    ld='env MACOSX_DEPLOYMENT_TARGET=10.3 cc', ldflags =' -fstack-protector -L/usr/local/lib -L/opt/local/lib'
    libpth=/usr/local/lib /opt/local/lib /usr/lib
    libs=-lgdbm -ldbm -ldl -lm -lutil -lc
    perllibs=-ldl -lm -lutil -lc
    libc=/usr/lib/libc.dylib, so=dylib, useshrplib=false, libperl=libperl.a
    gnulibc_version=''
  Dynamic Linking:
    dlsrc=dl_dlopen.xs, dlext=bundle, d_dlsymun=undef, ccdlflags=' '
    cccdlflags=' ', lddlflags=' -bundle -undefined dynamic_lookup -L/usr/local/lib -L/opt/local/lib -fstack-protector'


Characteristics of this binary (from libperl): 
  Compile-time options: MULTIPLICITY PERL_DONT_CREATE_GVSV
                        PERL_IMPLICIT_CONTEXT PERL_MALLOC_WRAP USE_64_BIT_ALL
                        USE_64_BIT_INT USE_ITHREADS USE_LARGE_FILES
                        USE_PERLIO USE_PERL_ATOF
  Built under darwin
  Compiled at Jan 24 2011 00:48:31
  %ENV:
    PERL5LIB=""
    PERL5OPT=""
    PERL5_CPANPLUS_IS_RUNNING="1236"
    PERL5_CPAN_IS_RUNNING="1236"
  @INC:
    /usr/burak/lib/perl5/site_perl/5.12.3/darwin-thread-multi-2level
    /usr/burak/lib/perl5/site_perl/5.12.3
    /usr/burak/lib/perl5/5.12.3/darwin-thread-multi-2level
    /usr/burak/lib/perl5/5.12.3
    .