Imager v1.027 Perl 5 v5.40.2 x86_64-linux-thread-multi

Status
Pass
From
Slaven Rezić
Dist
Imager v1.027
Platform
Perl 5 v5.40.2 x86_64-linux-thread-multi
Date
2025-05-06 07:52:25
ID
0d21e670-2a4f-11f0-b7cd-780b6e8775ea
This distribution has been tested as part of the CPAN Testers
project, supporting the Perl programming language.  See
http://wiki.cpantesters.org/ for more information or email
questions to cpan-testers-discuss@perl.org


--
Dear Tony Cook,

This is a computer-generated report for Imager-1.027
on perl 5.40.2, created by CPAN-Reporter-1.2020.

Thank you for uploading your work to CPAN.  Congratulations!
All tests were successful.

Sections of this report:

    * Tester comments
    * Program output
    * Prerequisites
    * Environment and other context

------------------------------
TESTER COMMENTS
------------------------------

Additional comments from tester:

none provided

------------------------------
PROGRAM OUTPUT
------------------------------

Output from '/usr/bin/make test':

"/usr/bin/perl" -MExtUtils::Command::MM -e 'cp_nonempty' -- Imager.bs blib/arch/auto/Imager/Imager.bs 644
make[1]: Entering directory '/home/cpansand/.cpan/build/2025050607/Imager-1.027-0/CountColor'
"/usr/bin/perl" -MExtUtils::Command::MM -e 'cp_nonempty' -- CountColor.bs ../blib/arch/auto/Imager/CountColor/CountColor.bs 644
Manifying 1 pod document
make[1]: Leaving directory '/home/cpansand/.cpan/build/2025050607/Imager-1.027-0/CountColor'
make[1]: Entering directory '/home/cpansand/.cpan/build/2025050607/Imager-1.027-0/DynTest'
"/usr/bin/perl" -MExtUtils::Command::MM -e 'cp_nonempty' -- DynTest.bs ../blib/arch/auto/Imager/Filter/DynTest/DynTest.bs 644
make[1]: Leaving directory '/home/cpansand/.cpan/build/2025050607/Imager-1.027-0/DynTest'
make[1]: Entering directory '/home/cpansand/.cpan/build/2025050607/Imager-1.027-0/FT2'
"/usr/bin/perl" -MExtUtils::Command::MM -e 'cp_nonempty' -- FT2.bs ../blib/arch/auto/Imager/Font/FT2/FT2.bs 644
Manifying 1 pod document
make[1]: Leaving directory '/home/cpansand/.cpan/build/2025050607/Imager-1.027-0/FT2'
make[1]: Entering directory '/home/cpansand/.cpan/build/2025050607/Imager-1.027-0/Flines'
"/usr/bin/perl" -MExtUtils::Command::MM -e 'cp_nonempty' -- Flines.bs ../blib/arch/auto/Imager/Filter/Flines/Flines.bs 644
Manifying 1 pod document
make[1]: Leaving directory '/home/cpansand/.cpan/build/2025050607/Imager-1.027-0/Flines'
make[1]: Entering directory '/home/cpansand/.cpan/build/2025050607/Imager-1.027-0/GIF'
"/usr/bin/perl" -MExtUtils::Command::MM -e 'cp_nonempty' -- GIF.bs ../blib/arch/auto/Imager/File/GIF/GIF.bs 644
Manifying 1 pod document
make[1]: Leaving directory '/home/cpansand/.cpan/build/2025050607/Imager-1.027-0/GIF'
make[1]: Entering directory '/home/cpansand/.cpan/build/2025050607/Imager-1.027-0/ICO'
"/usr/bin/perl" -MExtUtils::Command::MM -e 'cp_nonempty' -- ICO.bs ../blib/arch/auto/Imager/File/ICO/ICO.bs 644
Manifying 1 pod document
make[1]: Leaving directory '/home/cpansand/.cpan/build/2025050607/Imager-1.027-0/ICO'
make[1]: Entering directory '/home/cpansand/.cpan/build/2025050607/Imager-1.027-0/JPEG'
"/usr/bin/perl" -MExtUtils::Command::MM -e 'cp_nonempty' -- JPEG.bs ../blib/arch/auto/Imager/File/JPEG/JPEG.bs 644
Manifying 1 pod document
make[1]: Leaving directory '/home/cpansand/.cpan/build/2025050607/Imager-1.027-0/JPEG'
make[1]: Entering directory '/home/cpansand/.cpan/build/2025050607/Imager-1.027-0/Mandelbrot'
"/usr/bin/perl" -MExtUtils::Command::MM -e 'cp_nonempty' -- Mandelbrot.bs ../blib/arch/auto/Imager/Filter/Mandelbrot/Mandelbrot.bs 644
Manifying 1 pod document
make[1]: Leaving directory '/home/cpansand/.cpan/build/2025050607/Imager-1.027-0/Mandelbrot'
make[1]: Entering directory '/home/cpansand/.cpan/build/2025050607/Imager-1.027-0/PNG'
"/usr/bin/perl" -MExtUtils::Command::MM -e 'cp_nonempty' -- PNG.bs ../blib/arch/auto/Imager/File/PNG/PNG.bs 644
Manifying 1 pod document
make[1]: Leaving directory '/home/cpansand/.cpan/build/2025050607/Imager-1.027-0/PNG'
make[1]: Entering directory '/home/cpansand/.cpan/build/2025050607/Imager-1.027-0/SGI'
"/usr/bin/perl" -MExtUtils::Command::MM -e 'cp_nonempty' -- SGI.bs ../blib/arch/auto/Imager/File/SGI/SGI.bs 644
Manifying 1 pod document
make[1]: Leaving directory '/home/cpansand/.cpan/build/2025050607/Imager-1.027-0/SGI'
make[1]: Entering directory '/home/cpansand/.cpan/build/2025050607/Imager-1.027-0/TIFF'
"/usr/bin/perl" -MExtUtils::Command::MM -e 'cp_nonempty' -- TIFF.bs ../blib/arch/auto/Imager/File/TIFF/TIFF.bs 644
Manifying 1 pod document
make[1]: Leaving directory '/home/cpansand/.cpan/build/2025050607/Imager-1.027-0/TIFF'
make[1]: Entering directory '/home/cpansand/.cpan/build/2025050607/Imager-1.027-0/W32'
make[1]: Nothing to be done for 'all'.
make[1]: Leaving directory '/home/cpansand/.cpan/build/2025050607/Imager-1.027-0/W32'
make[1]: Entering directory '/home/cpansand/.cpan/build/2025050607/Imager-1.027-0/CountColor'
"/usr/bin/perl" -MExtUtils::Command::MM -e 'cp_nonempty' -- CountColor.bs ../blib/arch/auto/Imager/CountColor/CountColor.bs 644
PERL_DL_NONLAZY=1 "/usr/bin/perl" "-MExtUtils::Command::MM" "-MTest::Harness" "-e" "undef *Test::Harness::Switches; test_harness(0, '../blib/lib', '../blib/arch')" t/*.t
t/t00countcolor.t .. ok
All tests successful.
Files=1, Tests=9,  1 wallclock secs ( 0.01 usr  0.01 sys +  0.08 cusr  0.03 csys =  0.13 CPU)
Result: PASS
make[1]: Leaving directory '/home/cpansand/.cpan/build/2025050607/Imager-1.027-0/CountColor'
make[1]: Entering directory '/home/cpansand/.cpan/build/2025050607/Imager-1.027-0/DynTest'
"/usr/bin/perl" -MExtUtils::Command::MM -e 'cp_nonempty' -- DynTest.bs ../blib/arch/auto/Imager/Filter/DynTest/DynTest.bs 644
PERL_DL_NONLAZY=1 "/usr/bin/perl" "-MExtUtils::Command::MM" "-MTest::Harness" "-e" "undef *Test::Harness::Switches; test_harness(0, '../blib/lib', '../blib/arch')" t/*.t
t/t00dyntest.t .. ok
All tests successful.
Files=1, Tests=4,  0 wallclock secs ( 0.01 usr  0.01 sys +  0.08 cusr  0.02 csys =  0.12 CPU)
Result: PASS
make[1]: Leaving directory '/home/cpansand/.cpan/build/2025050607/Imager-1.027-0/DynTest'
make[1]: Entering directory '/home/cpansand/.cpan/build/2025050607/Imager-1.027-0/FT2'
"/usr/bin/perl" -MExtUtils::Command::MM -e 'cp_nonempty' -- FT2.bs ../blib/arch/auto/Imager/Font/FT2/FT2.bs 644
PERL_DL_NONLAZY=1 "/usr/bin/perl" "-MExtUtils::Command::MM" "-MTest::Harness" "-e" "undef *Test::Harness::Switches; test_harness(0, '../blib/lib', '../blib/arch')" t/*.t
FreeType2 runtime 2.13.3 compile-time 2.13.3
t/t10ft2.t ..... ok
t/t20thread.t .. ok
t/t90std.t ..... ok
All tests successful.
Files=3, Tests=234,  0 wallclock secs ( 0.04 usr  0.01 sys +  0.31 cusr  0.11 csys =  0.47 CPU)
Result: PASS
make[1]: Leaving directory '/home/cpansand/.cpan/build/2025050607/Imager-1.027-0/FT2'
make[1]: Entering directory '/home/cpansand/.cpan/build/2025050607/Imager-1.027-0/Flines'
"/usr/bin/perl" -MExtUtils::Command::MM -e 'cp_nonempty' -- Flines.bs ../blib/arch/auto/Imager/Filter/Flines/Flines.bs 644
PERL_DL_NONLAZY=1 "/usr/bin/perl" "-MExtUtils::Command::MM" "-MTest::Harness" "-e" "undef *Test::Harness::Switches; test_harness(0, '../blib/lib', '../blib/arch')" t/*.t
t/t00flines.t .. ok
All tests successful.
Files=1, Tests=3,  1 wallclock secs ( 0.02 usr  0.01 sys +  0.09 cusr  0.03 csys =  0.15 CPU)
Result: PASS
make[1]: Leaving directory '/home/cpansand/.cpan/build/2025050607/Imager-1.027-0/Flines'
make[1]: Entering directory '/home/cpansand/.cpan/build/2025050607/Imager-1.027-0/GIF'
"/usr/bin/perl" -MExtUtils::Command::MM -e 'cp_nonempty' -- GIF.bs ../blib/arch/auto/Imager/File/GIF/GIF.bs 644
PERL_DL_NONLAZY=1 "/usr/bin/perl" "-MExtUtils::Command::MM" "-MTest::Harness" "-e" "undef *Test::Harness::Switches; test_harness(0, '../blib/lib', '../blib/arch')" t/*.t
# giflib version (from header) 5.2
t/t10gif.t ..... ok
t/t20new.t ..... ok
t/t30fixed.t ... ok
t/t40limit.t ... ok
t/t50header.t .. ok
All tests successful.
Files=5, Tests=204,  1 wallclock secs ( 0.04 usr  0.01 sys +  0.63 cusr  0.27 csys =  0.95 CPU)
Result: PASS
make[1]: Leaving directory '/home/cpansand/.cpan/build/2025050607/Imager-1.027-0/GIF'
make[1]: Entering directory '/home/cpansand/.cpan/build/2025050607/Imager-1.027-0/ICO'
"/usr/bin/perl" -MExtUtils::Command::MM -e 'cp_nonempty' -- ICO.bs ../blib/arch/auto/Imager/File/ICO/ICO.bs 644
PERL_DL_NONLAZY=1 "/usr/bin/perl" "-MExtUtils::Command::MM" "-MTest::Harness" "-e" "undef *Test::Harness::Switches; test_harness(0, '../blib/lib', '../blib/arch')" t/*.t
t/t10icon.t ......... ok
t/t20readone.t ...... ok
t/t21readmult.t ..... ok
t/t30cursor.t ....... ok
t/t40readcurone.t ... ok
t/t41curmultread.t .. ok
t/t50readfail.t ..... ok
t/t60writefail.t .... ok
t/t70icosing.t ...... ok
t/t71icomult.t ...... ok
t/t72cursing.t ...... ok
t/t73curmult.t ...... ok
All tests successful.
Files=12, Tests=253,  1 wallclock secs ( 0.05 usr  0.02 sys +  0.85 cusr  0.30 csys =  1.22 CPU)
Result: PASS
make[1]: Leaving directory '/home/cpansand/.cpan/build/2025050607/Imager-1.027-0/ICO'
make[1]: Entering directory '/home/cpansand/.cpan/build/2025050607/Imager-1.027-0/JPEG'
"/usr/bin/perl" -MExtUtils::Command::MM -e 'cp_nonempty' -- JPEG.bs ../blib/arch/auto/Imager/File/JPEG/JPEG.bs 644
PERL_DL_NONLAZY=1 "/usr/bin/perl" "-MExtUtils::Command::MM" "-MTest::Harness" "-e" "undef *Test::Harness::Switches; test_harness(0, '../blib/lib', '../blib/arch')" t/*.t
t/t00load.t ... ok
# libjpeg version: libjpeg-turbo version 3.0.2 api 62
t/t10jpeg.t ... ok
t/t20limit.t .. ok
All tests successful.
Files=3, Tests=188,  1 wallclock secs ( 0.02 usr  0.01 sys +  0.39 cusr  0.17 csys =  0.59 CPU)
Result: PASS
make[1]: Leaving directory '/home/cpansand/.cpan/build/2025050607/Imager-1.027-0/JPEG'
make[1]: Entering directory '/home/cpansand/.cpan/build/2025050607/Imager-1.027-0/Mandelbrot'
"/usr/bin/perl" -MExtUtils::Command::MM -e 'cp_nonempty' -- Mandelbrot.bs ../blib/arch/auto/Imager/Filter/Mandelbrot/Mandelbrot.bs 644
PERL_DL_NONLAZY=1 "/usr/bin/perl" "-MExtUtils::Command::MM" "-MTest::Harness" "-e" "undef *Test::Harness::Switches; test_harness(0, '../blib/lib', '../blib/arch')" t/*.t
t/t00mandel.t .. ok
All tests successful.
Files=1, Tests=3,  0 wallclock secs ( 0.01 usr  0.01 sys +  0.06 cusr  0.03 csys =  0.11 CPU)
Result: PASS
make[1]: Leaving directory '/home/cpansand/.cpan/build/2025050607/Imager-1.027-0/Mandelbrot'
make[1]: Entering directory '/home/cpansand/.cpan/build/2025050607/Imager-1.027-0/PNG'
"/usr/bin/perl" -MExtUtils::Command::MM -e 'cp_nonempty' -- PNG.bs ../blib/arch/auto/Imager/File/PNG/PNG.bs 644
PERL_DL_NONLAZY=1 "/usr/bin/perl" "-MExtUtils::Command::MM" "-MTest::Harness" "-e" "undef *Test::Harness::Switches; test_harness(0, '../blib/lib', '../blib/arch')" t/*.t
t/00load.t .. ok
# Library version 10640
t/10png.t ... ok
All tests successful.
Files=2, Tests=260,  0 wallclock secs ( 0.03 usr  0.01 sys +  0.35 cusr  0.09 csys =  0.48 CPU)
Result: PASS
make[1]: Leaving directory '/home/cpansand/.cpan/build/2025050607/Imager-1.027-0/PNG'
make[1]: Entering directory '/home/cpansand/.cpan/build/2025050607/Imager-1.027-0/SGI'
"/usr/bin/perl" -MExtUtils::Command::MM -e 'cp_nonempty' -- SGI.bs ../blib/arch/auto/Imager/File/SGI/SGI.bs 644
PERL_DL_NONLAZY=1 "/usr/bin/perl" "-MExtUtils::Command::MM" "-MTest::Harness" "-e" "undef *Test::Harness::Switches; test_harness(0, '../blib/lib', '../blib/arch')" t/*.t
t/00load.t ... ok
t/10read.t ... ok
t/20write.t .. ok
t/30limit.t .. ok
All tests successful.
Files=4, Tests=175,  1 wallclock secs ( 0.04 usr  0.01 sys +  0.35 cusr  0.12 csys =  0.52 CPU)
Result: PASS
make[1]: Leaving directory '/home/cpansand/.cpan/build/2025050607/Imager-1.027-0/SGI'
make[1]: Entering directory '/home/cpansand/.cpan/build/2025050607/Imager-1.027-0/TIFF'
"/usr/bin/perl" -MExtUtils::Command::MM -e 'cp_nonempty' -- TIFF.bs ../blib/arch/auto/Imager/File/TIFF/TIFF.bs 644
PERL_DL_NONLAZY=1 "/usr/bin/perl" "-MExtUtils::Command::MM" "-MTest::Harness" "-e" "undef *Test::Harness::Switches; test_harness(0, '../blib/lib', '../blib/arch')" t/*.t
# libtiff binary release 4.6.0
# build version date 20230908
# build version 4.6.0
t/10tiff.t .. ok
All tests successful.
Files=1, Tests=258,  0 wallclock secs ( 0.03 usr  0.01 sys +  0.27 cusr  0.09 csys =  0.40 CPU)
Result: PASS
make[1]: Leaving directory '/home/cpansand/.cpan/build/2025050607/Imager-1.027-0/TIFF'
make[1]: Entering directory '/home/cpansand/.cpan/build/2025050607/Imager-1.027-0/W32'
make[1]: Nothing to be done for 'test_dynamic'.
make[1]: Leaving directory '/home/cpansand/.cpan/build/2025050607/Imager-1.027-0/W32'
PERL_DL_NONLAZY=1 "/usr/bin/perl" "-MExtUtils::Command::MM" "-MTest::Harness" "-e" "undef *Test::Harness::Switches; test_harness(0, 'blib/lib', 'blib/arch')" t/*.t t/*/*.t
t/000-load.t ......................... ok
t/100-base/010-introvert.t ........... ok
t/100-base/020-color.t ............... ok
t/100-base/030-countc.t .............. ok
t/100-base/800-tr18561.t ............. ok
t/100-base/801-tr18561b.t ............ ok
t/150-type/020-sixteen.t ............. ok
t/150-type/030-double.t .............. ok
t/150-type/040-palette.t ............. ok
t/150-type/100-masked.t .............. ok
t/200-file/010-iolayer.t ............. ok
t/200-file/100-files.t ............... ok
t/200-file/200-nosuch.t .............. ok
t/200-file/300-raw.t ................. ok
t/200-file/310-pnm.t ................. ok
t/200-file/320-bmp.t ................. ok
t/200-file/330-tga.t ................. ok
t/200-file/400-basic.t ............... ok
t/200-file/450-preload.t ............. ok
t/250-draw/010-draw.t ................ ok
t/250-draw/020-flood.t ............... ok
t/250-draw/030-paste.t ............... ok
t/250-draw/040-rubthru.t ............. ok
t/250-draw/050-polyaa.t .............. ok
t/250-draw/060-polypoly.t ............ ok
t/250-draw/100-fill.t ................ ok
t/250-draw/200-compose.t ............. ok
t/300-transform/010-scale.t .......... ok
t/300-transform/020-combine.t ........ ok
t/300-transform/030-copyflip.t ....... ok
t/300-transform/040-crop.t ........... ok
t/300-transform/050-convert.t ........ ok
t/300-transform/060-map.t ............ ok
t/300-transform/200-trimcolorlist.t .. ok
t/300-transform/210-trim.t ........... ok
t/300-transform/500-trans.t .......... skipped: No Affix::Infix2Postfix
t/300-transform/600-trans2.t ......... ok
t/300-transform/610-postfix.t ........ ok
t/300-transform/620-infix.t .......... ok
t/300-transform/630-assem.t .......... ok
t/350-font/010-font.t ................ ok
t/350-font/020-tt.t .................. ok
t/350-font/030-ttoo.t ................ ok
t/350-font/040-ttstd.t ............... skipped: No tt available
t/350-font/100-texttools.t ........... ok
t/400-filter/010-filters.t ........... ok
t/400-filter/020-autolevels.t ........ ok
t/450-api/100-inline.t ............... skipped: Inline required for testing API
t/450-api/110-inlinectx.t ............ skipped: Inline required for testing API
t/450-api/130-cpp.t .................. skipped: Inline::CPP required for testing C++ compatibility
t/850-thread/010-base.t .............. ok
t/850-thread/100-error.t ............. ok
t/850-thread/110-log.t ............... ok
t/900-util/010-test.t ................ ok
t/900-util/020-error.t ............... ok
t/900-util/030-log.t ................. ok
t/900-util/040-limit.t ............... ok
t/900-util/050-matrix.t .............. ok
t/900-util/060-extutil.t ............. ok
t/900-util/060-hlines.t .............. ok
t/950-kwalitee/010-pod.t ............. skipped: POD only tested under automated or author testing
t/950-kwalitee/020-samples.t ......... ok
t/950-kwalitee/030-podcover.t ........ skipped: Test::Pod::Coverage 1.08 required for POD coverage
t/950-kwalitee/040-strict.t .......... ok
t/950-kwalitee/050-meta.t ............ skipped: Only if automated or author testing
t/950-kwalitee/060-podstruct.t ....... skipped: Pod::Parser 1.50 required for podlinkcheck
t/950-kwalitee/070-mymeta.t .......... skipped: Only if automated or author testing
t/950-kwalitee/080-nousevars.t ....... ok
All tests successful.
Files=68, Tests=4910, 13 wallclock secs ( 0.44 usr  0.15 sys +  5.99 cusr  2.15 csys =  8.73 CPU)
Result: PASS

------------------------------
PREREQUISITES
------------------------------

Prerequisite modules loaded:

requires:

    Module              Need Have    
    ------------------- ---- --------
    Exporter            5.57 5.78    
    Scalar::Util        1.00 1.68    
    Test::More          0.99 1.302204
    XSLoader            0    0.32    

build_requires:

    Module              Need Have    
    ------------------- ---- --------
    ExtUtils::MakeMaker 0    7.70    
    Test::More          0.99 1.302204

configure_requires:

    Module              Need Have    
    ------------------- ---- --------
    ExtUtils::MakeMaker 0    7.70    


------------------------------
ENVIRONMENT AND OTHER CONTEXT
------------------------------

Environment variables:

    LANG = en_US.UTF-8
    PATH = /usr/local/bin:/usr/bin:/bin:/usr/local/sbin:/usr/sbin:/sbin:/home/cpansand/bin/linux-gnu:/home/cpansand/bin/sh:/home/cpansand/bin:/usr/games:/home/cpansand/devel:/home/eserte/src/srezic-misc/scripts
    PERL5LIB = /home/cpansand/.cpan/build/2025050607/File-Object-0.18-0/blib/arch:/home/cpansand/.cpan/build/2025050607/File-Object-0.18-0/blib/lib:/home/cpansand/.cpan/build/2025050607/Class-Utils-0.14-0/blib/arch:/home/cpansand/.cpan/build/2025050607/Class-Utils-0.14-0/blib/lib:/home/cpansand/.cpan/build/2025050607/Error-Pure-0.34-0/blib/arch:/home/cpansand/.cpan/build/2025050607/Error-Pure-0.34-0/blib/lib:/home/cpansand/.cpan/build/2025050607/Error-Pure-Output-Text-0.24-0/blib/arch:/home/cpansand/.cpan/build/2025050607/Error-Pure-Output-Text-0.24-0/blib/lib:/home/cpansand/.cpan/build/2025050607/Test-NoWarnings-1.06-0/blib/arch:/home/cpansand/.cpan/build/2025050607/Test-NoWarnings-1.06-0/blib/lib:/home/cpansand/.cpan/build/2025050607/Readonly-2.05-0/blib/arch:/home/cpansand/.cpan/build/2025050607/Readonly-2.05-0/blib/lib:/home/cpansand/.cpan/build/2025050607/Module-Build-Tiny-0.051-0/blib/arch:/home/cpansand/.cpan/build/2025050607/Module-Build-Tiny-0.051-0/blib/lib:/home/cpansand/.cpan/build/2025050607/ExtUtils-InstallPaths-0.014-0/blib/arch:/home/cpansand/.cpan/build/2025050607/ExtUtils-InstallPaths-0.014-0/blib/lib:/home/cpansand/.cpan/build/2025050607/ExtUtils-Helpers-0.028-0/blib/arch:/home/cpansand/.cpan/build/2025050607/ExtUtils-Helpers-0.028-0/blib/lib:/home/cpansand/.cpan/build/2025050607/ExtUtils-Config-0.010-0/blib/arch:/home/cpansand/.cpan/build/2025050607/ExtUtils-Config-0.010-0/blib/lib
    PERL5OPT = 
    PERL5_CPANPLUS_IS_RUNNING = 1981545
    PERL5_CPAN_IS_RUNNING = 1981545
    PERL5_CPAN_IS_RUNNING_IN_RECURSION = 1981457,1981545
    PERLDOC = -MPod::Perldoc::ToTextOverstrike
    PERL_BATCH = yes
    PERL_CANARY_STABILITY_NOPROMPT = 1
    PERL_CPAN_REPORTER_CONFIG = /var/tmp/cpansmoker-1023/2025050607/cpanreporter_000_config.ini
    PERL_EXTUTILS_AUTOINSTALL = --defaultdeps
    PERL_USE_UNSAFE_INC = 1
    SHELL = /usr/bin/zsh
    TERM = screen
    TMPDIR = /var/tmp/cpansmoker-1023/2025050607

Perl special variables (and OS-specific diagnostics, for MSWin32):

    $^X = /usr/bin/perl
    $UID/$EUID = 1023 / 1023
    $GID = 1023 1023
    $EGID = 1023 1023

Perl module toolchain versions installed:

    Module              Have    
    ------------------- --------
    CPAN                2.38    
    CPAN::Meta          2.150010
    Cwd                 3.91    
    ExtUtils::CBuilder  0.280240
    ExtUtils::Command   7.70    
    ExtUtils::Install   2.22    
    ExtUtils::MakeMaker 7.70    
    ExtUtils::Manifest  1.75    
    ExtUtils::ParseXS   3.51    
    File::Spec          3.91    
    JSON                n/a     
    JSON::PP            4.16    
    Module::Build       0.4234  
    Module::Signature   0.89    
    Parse::CPAN::Meta   2.150010
    Test2               1.302204
    Test::Harness       3.50    
    Test::More          1.302204
    YAML                n/a     
    YAML::Syck          1.34    
    version             0.9933  


--

Summary of my perl5 (revision 5 version 40 subversion 2) configuration:
   
  Platform:
    osname=linux
    osvers=6.11.0
    archname=x86_64-linux-thread-multi
    uname='linux localhost 6.11.0 #1 smp preempt_dynamic 6.11.0 x86_64 gnulinux '
    config_args='-des -Doptimize=none -Dccflags=-O2 -flto=auto -ffat-lto-objects -fexceptions -g -grecord-gcc-switches -pipe -Wall -Wno-complain-wrong-lang -Werror=format-security -Wp,-U_FORTIFY_SOURCE,-D_FORTIFY_SOURCE=3 -Wp,-D_GLIBCXX_ASSERTIONS -specs=/usr/lib/rpm/redhat/redhat-hardened-cc1 -fstack-protector-strong -specs=/usr/lib/rpm/redhat/redhat-annobin-cc1  -m64 -march=x86-64 -mtune=generic -fasynchronous-unwind-tables -fstack-clash-protection -fcf-protection -mtls-dialect=gnu2 -fno-omit-frame-pointer -mno-omit-leaf-frame-pointer -Dldflags=-Wl,-z,relro -Wl,--as-needed  -Wl,-z,pack-relative-relocs -Wl,-z,now -specs=/usr/lib/rpm/redhat/redhat-hardened-ld -specs=/usr/lib/rpm/redhat/redhat-annobin-cc1  -Wl,--build-id=sha1   -Dccdlflags=-Wl,--enable-new-dtags -Wl,-z,relro -Wl,--as-needed  -Wl,-z,pack-relative-relocs -Wl,-z,now -specs=/usr/lib/rpm/redhat/redhat-hardened-ld -specs=/usr/lib/rpm/redhat/redhat-annobin-cc1  -Wl,--build-id=sha1   -Dlddlflags=-shared -Wl,-z,relro -Wl,--as-needed  -Wl,-z,pack-relative-relocs -Wl,-z,now -specs=/usr/lib/rpm/redhat/redhat-hardened-ld -specs=/usr/lib/rpm/redhat/redhat-annobin-cc1  -Wl,--build-id=sha1   -Dshrpdir=/usr/lib64 -DDEBUGGING=-g -Dversion=5.40.2 -Dmyhostname=localhost -Dperladmin=root@localhost -Dcc=gcc -Dcf_by=Red Hat, Inc. -Dprefix=/usr -Dman1dir=/usr/share/man/man1 -Dman3dir=/usr/share/man/man3 -Dvendorprefix=/usr -Dsiteprefix=/usr/local -Dsitelib=/usr/local/share/perl5/5.40 -Dsitearch=/usr/local/lib64/perl5/5.40 -Dprivlib=/usr/share/perl5 -Dvendorlib=/usr/share/perl5/vendor_perl -Darchlib=/usr/lib64/perl5 -Dvendorarch=/usr/lib64/perl5/vendor_perl -Darchname=x86_64-linux-thread-multi -Dlibpth=/usr/local/lib64 /lib64 /usr/lib64 -Duseshrplib -Dusethreads -Duseithreads -Dusedtrace=/usr/bin/dtrace -Duselargefiles -Dd_semctl_semun -Di_db -Ui_ndbm -Di_gdbm -Di_shadow -Di_syslog -Dman3ext=3pm -Duseperlio -Dinstallusrbinperl=n -Ubincompat5005 -Uversiononly -Dpager=/usr/bin/less -isr -Dd_gethostent_r_proto -Ud_endhostent_r_proto -Ud_sethostent_r_proto -Ud_endprotoent_r_proto -Ud_setprotoent_r_proto -Ud_endservent_r_proto -Ud_setservent_r_proto -Dscriptdir=/usr/bin -Dusesitecustomize -Duse64bitint'
    hint=recommended
    useposix=true
    d_sigaction=define
    useithreads=define
    usemultiplicity=define
    use64bitint=define
    use64bitall=define
    uselongdouble=undef
    usemymalloc=n
    default_inc_excludes_dot=define
  Compiler:
    cc='gcc'
    ccflags ='-D_REENTRANT -D_GNU_SOURCE -O2 -flto=auto -ffat-lto-objects -fexceptions -g -grecord-gcc-switches -pipe -Wall -Wno-complain-wrong-lang -Werror=format-security -Wp,-U_FORTIFY_SOURCE,-D_FORTIFY_SOURCE=3 -Wp,-D_GLIBCXX_ASSERTIONS -specs=/usr/lib/rpm/redhat/redhat-hardened-cc1 -fstack-protector-strong -specs=/usr/lib/rpm/redhat/redhat-annobin-cc1 -m64 -march=x86-64 -mtune=generic -fasynchronous-unwind-tables -fstack-clash-protection -fcf-protection -mtls-dialect=gnu2 -fno-omit-frame-pointer -mno-omit-leaf-frame-pointer -fwrapv -fno-strict-aliasing -I/usr/local/include -D_LARGEFILE_SOURCE -D_FILE_OFFSET_BITS=64'
    optimize='  -g'
    cppflags='-D_REENTRANT -D_GNU_SOURCE -O2 -flto=auto -ffat-lto-objects -fexceptions -g -grecord-gcc-switches -pipe -Wall -Wno-complain-wrong-lang -Werror=format-security -Wp,-U_FORTIFY_SOURCE,-D_FORTIFY_SOURCE=3 -Wp,-D_GLIBCXX_ASSERTIONS -specs=/usr/lib/rpm/redhat/redhat-hardened-cc1 -fstack-protector-strong -specs=/usr/lib/rpm/redhat/redhat-annobin-cc1 -m64 -march=x86-64 -mtune=generic -fasynchronous-unwind-tables -fstack-clash-protection -fcf-protection -mtls-dialect=gnu2 -fno-omit-frame-pointer -mno-omit-leaf-frame-pointer -fwrapv -fno-strict-aliasing -I/usr/local/include'
    ccversion=''
    gccversion='14.2.1 20250110 (Red Hat 14.2.1-7)'
    gccosandvers=''
    intsize=4
    longsize=8
    ptrsize=8
    doublesize=8
    byteorder=12345678
    doublekind=3
    d_longlong=define
    longlongsize=8
    d_longdbl=define
    longdblsize=16
    longdblkind=3
    ivtype='long'
    ivsize=8
    nvtype='double'
    nvsize=8
    Off_t='off_t'
    lseeksize=8
    alignbytes=8
    prototype=define
  Linker and Libraries:
    ld='gcc'
    ldflags ='-Wl,-z,relro -Wl,--as-needed -Wl,-z,pack-relative-relocs -Wl,-z,now -specs=/usr/lib/rpm/redhat/redhat-hardened-ld -specs=/usr/lib/rpm/redhat/redhat-annobin-cc1 -Wl,--build-id=sha1  -fstack-protector-strong -L/usr/local/lib'
    libpth=/usr/local/lib64 /lib64 /usr/lib64 /usr/local/lib /usr/lib
    libs=-lpthread -lresolv -lgdbm -ldb -ldl -lm -lcrypt -lutil -lc -lgdbm_compat
    perllibs=-lpthread -lresolv -ldl -lm -lcrypt -lutil -lc
    libc=/lib/../lib64/libc.so.6
    so=so
    useshrplib=true
    libperl=libperl.so
    gnulibc_version='2.40'
  Dynamic Linking:
    dlsrc=dl_dlopen.xs
    dlext=so
    d_dlsymun=undef
    ccdlflags='-Wl,--enable-new-dtags -Wl,-z,relro -Wl,--as-needed -Wl,-z,pack-relative-relocs -Wl,-z,now -specs=/usr/lib/rpm/redhat/redhat-hardened-ld -specs=/usr/lib/rpm/redhat/redhat-annobin-cc1 -Wl,--build-id=sha1 '
    cccdlflags='-fPIC'
    lddlflags='-lpthread -shared -Wl,-z,relro -Wl,--as-needed -Wl,-z,pack-relative-relocs -Wl,-z,now -specs=/usr/lib/rpm/redhat/redhat-hardened-ld -specs=/usr/lib/rpm/redhat/redhat-annobin-cc1 -Wl,--build-id=sha1  -L/usr/local/lib -fstack-protector-strong'


Characteristics of this binary (from libperl): 
  Compile-time options:
    HAS_LONG_DOUBLE
    HAS_STRTOLD
    HAS_TIMES
    MULTIPLICITY
    PERLIO_LAYERS
    PERL_COPY_ON_WRITE
    PERL_DONT_CREATE_GVSV
    PERL_HASH_FUNC_SIPHASH13
    PERL_HASH_USE_SBOX32
    PERL_MALLOC_WRAP
    PERL_OP_PARENT
    PERL_PRESERVE_IVUV
    PERL_USE_SAFE_PUTENV
    USE_64_BIT_ALL
    USE_64_BIT_INT
    USE_ITHREADS
    USE_LARGE_FILES
    USE_LOCALE
    USE_LOCALE_COLLATE
    USE_LOCALE_CTYPE
    USE_LOCALE_NUMERIC
    USE_LOCALE_TIME
    USE_PERLIO
    USE_PERL_ATOF
    USE_REENTRANT_API
    USE_SITECUSTOMIZE
    USE_THREAD_SAFE_LOCALE
  Locally applied patches:
    Fedora Patch1: Removes date check, Fedora/RHEL specific
    Fedora Patch2: support for libdir64
    Fedora Patch3: use libresolv instead of libbind
    Fedora Patch4: USE_MM_LD_RUN_PATH
    Fedora Patch5: Provide MM::maybe_command independently (bug #1129443)
    Fedora Patch6: Dont run one io test due to random builder failures
    Fedora Patch8: Define SONAME for libperl.so
    Fedora Patch9: Install libperl.so to -Dshrpdir value
    Fedora Patch10: Make *DBM_File desctructors thread-safe (RT#61912)
    Fedora Patch11: Replace EU::MakeMaker dependency with EU::MM::Utils in IPC::Cmd (bug #1129443)
    Fedora Patch12: Link XS modules to pthread library to fix linking with -z defs
    Fedora Patch13: Pass the correct CFLAGS to dtrace
    Fedora Patch200: Link XS modules to libperl.so with EU::CBuilder on Linux
    Fedora Patch201: Link XS modules to libperl.so with EU::MM on Linux
    Fedora Patch202: Add definition of OPTIMIZE to .ph files
  Built under linux
  Compiled at Apr 14 2025 00:00:00
  %ENV:
    PERL5LIB="/home/cpansand/.cpan/build/2025050607/File-Object-0.18-0/blib/arch:/home/cpansand/.cpan/build/2025050607/File-Object-0.18-0/blib/lib:/home/cpansand/.cpan/build/2025050607/Class-Utils-0.14-0/blib/arch:/home/cpansand/.cpan/build/2025050607/Class-Utils-0.14-0/blib/lib:/home/cpansand/.cpan/build/2025050607/Error-Pure-0.34-0/blib/arch:/home/cpansand/.cpan/build/2025050607/Error-Pure-0.34-0/blib/lib:/home/cpansand/.cpan/build/2025050607/Error-Pure-Output-Text-0.24-0/blib/arch:/home/cpansand/.cpan/build/2025050607/Error-Pure-Output-Text-0.24-0/blib/lib:/home/cpansand/.cpan/build/2025050607/Test-NoWarnings-1.06-0/blib/arch:/home/cpansand/.cpan/build/2025050607/Test-NoWarnings-1.06-0/blib/lib:/home/cpansand/.cpan/build/2025050607/Readonly-2.05-0/blib/arch:/home/cpansand/.cpan/build/2025050607/Readonly-2.05-0/blib/lib:/home/cpansand/.cpan/build/2025050607/Module-Build-Tiny-0.051-0/blib/arch:/home/cpansand/.cpan/build/2025050607/Module-Build-Tiny-0.051-0/blib/lib:/home/cpansand/.cpan/build/2025050607/ExtUtils-InstallPaths-0.014-0/blib/arch:/home/cpansand/.cpan/build/2025050607/ExtUtils-InstallPaths-0.014-0/blib/lib:/home/cpansand/.cpan/build/2025050607/ExtUtils-Helpers-0.028-0/blib/arch:/home/cpansand/.cpan/build/2025050607/ExtUtils-Helpers-0.028-0/blib/lib:/home/cpansand/.cpan/build/2025050607/ExtUtils-Config-0.010-0/blib/arch:/home/cpansand/.cpan/build/2025050607/ExtUtils-Config-0.010-0/blib/lib"
    PERL5OPT=""
    PERL5_CPANPLUS_IS_RUNNING="1981545"
    PERL5_CPAN_IS_RUNNING="1981545"
    PERL5_CPAN_IS_RUNNING_IN_RECURSION="1981457,1981545"
    PERLDOC="-MPod::Perldoc::ToTextOverstrike"
    PERL_BATCH="yes"
    PERL_CANARY_STABILITY_NOPROMPT="1"
    PERL_CPAN_REPORTER_CONFIG="/var/tmp/cpansmoker-1023/2025050607/cpanreporter_000_config.ini"
    PERL_EXTUTILS_AUTOINSTALL="--defaultdeps"
    PERL_USE_UNSAFE_INC="1"
  @INC:
    /home/cpansand/.cpan/build/2025050607/File-Object-0.18-0/blib/arch
    /home/cpansand/.cpan/build/2025050607/File-Object-0.18-0/blib/lib
    /home/cpansand/.cpan/build/2025050607/Class-Utils-0.14-0/blib/arch
    /home/cpansand/.cpan/build/2025050607/Class-Utils-0.14-0/blib/lib
    /home/cpansand/.cpan/build/2025050607/Error-Pure-0.34-0/blib/arch
    /home/cpansand/.cpan/build/2025050607/Error-Pure-0.34-0/blib/lib
    /home/cpansand/.cpan/build/2025050607/Error-Pure-Output-Text-0.24-0/blib/arch
    /home/cpansand/.cpan/build/2025050607/Error-Pure-Output-Text-0.24-0/blib/lib
    /home/cpansand/.cpan/build/2025050607/Test-NoWarnings-1.06-0/blib/arch
    /home/cpansand/.cpan/build/2025050607/Test-NoWarnings-1.06-0/blib/lib
    /home/cpansand/.cpan/build/2025050607/Readonly-2.05-0/blib/arch
    /home/cpansand/.cpan/build/2025050607/Readonly-2.05-0/blib/lib
    /home/cpansand/.cpan/build/2025050607/Module-Build-Tiny-0.051-0/blib/arch
    /home/cpansand/.cpan/build/2025050607/Module-Build-Tiny-0.051-0/blib/lib
    /home/cpansand/.cpan/build/2025050607/ExtUtils-InstallPaths-0.014-0/blib/arch
    /home/cpansand/.cpan/build/2025050607/ExtUtils-InstallPaths-0.014-0/blib/lib
    /home/cpansand/.cpan/build/2025050607/ExtUtils-Helpers-0.028-0/blib/arch
    /home/cpansand/.cpan/build/2025050607/ExtUtils-Helpers-0.028-0/blib/lib
    /home/cpansand/.cpan/build/2025050607/ExtUtils-Config-0.010-0/blib/arch
    /home/cpansand/.cpan/build/2025050607/ExtUtils-Config-0.010-0/blib/lib
    /usr/local/lib64/perl5/5.40
    /usr/local/share/perl5/5.40
    /usr/lib64/perl5/vendor_perl
    /usr/share/perl5/vendor_perl
    /usr/lib64/perl5
    /usr/share/perl5
    .