Fl v0.99.15 Perl 5 v5.31.8 x86_64-linux

Status
Pass
From
Slaven Rezić (SREZIC)
Dist
Fl v0.99.15
Platform
Perl 5 v5.31.8 x86_64-linux
Date
2020-01-23 23:57:01
ID
0c88148c-3e3c-11ea-b1d1-01781f24ea8f
This distribution has been tested as part of the CPAN Testers
project, supporting the Perl programming language.  See
http://wiki.cpantesters.org/ for more information or email
questions to cpan-testers-discuss@perl.org


--
Dear Sanko Robinson,

This is a computer-generated report for Fl-0.99.15
on perl 5.31.8, created by CPAN-Reporter-1.2018.

Thank you for uploading your work to CPAN.  Congratulations!
All tests were successful.

Sections of this report:

    * Tester comments
    * Program output
    * Prerequisites
    * Environment and other context

------------------------------
TESTER COMMENTS
------------------------------

Additional comments from tester:

none provided

------------------------------
PROGRAM OUTPUT
------------------------------

Output from './Build test':

t/00_compile.t ................. ok
t/01_hello_world.t ............. ok
t/04_fl_color_can_ok.t ......... ok
t/02_fl_event_can_ok.t ......... ok
t/21_fl_box.t .................. ok
t/03_fl_enumerations_can_ok.t .. ok
t/23_fl_lightbutton.t .......... ok
t/24_fl_checkbutton.t .......... ok
t/05_fl_clipboard_can_ok.t ..... ok
t/22_fl_button.t ............... ok
t/25_fl_returnbutton.t ......... ok
t/26_fl_repeatbutton.t ......... ok
t/27_fl_roundbutton.t .......... ok
t/28_fl_radioroundbutton.t ..... ok
t/29_fl_radiobutton.t .......... ok
t/30_fl_radiolightbutton.t ..... ok
t/31_fl_togglebutton.t ......... ok
t/33_fl_secretinput.t .......... ok
t/34_fl_floatinput.t ........... ok
t/35_fl_intinput.t ............. ok
t/36_fl_multilineinput.t ....... ok
t/39_fl_counter.t .............. ok
t/38_fl_adjustor.t ............. ok
t/37_fl_valuator.t ............. ok
t/40_fl_simplecounter.t ........ ok
t/42_fl_filldial.t ............. ok
t/41_fl_dial.t ................. ok
t/32_fl_input.t ................ ok
t/43_fl_linedial.t ............. ok
t/32_fl_chart.t ................ ok
t/45_fl_output.t ............... ok
t/44_fl_roller.t ............... ok
t/46_fl_multilineoutput.t ...... ok
t/47_fl_progress.t ............. ok
t/51_fl_window.t ............... ok
t/50_fl_group.t ................ ok
t/56_fl_menubutton.t ........... ok
t/60_fl_htmlview.t ............. ok
t/48_fl_inputchoice.t .......... ok
t/71_fl_valueinput.t ........... ok
t/81_fl_fillslider.t ........... ok
t/70_fl_valueoutput.t .......... ok
t/80_fl_slider.t ............... ok
t/82_fl_horfillslider.t ........ ok
t/83_fl_horniceslider.t ........ ok
t/85_fl_niceslider.t ........... ok
t/84_fl_horslider.t ............ ok
t/86_fl_scrollbar.t ............ ok
t/88_fl_horvalueslider.t ....... ok
t/55_fl_menu.t ................. ok
t/87_fl_valueslider.t .......... ok
t/89_fl_tabs.t ................. ok
t/90_fltk_namespace_alias.t .... ok
t/91_fl_type.t ................. ok
All tests successful.
Files=54, Tests=369,  2 wallclock secs ( 0.10 usr  0.86 sys +  2.00 cusr  1.07 csys =  4.03 CPU)
Result: PASS

------------------------------
PREREQUISITES
------------------------------

Prerequisite modules loaded:

requires:

    Module                Need     Have    
    --------------------- -------- --------
    perl                  5.008001 5.031008

build_requires:

    Module                Need     Have    
    --------------------- -------- --------
    ExtUtils::CBuilder    0        0.280233
    Test::More            0.98     1.302171
    Test::NeedsDisplay    0        1.07    

configure_requires:

    Module                Need     Have    
    --------------------- -------- --------
    Alien::FLTK           v1.3.5   v1.3.5  
    Module::Build         0.4005   0.4229  
    Module::Build::XSUtil 0.03     0.19    
    Template::Liquid      0        1.0.10  
    Test::NeedsDisplay    0        1.07    


------------------------------
ENVIRONMENT AND OTHER CONTEXT
------------------------------

Environment variables:

    LANG = C
    PATH = /usr/local/bin:/usr/bin:/bin:/usr/local/sbin:/usr/sbin:/sbin:/home/cpansand/bin/linux-gnu:/home/cpansand/bin/sh:/home/cpansand/bin:/usr/games:/home/cpansand/devel:/home/eserte/src/srezic-misc/scripts
    PERL5LIB = 
    PERL5OPT = 
    PERL5_CPANPLUS_IS_RUNNING = 922
    PERL5_CPAN_IS_RUNNING = 922
    PERL5_CPAN_IS_RUNNING_IN_RECURSION = 4363,922
    PERLDOC = -MPod::Perldoc::ToTextOverstrike
    PERL_BATCH = yes
    PERL_CANARY_STABILITY_NOPROMPT = 1
    PERL_CPAN_REPORTER_CONFIG = /var/tmp/cpansmoker-1023/2020012319/cpanreporter_000_config.ini
    PERL_EXTUTILS_AUTOINSTALL = --defaultdeps
    PERL_USE_UNSAFE_INC = 1
    SHELL = /usr/bin/zsh
    TERM = screen
    TMPDIR = /var/tmp/cpansmoker-1023/2020012319

Perl special variables (and OS-specific diagnostics, for MSWin32):

    $^X = /opt/perl-5.31.8/bin/perl5.31.8
    $UID/$EUID = 1023 / 1023
    $GID = 1023 1023
    $EGID = 1023 1023

Perl module toolchain versions installed:

    Module              Have    
    ------------------- --------
    CPAN                2.27    
    CPAN::Meta          2.150010
    Cwd                 3.78    
    ExtUtils::CBuilder  0.280233
    ExtUtils::Command   7.44    
    ExtUtils::Install   2.14    
    ExtUtils::MakeMaker 7.44    
    ExtUtils::Manifest  1.72    
    ExtUtils::ParseXS   3.40    
    File::Spec          3.78    
    JSON                4.02    
    JSON::PP            4.04    
    Module::Build       0.4229  
    Module::Signature   n/a     
    Parse::CPAN::Meta   2.150010
    Test::Harness       3.42    
    Test::More          1.302171
    YAML                1.29    
    YAML::Syck          1.31    
    version             0.9924  


--

Summary of my perl5 (revision 5 version 31 subversion 8) configuration:
   
  Platform:
    osname=linux
    osvers=4.9.0-8-amd64
    archname=x86_64-linux
    uname='linux eserte 4.9.0-8-amd64 #1 smp debian 4.9.144-3 (2019-02-02) x86_64 gnulinux '
    config_args='-ds -e -Dprefix=/opt/perl-5.31.8 -Dusedevel -Dusemallocwrap=no -Dcf_email=srezic@cpan.org'
    hint=recommended
    useposix=true
    d_sigaction=define
    useithreads=undef
    usemultiplicity=undef
    use64bitint=define
    use64bitall=define
    uselongdouble=undef
    usemymalloc=n
    default_inc_excludes_dot=define
    bincompat5005=undef
  Compiler:
    cc='cc'
    ccflags ='-fwrapv -fno-strict-aliasing -pipe -fstack-protector-strong -I/usr/local/include -D_LARGEFILE_SOURCE -D_FILE_OFFSET_BITS=64 -D_FORTIFY_SOURCE=2'
    optimize='-O2'
    cppflags='-fwrapv -fno-strict-aliasing -pipe -fstack-protector-strong -I/usr/local/include'
    ccversion=''
    gccversion='6.3.0 20170516'
    gccosandvers=''
    intsize=4
    longsize=8
    ptrsize=8
    doublesize=8
    byteorder=12345678
    doublekind=3
    d_longlong=define
    longlongsize=8
    d_longdbl=define
    longdblsize=16
    longdblkind=3
    ivtype='long'
    ivsize=8
    nvtype='double'
    nvsize=8
    Off_t='off_t'
    lseeksize=8
    alignbytes=8
    prototype=define
  Linker and Libraries:
    ld='cc'
    ldflags =' -fstack-protector-strong -L/usr/local/lib'
    libpth=/usr/local/lib /usr/lib/gcc/x86_64-linux-gnu/6/include-fixed /usr/include/x86_64-linux-gnu /usr/lib /lib/x86_64-linux-gnu /lib/../lib /usr/lib/x86_64-linux-gnu /usr/lib/../lib /lib
    libs=-lpthread -lnsl -lgdbm -ldb -ldl -lm -lcrypt -lutil -lc -lgdbm_compat
    perllibs=-lpthread -lnsl -ldl -lm -lcrypt -lutil -lc
    libc=libc-2.24.so
    so=so
    useshrplib=false
    libperl=libperl.a
    gnulibc_version='2.24'
  Dynamic Linking:
    dlsrc=dl_dlopen.xs
    dlext=so
    d_dlsymun=undef
    ccdlflags='-Wl,-E'
    cccdlflags='-fPIC'
    lddlflags='-shared -O2 -L/usr/local/lib -fstack-protector-strong'


Characteristics of this binary (from libperl): 
  Compile-time options:
    HAS_TIMES
    PERLIO_LAYERS
    PERL_COPY_ON_WRITE
    PERL_DONT_CREATE_GVSV
    PERL_OP_PARENT
    PERL_PRESERVE_IVUV
    PERL_USE_DEVEL
    USE_64_BIT_ALL
    USE_64_BIT_INT
    USE_LARGE_FILES
    USE_LOCALE
    USE_LOCALE_COLLATE
    USE_LOCALE_CTYPE
    USE_LOCALE_NUMERIC
    USE_LOCALE_TIME
    USE_PERLIO
    USE_PERL_ATOF
  Built under linux
  Compiled at Jan 23 2020 18:26:45
  %ENV:
    PERL5LIB=""
    PERL5OPT=""
    PERL5_CPANPLUS_IS_RUNNING="922"
    PERL5_CPAN_IS_RUNNING="922"
    PERL5_CPAN_IS_RUNNING_IN_RECURSION="4363,922"
    PERLDOC="-MPod::Perldoc::ToTextOverstrike"
    PERL_BATCH="yes"
    PERL_CANARY_STABILITY_NOPROMPT="1"
    PERL_CPAN_REPORTER_CONFIG="/var/tmp/cpansmoker-1023/2020012319/cpanreporter_000_config.ini"
    PERL_EXTUTILS_AUTOINSTALL="--defaultdeps"
    PERL_USE_UNSAFE_INC="1"
  @INC:
    /opt/perl-5.31.8/lib/site_perl/5.31.8/x86_64-linux
    /opt/perl-5.31.8/lib/site_perl/5.31.8
    /opt/perl-5.31.8/lib/5.31.8/x86_64-linux
    /opt/perl-5.31.8/lib/5.31.8
    .