Back
From: metabase:user:315f03b2-2aae-11df-837a-5e0a49663a4f
Subject: PASS WebService-GData-0.0409 v5.14.1 SunOS/Solaris
Date: 2011-08-21T17:36:06Z
This distribution has been tested as part of the CPAN Testers
project, supporting the Perl programming language. See
http://wiki.cpantesters.org/ for more information or email
questions to cpan-testers-discuss@perl.org
--
Dear shirirules,
This is a computer-generated report for WebService-GData-0.0409
on perl 5.14.1, created by CPAN-Reporter-1.1902.
Thank you for uploading your work to CPAN. Congratulations!
All tests were successful.
Sections of this report:
* Tester comments
* Program output
* Prerequisites
* Environment and other context
------------------------------
TESTER COMMENTS
------------------------------
Additional comments from tester:
this report is from an automated smoke testing program
and was not reviewed by a human for accuracy
------------------------------
PROGRAM OUTPUT
------------------------------
Output from '/usr/local/bin/make test':
PERL_DL_NONLAZY=1 /export/home/smoke/perl5/perlbrew/perls/perl-5.14.1/bin/perl "-MExtUtils::Command::MM" "-e" "test_harness(0, 'inc', 'blib/lib', 'blib/arch')" t/*.t
t/00-WebService-GData-load.t ................................. ok
t/01-WebService-GData-instance.t ............................. ok
t/02-WebService-GData-install_in_package.t ................... ok
t/03-WebService-GData-Constants-load.t ....................... ok
t/04-WebService-GData-Constants-noimport.t ................... ok
t/05-WebService-GData-Constants-import-service.t ............. ok
t/06-WebService-GData-Constants-import-format.t .............. ok
t/07-WebService-GData-Constants-import-general.t ............. ok
t/08-WebService-GData-Constants-import-namespaces.t .......... ok
t/09-WebService-GData-Error-Entry-load.t ..................... ok
t/10-WebService-GData-Error-Entry-instance.t ................. ok
t/11-WebService-GData-Error-Entry-parsexml.t ................. ok
t/12-WebService-GData-Error-Entry-createxml.t ................ ok
t/13-WebService-GData-Error-load.t ........................... ok
t/14-WebService-GData-Error-instance.t ....................... ok
t/15-WebService-GData-Error-parsexml.t ....................... ok
t/16-WebService-GData-Query-load.t ........................... ok
t/17-WebService-GData-Query-instance.t ....................... ok
t/18-WebService-GData-YouTube-Query-load.t ................... ok
t/19-WebService-GData-YouTube-Query-instance.t ............... ok
t/20-WebService-GData-Base-load.t ............................ ok
t/21-WebService-GData-Base-instance.t ........................ ok
t/22-WebService-GData-Base-mockrequest.t ..................... ok
t/23-WebService-GData-ClientLogin-load.t ..................... ok
t/24-WebService-GData-ClientLogin-mockrequest.t .............. ok
t/25-WebService-GData-ClientLogin-fail.t ..................... ok
t/26-WebService-GData-ClientLogin-requestservice.t ........... skipped: Crypt::SSLeay must be installed to test ClientLogin live...
t/27-WebService-GData-Node-load.t ............................ ok
t/28-WebService-GData-Node-Link-load.t ....................... ok
t/29-WebService-GData-Node-Link-instance.t ................... ok
t/30-WebService-GData-Node-Category-load.t ................... ok
t/31-WebService-GData-Node-Category-instance.t ............... ok
t/32-WebService-GData-Node-Content-load.t .................... ok
t/33-WebService-GData-Node-Content-instance.t ................ ok
t/34-WebService-GData-Node-Media-Content-instance.t .......... ok
t/35-WebService-GData-Node-GeoRSS-GML-instance.t ............. ok
t/36-WebService-GData-Node-AuthorEntity-load.t ............... ok
t/37-WebService-GData-Node-AuthorEntity-instance.t ........... ok
t/38-WebService-GData-Node-PointEntity-load.t ................ ok
t/39-WebService-GData-Node-PointEntity-instance.t ............ ok
t/40-WebService-GData-Collection-load.t ...................... ok
t/41-WebService-GData-Collection-instance.t .................. ok
t/42-WebService-GData-Node-Atom-FeedEntity-instance.t ........ ok
t/43-WebService-GData-Node-Atom-FeedEntity-emptyinstance.t ... ok
t/44-WebService-GData-Feed-load.t ............................ ok
t/45-WebService-GData-Feed-instance.t ........................ ok
t/46-WebService-GData-Feed-instance.t ........................ ok
t/47-WebService-GData-Feed-Entry-load.t ...................... ok
t/48-WebService-GData-Feed-Entry-instance.t .................. ok
t/49-WebService-GData-YouTube-Constants-load.t ............... ok
t/50-WebService-GData-YouTube-Constants-noimport.t ........... ok
t/51-WebService-GData-YouTube-Constants-imported.t ........... ok
t/52-WebService-GData-YouTube-load.t ......................... ok
t/53-WebService-GData-YouTube-Node-AccessControl-instance.t .. ok
t/54-WebService-GData-YouTube-Node-AboutMe-instance.t ........ ok
t/55-WebService-GData-YouTube-Feed-Video-load.t .............. ok
t/56-WebService-GData-YouTube-Feed-Video-instance.t .......... ok
t/57-WebService-Gdata-Youtube-StagingServer.t ................ ok
t/58-WebService-GData-YouTube-Feed-UserProfile-instance.t .... ok
t/59-WebService-GData-YouTube-Feed-Complaint-instance.t ...... ok
t/60-WebService-GData-YouTube-Feed-VideoMessage-instance.t ... ok
All tests successful.
Files=61, Tests=339, 11 wallclock secs ( 0.69 usr 0.25 sys + 8.87 cusr 1.16 csys = 10.97 CPU)
Result: PASS
------------------------------
PREREQUISITES
------------------------------
Prerequisite modules loaded:
requires:
Module Need Have
------------------- -------- --------
JSON 2 2.53
LWP 0 6.02
perl 5.008008 5.014001
Test::Mock::LWP 0.05 0.06
Test::More 0 0.98
build_requires:
Module Need Have
------------------- -------- --------
ExtUtils::MakeMaker 6.42 6.57_05
configure_requires:
Module Need Have
------------------- -------- --------
ExtUtils::MakeMaker 6.42 6.57_05
------------------------------
ENVIRONMENT AND OTHER CONTEXT
------------------------------
Environment variables:
AUTOMATED_TESTING = 1
LANG = en_US.UTF-8
LC_CTYPE = en_US.UTF-8
PATH = /export/home/smoke/perl5/perlbrew/bin:/export/home/smoke/perl5/perlbrew/perls/perl-5.14.1/bin:/usr/ccs/bin:/usr/local/bin:/usr/bin
PATH_WITHOUT_PERLBREW = /usr/ccs/bin:/usr/local/bin:/usr/bin
PERL5LIB =
PERL5OPT =
PERL5_CPANPLUS_IS_RUNNING = 29170
PERL5_CPAN_IS_RUNNING = 29170
PERL5_CPAN_IS_RUNNING_IN_RECURSION = 24454,29170
PERLBREW_PATH = /export/home/smoke/perl5/perlbrew/bin:/export/home/smoke/perl5/perlbrew/perls/perl-5.14.1/bin
PERLBREW_PERL = perl-5.14.1
PERLBREW_ROOT = /export/home/smoke/perl5/perlbrew
PERLBREW_VERSION = 0.22
PERL_CR_SMOKER_CURRENT = WebService-GData-0.0409
PERL_EXTUTILS_AUTOINSTALL = --defaultdeps
PERL_MM_USE_DEFAULT = 1
SHELL = /usr/bin/bash
TERM = xterm
Perl special variables (and OS-specific diagnostics, for MSWin32):
$^X = /export/home/smoke/perl5/perlbrew/perls/perl-5.14.1/bin/perl
$UID/$EUID = 101 / 101
$GID = 1 1
$EGID = 1 1
Perl module toolchain versions installed:
Module Have
------------------- --------
CPAN 1.9600
Cwd 3.36
ExtUtils::CBuilder 0.280203
ExtUtils::Command 1.17
ExtUtils::Install 1.56
ExtUtils::MakeMaker 6.57_05
ExtUtils::Manifest 1.60
ExtUtils::ParseXS 2.2210
File::Spec 3.33
Module::Build 0.3800
Module::Signature n/a
Test::Harness 3.23
Test::More 0.98
YAML 0.73
YAML::Syck 1.17
version 0.88
--
Summary of my perl5 (revision 5 version 14 subversion 1) configuration:
Platform:
osname=solaris, osvers=2.10, archname=sun4-solaris-thread-multi
uname='sunos sparcy 5.10 generic_142909-17 sun4u sparc sunw,a70 '
config_args='-de -Dprefix=/export/home/smoke/perl5/perlbrew/perls/perl-5.14.1 -Dcc=gcc -Duseithreads'
hint=recommended, useposix=true, d_sigaction=define
useithreads=define, usemultiplicity=define
useperlio=define, d_sfio=undef, uselargefiles=define, usesocks=undef
use64bitint=undef, use64bitall=undef, uselongdouble=undef
usemymalloc=n, bincompat5005=undef
Compiler:
cc='gcc', ccflags ='-D_REENTRANT -fno-strict-aliasing -pipe -I/usr/local/include -D_LARGEFILE_SOURCE -D_FILE_OFFSET_BITS=64 -DPERL_USE_SAFE_PUTENV',
optimize='-O',
cppflags='-D_REENTRANT -fno-strict-aliasing -pipe -I/usr/local/include'
ccversion='', gccversion='3.4.6', gccosandvers='solaris2.10'
intsize=4, longsize=4, ptrsize=4, doublesize=8, byteorder=4321
d_longlong=define, longlongsize=8, d_longdbl=define, longdblsize=16
ivtype='long', ivsize=4, nvtype='double', nvsize=8, Off_t='off_t', lseeksize=8
alignbytes=8, prototype=define
Linker and Libraries:
ld='gcc', ldflags =' -L/usr/local/lib '
libpth=/usr/local/lib /usr/lib /usr/ccs/lib
libs=-lsocket -lnsl -lgdbm -ldl -lm -lpthread -lc
perllibs=-lsocket -lnsl -ldl -lm -lpthread -lc
libc=/lib/libc.so, so=so, useshrplib=false, libperl=libperl.a
gnulibc_version=''
Dynamic Linking:
dlsrc=dl_dlopen.xs, dlext=so, d_dlsymun=undef, ccdlflags=' '
cccdlflags='-fPIC', lddlflags='-G -L/usr/local/lib'
Characteristics of this binary (from libperl):
Compile-time options: MULTIPLICITY PERL_DONT_CREATE_GVSV
PERL_IMPLICIT_CONTEXT PERL_MALLOC_WRAP
PERL_PRESERVE_IVUV PERL_USE_SAFE_PUTENV USE_ITHREADS
USE_LARGE_FILES USE_PERLIO USE_PERL_ATOF
USE_REENTRANT_API
Built under solaris
Compiled at Jul 3 2011 12:23:35
%ENV:
PERL5LIB=""
PERL5OPT=""
PERL5_CPANPLUS_IS_RUNNING="29170"
PERL5_CPAN_IS_RUNNING="29170"
PERL5_CPAN_IS_RUNNING_IN_RECURSION="24454,29170"
PERLBREW_PATH="/export/home/smoke/perl5/perlbrew/bin:/export/home/smoke/perl5/perlbrew/perls/perl-5.14.1/bin"
PERLBREW_PERL="perl-5.14.1"
PERLBREW_ROOT="/export/home/smoke/perl5/perlbrew"
PERLBREW_VERSION="0.22"
PERL_CR_SMOKER_CURRENT="WebService-GData-0.0409"
PERL_EXTUTILS_AUTOINSTALL="--defaultdeps"
PERL_MM_USE_DEFAULT="1"
@INC:
/export/home/smoke/perl5/perlbrew/perls/perl-5.14.1/lib/site_perl/5.14.1/sun4-solaris-thread-multi
/export/home/smoke/perl5/perlbrew/perls/perl-5.14.1/lib/site_perl/5.14.1
/export/home/smoke/perl5/perlbrew/perls/perl-5.14.1/lib/5.14.1/sun4-solaris-thread-multi
/export/home/smoke/perl5/perlbrew/perls/perl-5.14.1/lib/5.14.1
.