Report for Fey-ORM-0.43

Back
From: metabase:user:320bfe00-2aae-11df-837a-5e0a49663a4f
Subject: PASS Fey-ORM-0.43 v5.13.9 GNU/Linux
Date: 2011-02-26T20:07:33Z

This distribution has been tested as part of the CPAN Testers
project, supporting the Perl programming language.  See
http://wiki.cpantesters.org/ for more information or email
questions to cpan-testers-discuss@perl.org


--
Dear Dave Rolsky,

This is a computer-generated report for Fey-ORM-0.43
on perl 5.13.9, created by CPAN-Reporter-1.1902.

Thank you for uploading your work to CPAN.  Congratulations!
All tests were successful.

Sections of this report:

    * Tester comments
    * Program output
    * Prerequisites
    * Environment and other context

------------------------------
TESTER COMMENTS
------------------------------

Additional comments from tester:

this report is from an automated smoke testing program
and was not reviewed by a human for accuracy

------------------------------
PROGRAM OUTPUT
------------------------------

Output from '/usr/bin/make test':

PERL_DL_NONLAZY=1 /home/src/perl/repoperls/installed-perls/perl/v5.13.9-7-gdc7c536/bin/perl "-MExtUtils::Command::MM" "-e" "test_harness(0, 'blib/lib', 'blib/arch')" t/*.t t/Class/*.t t/Object/*.t t/Object/Iterator/*.t t/Object/Iterator/FromSelect/*.t
t/Class/Policy.t ........................ ok
t/Class/Schema.t ........................ ok
t/Class/Table-has_many.t ................ ok
t/Class/Table-has_one.t ................. ok
t/Class/Table.t ......................... ok
t/Object/Iterator/FromArray.t ........... ok
t/Object/Iterator/FromSelect.t .......... ok
t/Object/Iterator/FromSelect/Caching.t .. ok
t/Object/Schema.t ....................... ok
t/Object/Table-cache.t .................. ok
t/Object/Table-has_many.t ............... ok
t/Object/Table-has_one.t ................ ok
t/Object/Table-query-method.t ........... ok
t/Object/Table-select-attr.t ............ ok
t/Object/Table.t ........................ ok
t/release-eol.t ......................... skipped: these tests are for release candidate testing
t/release-kwalitee.t .................... skipped: these tests are for release candidate testing
t/release-no-tabs.t ..................... skipped: these tests are for release candidate testing
All tests successful.
Files=18, Tests=450, 31 wallclock secs ( 0.14 usr  0.02 sys + 26.82 cusr  0.98 csys = 27.96 CPU)
Result: PASS

------------------------------
PREREQUISITES
------------------------------

Prerequisite modules loaded:

requires:

    Module                         Need Have   
    ------------------------------ ---- -------
    Devel::GlobalDestruction       0    0.03   
    Exception::Class               0    1.32   
    Fey                            0.39 0.40   
    Fey::DBIManager                0.07 0.14   
    List::AllUtils                 0    0.02   
    Moose                          1.15 1.24   
    MooseX::ClassAttribute         0.24 0.24   
    MooseX::SemiAffordanceAccessor 0    0.08   
    MooseX::StrictConstructor      0.13 0.13   
    MooseX::Types                  0    0.25   
    namespace::autoclean           0    0.12   
    Object::ID                     0    v0.1.1 
    Scalar::Util                   0    1.23   
    Sub::Exporter                  0    0.983  

build_requires:

    Module                         Need Have   
    ------------------------------ ---- -------
    Fey::Test                      0.05 0.08   
    Test::Fatal                    0    0.003  
    Test::More                     0.88 0.98   

configure_requires:

    Module                         Need Have   
    ------------------------------ ---- -------
    ExtUtils::MakeMaker            6.31 6.57_05


------------------------------
ENVIRONMENT AND OTHER CONTEXT
------------------------------

Environment variables:

    AUTOMATED_TESTING = 1
    LANG = en_US.UTF-8
    LC_TIME = de_DE.utf8
    PATH = /home/sand/bin:/usr/local/bin:/usr/bin:/bin:/usr/bin/X11:/usr/games:/usr/local/perl/bin:/usr/X11/bin:/sbin:/usr/sbin
    PERL5LIB = 
    PERL5OPT = 
    PERL5_CPANPLUS_IS_RUNNING = 21202
    PERL5_CPAN_IS_RUNNING = 21202
    PERL_MM_USE_DEFAULT = 1
    SHELL = /usr/bin/zsh
    TERM = screen

Perl special variables (and OS-specific diagnostics, for MSWin32):

    $^X = /home/src/perl/repoperls/installed-perls/perl/v5.13.9-7-gdc7c536/bin/perl
    $UID/$EUID = 1001 / 1001
    $GID = 1001 1001
    $EGID = 1001 1001

Perl module toolchain versions installed:

    Module              Have    
    ------------------- --------
    CPAN                1.94_65 
    Cwd                 3.36    
    ExtUtils::CBuilder  0.280202
    ExtUtils::Command   1.16    
    ExtUtils::Install   1.56    
    ExtUtils::MakeMaker 6.57_05 
    ExtUtils::Manifest  1.58    
    ExtUtils::ParseXS   2.2209  
    File::Spec          3.33    
    Module::Build       0.37_04 
    Module::Signature   0.66    
    Test::Harness       3.23    
    Test::More          0.98    
    YAML                0.72    
    YAML::Syck          1.17    
    version             0.88    


--

Summary of my perl5 (revision 5 version 13 subversion 9) configuration:
  Commit id: dc7c5368d173865841aa41764f828d34e663e0bc
  Platform:
    osname=linux, osvers=2.6.32-5-amd64, archname=x86_64-linux-ld
    uname='linux k81 2.6.32-5-amd64 #1 smp fri dec 10 15:35:08 utc 2010 x86_64 gnulinux '
    config_args='-Dprefix=/home/src/perl/repoperls/installed-perls/perl/v5.13.9-7-gdc7c536 -Dinstallusrbinperl=n -Uversiononly -Dusedevel -des -Ui_db -Uuseithreads -Duselongdouble'
    hint=recommended, useposix=true, d_sigaction=define
    useithreads=undef, usemultiplicity=undef
    useperlio=define, d_sfio=undef, uselargefiles=define, usesocks=undef
    use64bitint=define, use64bitall=define, uselongdouble=define
    usemymalloc=n, bincompat5005=undef
  Compiler:
    cc='cc', ccflags ='-fno-strict-aliasing -pipe -fstack-protector -I/usr/local/include -D_LARGEFILE_SOURCE -D_FILE_OFFSET_BITS=64',
    optimize='-O2',
    cppflags='-fno-strict-aliasing -pipe -fstack-protector -I/usr/local/include'
    ccversion='', gccversion='4.4.5', gccosandvers=''
    intsize=4, longsize=8, ptrsize=8, doublesize=8, byteorder=12345678
    d_longlong=define, longlongsize=8, d_longdbl=define, longdblsize=16
    ivtype='long', ivsize=8, nvtype='long double', nvsize=16, Off_t='off_t', lseeksize=8
    alignbytes=16, prototype=define
  Linker and Libraries:
    ld='cc', ldflags =' -fstack-protector -L/usr/local/lib'
    libpth=/usr/local/lib /lib /usr/lib /lib64 /usr/lib64
    libs=-lnsl -lgdbm -ldb -ldl -lm -lcrypt -lutil -lc -lgdbm_compat
    perllibs=-lnsl -ldl -lm -lcrypt -lutil -lc
    libc=/lib/libc-2.11.2.so, so=so, useshrplib=false, libperl=libperl.a
    gnulibc_version='2.11.2'
  Dynamic Linking:
    dlsrc=dl_dlopen.xs, dlext=so, d_dlsymun=undef, ccdlflags='-Wl,-E'
    cccdlflags='-fPIC', lddlflags='-shared -O2 -L/usr/local/lib -fstack-protector'


Characteristics of this binary (from libperl): 
  Compile-time options: PERL_DONT_CREATE_GVSV PERL_MALLOC_WRAP PERL_USE_DEVEL
                        USE_64_BIT_ALL USE_64_BIT_INT USE_LARGE_FILES
                        USE_LONG_DOUBLE USE_PERLIO USE_PERL_ATOF
  Built under linux
  Compiled at Jan 21 2011 04:20:36
  %ENV:
    PERL5LIB=""
    PERL5OPT=""
    PERL5_CPANPLUS_IS_RUNNING="21202"
    PERL5_CPAN_IS_RUNNING="21202"
    PERL_MM_USE_DEFAULT="1"
  @INC:
    /home/src/perl/repoperls/installed-perls/perl/v5.13.9-7-gdc7c536/lib/site_perl/5.13.9/x86_64-linux-ld
    /home/src/perl/repoperls/installed-perls/perl/v5.13.9-7-gdc7c536/lib/site_perl/5.13.9
    /home/src/perl/repoperls/installed-perls/perl/v5.13.9-7-gdc7c536/lib/5.13.9/x86_64-linux-ld
    /home/src/perl/repoperls/installed-perls/perl/v5.13.9-7-gdc7c536/lib/5.13.9
    .